BEGIN:VCALENDAR
VERSION:2.0
PRODID:-//Ategal - ECPv6.15.20//NONSGML v1.0//EN
CALSCALE:GREGORIAN
METHOD:PUBLISH
X-WR-CALNAME:Ategal
X-ORIGINAL-URL:https://www.ategal.com
X-WR-CALDESC:Eventos para Ategal
REFRESH-INTERVAL;VALUE=DURATION:PT1H
X-Robots-Tag:noindex
X-PUBLISHED-TTL:PT1H
BEGIN:VTIMEZONE
TZID:Europe/Paris
BEGIN:DAYLIGHT
TZOFFSETFROM:+0100
TZOFFSETTO:+0200
TZNAME:CEST
DTSTART:20200329T010000
END:DAYLIGHT
BEGIN:STANDARD
TZOFFSETFROM:+0200
TZOFFSETTO:+0100
TZNAME:CET
DTSTART:20201025T010000
END:STANDARD
BEGIN:DAYLIGHT
TZOFFSETFROM:+0100
TZOFFSETTO:+0200
TZNAME:CEST
DTSTART:20210328T010000
END:DAYLIGHT
BEGIN:STANDARD
TZOFFSETFROM:+0200
TZOFFSETTO:+0100
TZNAME:CET
DTSTART:20211031T010000
END:STANDARD
BEGIN:DAYLIGHT
TZOFFSETFROM:+0100
TZOFFSETTO:+0200
TZNAME:CEST
DTSTART:20220327T010000
END:DAYLIGHT
BEGIN:STANDARD
TZOFFSETFROM:+0200
TZOFFSETTO:+0100
TZNAME:CET
DTSTART:20221030T010000
END:STANDARD
END:VTIMEZONE
BEGIN:VEVENT
DTSTART;VALUE=DATE:20210524
DTEND;VALUE=DATE:20210529
DTSTAMP:20260420T010656
CREATED:20210524T191532Z
LAST-MODIFIED:20210524T191532Z
UID:12040-1621814400-1622246399@www.ategal.com
SUMMARY:En clase e na túa casa
DESCRIPTION:ATEGAL sempre está para ti\, nas nosas aulas e na túa casa. Unha semana máis\, ofrecémosche un calendario cheo de actividades. Así poderás compaxinar as clases que teñas na túa sede coas que che ofrece a nosa plataforma de formación en liña. \nAproveita esta oportunidade e sácalle partido a unha ferramenta que che permite aprender\, poñerche a proba\, divertirche e conectar. Así é\, a través desta xanela poderás conectar con alumnas e alumnos de todas as nosas sedes. No noso club de lectura participan desde Ferrol ata Vigo pasando por Coruña\, Santiago e Ourense. \nNon perdas o tempo e inscríbeche na nosa plataforma de formación en liña. Sabemos o importante que é manterse activos e activas\, e así nolo facedes saber día a día. De feito\, así o contaban as nosas socias de Ourense nunha reportaxe de La Región. \nAsí que che esperamos nas nosas aulas\, físicas e dixitais!
URL:https://www.ategal.com/evento-ategal/en-clase-e-na-tua-casa/
LOCATION:Plataforma online
ATTACH;FMTTYPE=image/png:https://www.ategal.com/wp-content/uploads/2021/05/2405.png
END:VEVENT
END:VCALENDAR