BEGIN:VCALENDAR
VERSION:2.0
PRODID:-//Ategal - ECPv6.15.20//NONSGML v1.0//EN
CALSCALE:GREGORIAN
METHOD:PUBLISH
X-WR-CALNAME:Ategal
X-ORIGINAL-URL:https://www.ategal.com
X-WR-CALDESC:Eventos para Ategal
REFRESH-INTERVAL;VALUE=DURATION:PT1H
X-Robots-Tag:noindex
X-PUBLISHED-TTL:PT1H
BEGIN:VTIMEZONE
TZID:Europe/Paris
BEGIN:DAYLIGHT
TZOFFSETFROM:+0100
TZOFFSETTO:+0200
TZNAME:CEST
DTSTART:20200329T010000
END:DAYLIGHT
BEGIN:STANDARD
TZOFFSETFROM:+0200
TZOFFSETTO:+0100
TZNAME:CET
DTSTART:20201025T010000
END:STANDARD
BEGIN:DAYLIGHT
TZOFFSETFROM:+0100
TZOFFSETTO:+0200
TZNAME:CEST
DTSTART:20210328T010000
END:DAYLIGHT
BEGIN:STANDARD
TZOFFSETFROM:+0200
TZOFFSETTO:+0100
TZNAME:CET
DTSTART:20211031T010000
END:STANDARD
BEGIN:DAYLIGHT
TZOFFSETFROM:+0100
TZOFFSETTO:+0200
TZNAME:CEST
DTSTART:20220327T010000
END:DAYLIGHT
BEGIN:STANDARD
TZOFFSETFROM:+0200
TZOFFSETTO:+0100
TZNAME:CET
DTSTART:20221030T010000
END:STANDARD
END:VTIMEZONE
BEGIN:VEVENT
DTSTART;VALUE=DATE:20210531
DTEND;VALUE=DATE:20210605
DTSTAMP:20260419T232049
CREATED:20210531T095353Z
LAST-MODIFIED:20210531T095353Z
UID:12044-1622419200-1622851199@www.ategal.com
SUMMARY:Cambiamos o noso horario de formación!
DESCRIPTION:Achégase o verán e para seguir acompañándoche adaptamos o noso horario de formación. Como sabemos que co bo tempo prefires saír de casa e vir máis polas aulas\, facilitámoscho. \nSeguimos ofrecendo un lecer e unha formación ao alcance do teu móbil ou computador\, pero máis concentrado. Así que achégache ás aulas cando queiras\, e cando prefiras que nos vexamos desde casa\, conéctache! \nEsta semana a nosa profesora ofrécenos unha última clase de Historia da arte para clausurar un curso no que viaxamos polo mundo e a historia a través das obras máis icónicas. Ademais\, as nosas coordinadoras recoméndannos as mellores lecturas para estes días máis tranquilos. Apúntache ao noso café literario!
URL:https://www.ategal.com/evento-ategal/cambiamos-o-noso-horario-de-formacion/
LOCATION:Plataforma online
ATTACH;FMTTYPE=image/png:https://www.ategal.com/wp-content/uploads/2021/05/2405-1.png
END:VEVENT
END:VCALENDAR