BEGIN:VCALENDAR
VERSION:2.0
PRODID:-//Ategal - ECPv6.15.20//NONSGML v1.0//EN
CALSCALE:GREGORIAN
METHOD:PUBLISH
X-WR-CALNAME:Ategal
X-ORIGINAL-URL:https://www.ategal.com
X-WR-CALDESC:Eventos para Ategal
REFRESH-INTERVAL;VALUE=DURATION:PT1H
X-Robots-Tag:noindex
X-PUBLISHED-TTL:PT1H
BEGIN:VTIMEZONE
TZID:Europe/Paris
BEGIN:DAYLIGHT
TZOFFSETFROM:+0100
TZOFFSETTO:+0200
TZNAME:CEST
DTSTART:20200329T010000
END:DAYLIGHT
BEGIN:STANDARD
TZOFFSETFROM:+0200
TZOFFSETTO:+0100
TZNAME:CET
DTSTART:20201025T010000
END:STANDARD
BEGIN:DAYLIGHT
TZOFFSETFROM:+0100
TZOFFSETTO:+0200
TZNAME:CEST
DTSTART:20210328T010000
END:DAYLIGHT
BEGIN:STANDARD
TZOFFSETFROM:+0200
TZOFFSETTO:+0100
TZNAME:CET
DTSTART:20211031T010000
END:STANDARD
BEGIN:DAYLIGHT
TZOFFSETFROM:+0100
TZOFFSETTO:+0200
TZNAME:CEST
DTSTART:20220327T010000
END:DAYLIGHT
BEGIN:STANDARD
TZOFFSETFROM:+0200
TZOFFSETTO:+0100
TZNAME:CET
DTSTART:20221030T010000
END:STANDARD
END:VTIMEZONE
BEGIN:VEVENT
DTSTART;VALUE=DATE:20210920
DTEND;VALUE=DATE:20210925
DTSTAMP:20260419T184255
CREATED:20210923T160324Z
LAST-MODIFIED:20210923T160358Z
UID:12157-1632096000-1632527999@www.ategal.com
SUMMARY:ATEGAL desde casa | Horario da plataforma
DESCRIPTION:Co inicio do curso ponse en marcha tamén a nosa plataforma de formación en liña. Agora xa podes conectarche desde a túa casa para gozar das túas clases preferidas ou\, simplemente\, para conectar co resto da familia ATEGAL. \nEmpeza as semanas cun luns cheo de actividades para poñerche en marcha. Lembra que cada semana poderás gozar dunha charla temática. A primeira delas correu a cargo de María Victoria Tizón\, quen nos ilustrou cos seus coñecementos sobre o Camiño de Santiago. \n \nEsta é unha oportunidade perfecta para combinar as actividades na túa sede máis próxima cos encontros que che ofrece esta ferramenta. E se aínda non che rexistraches\, ponche en contacto coa coordinadora da túa cidade para empezar a formar parte deste espazo en liña.
URL:https://www.ategal.com/evento-ategal/ategal-desde-casa-horario-da-plataforma/
LOCATION:Plataforma online
ATTACH;FMTTYPE=image/png:https://www.ategal.com/wp-content/uploads/2021/09/Plataforma-online.png
END:VEVENT
BEGIN:VEVENT
DTSTART;VALUE=DATE:20210920
DTEND;VALUE=DATE:20210925
DTSTAMP:20260419T184255
CREATED:20210923T162831Z
LAST-MODIFIED:20210923T162933Z
UID:12162-1632096000-1632527999@www.ategal.com
SUMMARY:Xa están dispoñibles os horarios das aulas!
DESCRIPTION:Achégase o inicio das clases nas nosas aulas e cada sede está a publicar o seu novo horario. Este curso vén con moitas novidades e unha axenda cargada de actividades. Ademais das actividades que se ofrecerán de forma permanente\, as nosas coordinadoras complementarán a oferta cultural e de lecer con saídas\, encontros e actividades especiais durante todo o curso. \nNeste período de matriculacións\, estamos a atoparnos moitas ganas de facer cousas. Polo que as nosas aulas responderán con moitas novidades. Seguiremos dando importancia á innovación con proxectos como o Senior Lab ou Aulas +Social\, e á nosa oferta de actividades non deixarán de sumarse incorporacións como distintos tipos de baile\, clubs de cinema\, modalidades como o ioga tibetano. \nAs Aulas cada vez crecen máis! Así que se aínda non che matriculaches\, non perdas a túa praza e solicita información ás nosas coordinadoras. \n\n			\n				\n			\n				\n				Horario SANTIAGO\n				\n			\n				\n			\n				\n				Horario A CORUÑA\n				\n			\n				\n			\n				\n				Horario VIGO\n				\n		\n\n 
URL:https://www.ategal.com/evento-ategal/xa-estan-disponibles-os-horarios-das-aulas/
LOCATION:A Coruña
ATTACH;FMTTYPE=image/jpeg:https://www.ategal.com/wp-content/uploads/2021/09/CURSOS-PARA-MOVILES-e1632138708875.jpg
END:VEVENT
END:VCALENDAR