BEGIN:VCALENDAR
VERSION:2.0
PRODID:-//Ategal - ECPv6.15.20//NONSGML v1.0//EN
CALSCALE:GREGORIAN
METHOD:PUBLISH
X-WR-CALNAME:Ategal
X-ORIGINAL-URL:https://www.ategal.com
X-WR-CALDESC:Eventos para Ategal
REFRESH-INTERVAL;VALUE=DURATION:PT1H
X-Robots-Tag:noindex
X-PUBLISHED-TTL:PT1H
BEGIN:VTIMEZONE
TZID:Europe/Paris
BEGIN:DAYLIGHT
TZOFFSETFROM:+0100
TZOFFSETTO:+0200
TZNAME:CEST
DTSTART:20210328T010000
END:DAYLIGHT
BEGIN:STANDARD
TZOFFSETFROM:+0200
TZOFFSETTO:+0100
TZNAME:CET
DTSTART:20211031T010000
END:STANDARD
BEGIN:DAYLIGHT
TZOFFSETFROM:+0100
TZOFFSETTO:+0200
TZNAME:CEST
DTSTART:20220327T010000
END:DAYLIGHT
BEGIN:STANDARD
TZOFFSETFROM:+0200
TZOFFSETTO:+0100
TZNAME:CET
DTSTART:20221030T010000
END:STANDARD
BEGIN:DAYLIGHT
TZOFFSETFROM:+0100
TZOFFSETTO:+0200
TZNAME:CEST
DTSTART:20230326T010000
END:DAYLIGHT
BEGIN:STANDARD
TZOFFSETFROM:+0200
TZOFFSETTO:+0100
TZNAME:CET
DTSTART:20231029T010000
END:STANDARD
END:VTIMEZONE
BEGIN:VEVENT
DTSTART;TZID=Europe/Paris:20220223T184500
DTEND;TZID=Europe/Paris:20220223T184500
DTSTAMP:20260419T232118
CREATED:20220222T104129Z
LAST-MODIFIED:20220222T104129Z
UID:12774-1645641900-1645641900@www.ategal.com
SUMMARY:VIGO | Día de Rosalía de Castro
DESCRIPTION:Celebramos en Vigo este Día de Rosalía de Castro cun achegamento á súa figura. \nGrazas ao equipo de voluntariado do Concello de Vigo\, este 23 de febreiro gozaremos da súa vida e obra con lecturas\, visionado de vídeos e unha pequena representación teatral. \nEsta actividade non terá ningún custo para os nosos socios e socias. E poderán conseguir máis información nas nosas aulas de Vigo.
URL:https://www.ategal.com/evento-ategal/vigo-dia-de-rosalia-de-castro/
LOCATION:Vigo
ATTACH;FMTTYPE=image/png:https://www.ategal.com/wp-content/uploads/2022/02/Dia-de-Rosalia-de-Castro-1.png
END:VEVENT
END:VCALENDAR