BEGIN:VCALENDAR
VERSION:2.0
PRODID:-//Ategal - ECPv6.15.20//NONSGML v1.0//EN
CALSCALE:GREGORIAN
METHOD:PUBLISH
X-WR-CALNAME:Ategal
X-ORIGINAL-URL:https://www.ategal.com
X-WR-CALDESC:Eventos para Ategal
REFRESH-INTERVAL;VALUE=DURATION:PT1H
X-Robots-Tag:noindex
X-PUBLISHED-TTL:PT1H
BEGIN:VTIMEZONE
TZID:Europe/Paris
BEGIN:DAYLIGHT
TZOFFSETFROM:+0100
TZOFFSETTO:+0200
TZNAME:CEST
DTSTART:20210328T010000
END:DAYLIGHT
BEGIN:STANDARD
TZOFFSETFROM:+0200
TZOFFSETTO:+0100
TZNAME:CET
DTSTART:20211031T010000
END:STANDARD
BEGIN:DAYLIGHT
TZOFFSETFROM:+0100
TZOFFSETTO:+0200
TZNAME:CEST
DTSTART:20220327T010000
END:DAYLIGHT
BEGIN:STANDARD
TZOFFSETFROM:+0200
TZOFFSETTO:+0100
TZNAME:CET
DTSTART:20221030T010000
END:STANDARD
BEGIN:DAYLIGHT
TZOFFSETFROM:+0100
TZOFFSETTO:+0200
TZNAME:CEST
DTSTART:20230326T010000
END:DAYLIGHT
BEGIN:STANDARD
TZOFFSETFROM:+0200
TZOFFSETTO:+0100
TZNAME:CET
DTSTART:20231029T010000
END:STANDARD
END:VTIMEZONE
BEGIN:VEVENT
DTSTART;TZID=Europe/Paris:20220225T120000
DTEND;TZID=Europe/Paris:20220225T183000
DTSTAMP:20260419T232117
CREATED:20220223T092117Z
LAST-MODIFIED:20220223T092117Z
UID:12782-1645790400-1645813800@www.ategal.com
SUMMARY:VIGO - OURENSE | Saída de Entroido
DESCRIPTION:As nosas aulas de Vigo e Ourense únense para celebrar o entroido. \nOs socios e socias das dúas cidades gozarán dunha saída cultural por Vigo para celebrar esta festa tan nosa. Nela visitarán tanto o Museo do Mar como a propia exposición do arquitecto Antonio Palacios. \nAdemais\, comeremos en familia no Hotel Coia para aproveitar ao máximo este encontro tan especial.
URL:https://www.ategal.com/evento-ategal/vigo-ourense-saida-de-entroido/
LOCATION:Vigo
ATTACH;FMTTYPE=image/png:https://www.ategal.com/wp-content/uploads/2022/02/ENTROIDO.png
END:VEVENT
END:VCALENDAR