BEGIN:VCALENDAR
VERSION:2.0
PRODID:-//Ategal - ECPv6.15.20//NONSGML v1.0//EN
CALSCALE:GREGORIAN
METHOD:PUBLISH
X-ORIGINAL-URL:https://www.ategal.com
X-WR-CALDESC:Eventos para Ategal
REFRESH-INTERVAL;VALUE=DURATION:PT1H
X-Robots-Tag:noindex
X-PUBLISHED-TTL:PT1H
BEGIN:VTIMEZONE
TZID:Europe/Paris
BEGIN:DAYLIGHT
TZOFFSETFROM:+0100
TZOFFSETTO:+0200
TZNAME:CEST
DTSTART:20210328T010000
END:DAYLIGHT
BEGIN:STANDARD
TZOFFSETFROM:+0200
TZOFFSETTO:+0100
TZNAME:CET
DTSTART:20211031T010000
END:STANDARD
BEGIN:DAYLIGHT
TZOFFSETFROM:+0100
TZOFFSETTO:+0200
TZNAME:CEST
DTSTART:20220327T010000
END:DAYLIGHT
BEGIN:STANDARD
TZOFFSETFROM:+0200
TZOFFSETTO:+0100
TZNAME:CET
DTSTART:20221030T010000
END:STANDARD
BEGIN:DAYLIGHT
TZOFFSETFROM:+0100
TZOFFSETTO:+0200
TZNAME:CEST
DTSTART:20230326T010000
END:DAYLIGHT
BEGIN:STANDARD
TZOFFSETFROM:+0200
TZOFFSETTO:+0100
TZNAME:CET
DTSTART:20231029T010000
END:STANDARD
END:VTIMEZONE
BEGIN:VEVENT
DTSTART;TZID=Europe/Paris:20220307T173000
DTEND;TZID=Europe/Paris:20220307T190000
DTSTAMP:20260420T004943
CREATED:20220210T155106Z
LAST-MODIFIED:20220210T155315Z
UID:12733-1646674200-1646679600@www.ategal.com
SUMMARY:VIGO | Cooperación internacional\, educación para a cidadanía global e comercio xusto
DESCRIPTION:Primeira sesión do obradoiro Activismo sénior: cooperación internacional e cidadanía global a partir dos 50. Unha actividade impartida pola organización Solidariedade Internacional os luns de marzo (7\, 14\, 21) de 17:30 a 19h. \nNesta ocasión\, achegarase unha mirada Global das problemáticas sociais e medioambientais actuais a través do Comercio xusto\, a Cooperación Internacional\, a Cidadanía Global\, os Obxectivos de Desenvolvemento Sostible e as relacións de interdependencia e corresponsabilidade como ferramentas de transformación social. \nUnha actividade totalmente gratuita e que o único que require é a inscricción nas nosas aulas.
URL:https://www.ategal.com/evento-ategal/vigo-cooperacion-internacional-educacion-para-a-cidadania-global-e-comercio-xusto/
LOCATION:Ategal Vigo\, Travesía do Pino\, 2-entrechan\, Vigo\, Pontevedra
ATTACH;FMTTYPE=image/png:https://www.ategal.com/wp-content/uploads/2022/02/activismo-senior-1.png
END:VEVENT
BEGIN:VEVENT
DTSTART;TZID=Europe/Paris:20220307T173000
DTEND;TZID=Europe/Paris:20220321T190000
DTSTAMP:20260420T004943
CREATED:20220210T155019Z
LAST-MODIFIED:20220210T185929Z
UID:12729-1646674200-1647889200@www.ategal.com
SUMMARY:VIGO | OBRADOIRO: Activismo Senior
DESCRIPTION:Un obradoiro gratuito para contribuir á formación integral das persoas maiores de 50 anos para exercer a cidananía global\, promovendo a súa participación social. \nSerá impartido por Solidariedade Internacional nas Aulas de Vigo (Travesía do Pino 2\, Entrechán) os días 7\, 14 e 21 de marzo de 17:30 a 19h. \n· 7 de marzo: COOPERACIÓN INTERNACIONAL\, EDUCACIÓN PARA A CIDADANÍA GLOBAL E COMERCIO XUSTO \nAchegarase unha mirada global das problemáticas sociais e medioambientais actuais a través do Comercio Xusto\, a Cooperación Internacional\, a Cidadanía Global\, os Obxectivos de Desenvolvemento Sostenible e ás relacións de interdependencia e responsablidade como ferramentas de transformación social. \n· 14 de marzo: COMERCIO XUSTO E CONSUMO RESPONSABLE \nDaranse a coñecer alternativas de consumo responsable comprometidas co desenvolvemento humano e sostible afondando no comercio xusto. Realizarase unha cata de chocolate de comercio xusto. \n· 21 de marzo: PARTICIPACIÓN SOCIAL. ACTUAR PARA TRANSFORMAR \nAbordaranse xeitos de participación social e activismo\, coñocerase «O Globo»\, unha ferramenta de participación específica que permitirá levar á práctica o aprendido a través do deseño conxunto dunha micro-experiencia de transformación social. \n  \nTrátase dunha actividade totalmente gratuita e aberta a todo o público. E as inscriccións poderán formalizarse nas aulas de Vigo.
URL:https://www.ategal.com/evento-ategal/vigo-obradoiro-activismo-senior/
LOCATION:Ategal Vigo\, Travesía do Pino\, 2-entrechan\, Vigo\, Pontevedra
ATTACH;FMTTYPE=image/png:https://www.ategal.com/wp-content/uploads/2022/02/activismo-senior.png
END:VEVENT
BEGIN:VEVENT
DTSTART;TZID=Europe/Paris:20220307T180000
DTEND;TZID=Europe/Paris:20220307T190000
DTSTAMP:20260420T004943
CREATED:20220223T094251Z
LAST-MODIFIED:20220303T161243Z
UID:12785-1646676000-1646679600@www.ategal.com
SUMMARY:8M | Faladoiro: Mulleres pintoras
DESCRIPTION:As nosas aulas de Santiago de Compostela celebran o día da muller cunha axenda cargada de actividades. \nEste luns 7 de marzo\, a nosa voluntaria e alumna María Vitoria Tizón impartirá un faladoiro sobre mulleres pintoras. Usará os seus grandes coñecementos de historia para poñer en valor o papel das mulleres na arte. \nAdemais\, este encontro será retransmitido pola plataforma de formación en liña para que todos os alumnos e alumnas de ATEGAL poidan gozala. Lembra que só por ser socio ou socia das aulas tes acceso ilimitado a esta ferramenta de formación e lecer. Nela atoparás clases en directo de memoria\, informática\, club de lectura. Pero tamén terás contido gravado para usalo cando queiras (ximnasia\, talleres de saúde\, etc.).
URL:https://www.ategal.com/evento-ategal/santiago-faladoiro-mulleres-pintoras/
LOCATION:Plataforma online
ATTACH;FMTTYPE=image/jpeg:https://www.ategal.com/wp-content/uploads/2022/02/WhatsApp-Image-2022-02-22-at-6.33.04-PM.jpeg
END:VEVENT
END:VCALENDAR