BEGIN:VCALENDAR
VERSION:2.0
PRODID:-//Ategal - ECPv6.15.20//NONSGML v1.0//EN
CALSCALE:GREGORIAN
METHOD:PUBLISH
X-WR-CALNAME:Ategal
X-ORIGINAL-URL:https://www.ategal.com
X-WR-CALDESC:Eventos para Ategal
REFRESH-INTERVAL;VALUE=DURATION:PT1H
X-Robots-Tag:noindex
X-PUBLISHED-TTL:PT1H
BEGIN:VTIMEZONE
TZID:Europe/Paris
BEGIN:DAYLIGHT
TZOFFSETFROM:+0100
TZOFFSETTO:+0200
TZNAME:CEST
DTSTART:20210328T010000
END:DAYLIGHT
BEGIN:STANDARD
TZOFFSETFROM:+0200
TZOFFSETTO:+0100
TZNAME:CET
DTSTART:20211031T010000
END:STANDARD
BEGIN:DAYLIGHT
TZOFFSETFROM:+0100
TZOFFSETTO:+0200
TZNAME:CEST
DTSTART:20220327T010000
END:DAYLIGHT
BEGIN:STANDARD
TZOFFSETFROM:+0200
TZOFFSETTO:+0100
TZNAME:CET
DTSTART:20221030T010000
END:STANDARD
BEGIN:DAYLIGHT
TZOFFSETFROM:+0100
TZOFFSETTO:+0200
TZNAME:CEST
DTSTART:20230326T010000
END:DAYLIGHT
BEGIN:STANDARD
TZOFFSETFROM:+0200
TZOFFSETTO:+0100
TZNAME:CET
DTSTART:20231029T010000
END:STANDARD
END:VTIMEZONE
BEGIN:VEVENT
DTSTART;TZID=Europe/Paris:20220307T173000
DTEND;TZID=Europe/Paris:20220321T190000
DTSTAMP:20260420T022139
CREATED:20220210T155019Z
LAST-MODIFIED:20220210T185929Z
UID:12729-1646674200-1647889200@www.ategal.com
SUMMARY:VIGO | OBRADOIRO: Activismo Senior
DESCRIPTION:Un obradoiro gratuito para contribuir á formación integral das persoas maiores de 50 anos para exercer a cidananía global\, promovendo a súa participación social. \nSerá impartido por Solidariedade Internacional nas Aulas de Vigo (Travesía do Pino 2\, Entrechán) os días 7\, 14 e 21 de marzo de 17:30 a 19h. \n· 7 de marzo: COOPERACIÓN INTERNACIONAL\, EDUCACIÓN PARA A CIDADANÍA GLOBAL E COMERCIO XUSTO \nAchegarase unha mirada global das problemáticas sociais e medioambientais actuais a través do Comercio Xusto\, a Cooperación Internacional\, a Cidadanía Global\, os Obxectivos de Desenvolvemento Sostenible e ás relacións de interdependencia e responsablidade como ferramentas de transformación social. \n· 14 de marzo: COMERCIO XUSTO E CONSUMO RESPONSABLE \nDaranse a coñecer alternativas de consumo responsable comprometidas co desenvolvemento humano e sostible afondando no comercio xusto. Realizarase unha cata de chocolate de comercio xusto. \n· 21 de marzo: PARTICIPACIÓN SOCIAL. ACTUAR PARA TRANSFORMAR \nAbordaranse xeitos de participación social e activismo\, coñocerase «O Globo»\, unha ferramenta de participación específica que permitirá levar á práctica o aprendido a través do deseño conxunto dunha micro-experiencia de transformación social. \n  \nTrátase dunha actividade totalmente gratuita e aberta a todo o público. E as inscriccións poderán formalizarse nas aulas de Vigo.
URL:https://www.ategal.com/evento-ategal/vigo-obradoiro-activismo-senior/
LOCATION:Ategal Vigo\, Travesía do Pino\, 2-entrechan\, Vigo\, Pontevedra
ATTACH;FMTTYPE=image/png:https://www.ategal.com/wp-content/uploads/2022/02/activismo-senior.png
END:VEVENT
BEGIN:VEVENT
DTSTART;TZID=Europe/Paris:20220309T110000
DTEND;TZID=Europe/Paris:20220309T120000
DTSTAMP:20260420T022139
CREATED:20220304T110615Z
LAST-MODIFIED:20220304T110615Z
UID:12821-1646823600-1646827200@www.ategal.com
SUMMARY:SANTIAGO | Taller Proxecto de vida
DESCRIPTION:Arrinca novo taller nas nosas aulas de Santiago de Compostela. Este mércores 9 de marzo\, Charlotte Emily Conway\, a nosa nova alumna en prácticas\, ofrecerá o obradoiro «Proxectos de vida» para todos os nosos socios e socias. \nNeste encontro profundaremos en que queremos ser de maior\, ou que maior queremos ser. Unha vista ao futuro que queremos desde o optimismo e o autocariño. Non o perdas!
URL:https://www.ategal.com/evento-ategal/santiago-taller-proxecto-de-vida/
LOCATION:Ategal Santiago\, Rúa Virxe da Cerca\, 31\, Santiago de Compostela\, A Coruña
ATTACH;FMTTYPE=image/png:https://www.ategal.com/wp-content/uploads/2022/03/TALLER-CHARLOTTE-1.png
END:VEVENT
BEGIN:VEVENT
DTSTART;TZID=Europe/Paris:20220309T183000
DTEND;TZID=Europe/Paris:20220309T183000
DTSTAMP:20260420T022139
CREATED:20220303T161150Z
LAST-MODIFIED:20220307T102935Z
UID:12805-1646850600-1646850600@www.ategal.com
SUMMARY:8M | Mujeres na arte do Renacemento
DESCRIPTION:A nosa clase de historia da arte tínguese de morado para celebrar o 8 de marzo. \nDeseñamos unha axenda cargada de actividades para este Día Internacional da Muller. Todos os nosos alumnos e alumnas de Vigo poderán conectar coas mulleres nas artes e as letras do Renacemento este mércores 9 de marzo ás 18:30
URL:https://www.ategal.com/evento-ategal/8m-mujeres-na-arte-do-renacemento/
LOCATION:Ategal Vigo\, Travesía do Pino\, 2-entrechan\, Vigo\, Pontevedra
ATTACH;FMTTYPE=image/png:https://www.ategal.com/wp-content/uploads/2022/03/Especial-Mujeres-en-las-Artes-y-las-Letras-del-Renacimiento.png
END:VEVENT
END:VCALENDAR