BEGIN:VCALENDAR
VERSION:2.0
PRODID:-//Ategal - ECPv6.15.20//NONSGML v1.0//EN
CALSCALE:GREGORIAN
METHOD:PUBLISH
X-WR-CALNAME:Ategal
X-ORIGINAL-URL:https://www.ategal.com
X-WR-CALDESC:Eventos para Ategal
REFRESH-INTERVAL;VALUE=DURATION:PT1H
X-Robots-Tag:noindex
X-PUBLISHED-TTL:PT1H
BEGIN:VTIMEZONE
TZID:Europe/Paris
BEGIN:DAYLIGHT
TZOFFSETFROM:+0100
TZOFFSETTO:+0200
TZNAME:CEST
DTSTART:20210328T010000
END:DAYLIGHT
BEGIN:STANDARD
TZOFFSETFROM:+0200
TZOFFSETTO:+0100
TZNAME:CET
DTSTART:20211031T010000
END:STANDARD
BEGIN:DAYLIGHT
TZOFFSETFROM:+0100
TZOFFSETTO:+0200
TZNAME:CEST
DTSTART:20220327T010000
END:DAYLIGHT
BEGIN:STANDARD
TZOFFSETFROM:+0200
TZOFFSETTO:+0100
TZNAME:CET
DTSTART:20221030T010000
END:STANDARD
BEGIN:DAYLIGHT
TZOFFSETFROM:+0100
TZOFFSETTO:+0200
TZNAME:CEST
DTSTART:20230326T010000
END:DAYLIGHT
BEGIN:STANDARD
TZOFFSETFROM:+0200
TZOFFSETTO:+0100
TZNAME:CET
DTSTART:20231029T010000
END:STANDARD
END:VTIMEZONE
BEGIN:VEVENT
DTSTART;TZID=Europe/Paris:20220324T173000
DTEND;TZID=Europe/Paris:20220324T173000
DTSTAMP:20260420T010642
CREATED:20220303T171558Z
LAST-MODIFIED:20220303T171558Z
UID:12813-1648143000-1648143000@www.ategal.com
SUMMARY:VIGO | Roteiro arquitectónico: Michel Pacewicz
DESCRIPTION:Nosas aulas de Vigo vanse de roteiro pola cidade! Nesta ocasión\, o equipo de voluntariado cultural do Concello guiaranos a través dun carreiro arquitectónico. \nAchegámonos á figura e obra do ilustre Michel Pacewicz paso a paso. Coñeceremos o seu legado na cidade\, parte da súa vida e o selo da súa arte.
URL:https://www.ategal.com/evento-ategal/vigo-roteiro-arquitectonico-michel-pacewicz/
LOCATION:A Coruña
ATTACH;FMTTYPE=image/png:https://www.ategal.com/wp-content/uploads/2022/03/Michel-Pacewicz.png
END:VEVENT
END:VCALENDAR