BEGIN:VCALENDAR
VERSION:2.0
PRODID:-//Ategal - ECPv6.15.20//NONSGML v1.0//EN
CALSCALE:GREGORIAN
METHOD:PUBLISH
X-WR-CALNAME:Ategal
X-ORIGINAL-URL:https://www.ategal.com
X-WR-CALDESC:Eventos para Ategal
REFRESH-INTERVAL;VALUE=DURATION:PT1H
X-Robots-Tag:noindex
X-PUBLISHED-TTL:PT1H
BEGIN:VTIMEZONE
TZID:Europe/Paris
BEGIN:DAYLIGHT
TZOFFSETFROM:+0100
TZOFFSETTO:+0200
TZNAME:CEST
DTSTART:20210328T010000
END:DAYLIGHT
BEGIN:STANDARD
TZOFFSETFROM:+0200
TZOFFSETTO:+0100
TZNAME:CET
DTSTART:20211031T010000
END:STANDARD
BEGIN:DAYLIGHT
TZOFFSETFROM:+0100
TZOFFSETTO:+0200
TZNAME:CEST
DTSTART:20220327T010000
END:DAYLIGHT
BEGIN:STANDARD
TZOFFSETFROM:+0200
TZOFFSETTO:+0100
TZNAME:CET
DTSTART:20221030T010000
END:STANDARD
BEGIN:DAYLIGHT
TZOFFSETFROM:+0100
TZOFFSETTO:+0200
TZNAME:CEST
DTSTART:20230326T010000
END:DAYLIGHT
BEGIN:STANDARD
TZOFFSETFROM:+0200
TZOFFSETTO:+0100
TZNAME:CET
DTSTART:20231029T010000
END:STANDARD
END:VTIMEZONE
BEGIN:VEVENT
DTSTART;TZID=Europe/Paris:20220407T170000
DTEND;TZID=Europe/Paris:20220407T180000
DTSTAMP:20260420T023520
CREATED:20220405T095554Z
LAST-MODIFIED:20220405T095554Z
UID:12877-1649350800-1649354400@www.ategal.com
SUMMARY:VIGO | Exposición La Palma. Volcán e vida
DESCRIPTION:Gozaremos dunha visita guiada á nova exposición do Teatro García Barbón: La Palma. Volcán e vida. Un roteiro virtual a través das fotografías e textos de diversas testemuñas que pretende facernos reflexionar e conquistarnos coa forza visual.
URL:https://www.ategal.com/evento-ategal/vigo-exposicion-la-palma-volcan-e-vida/
LOCATION:Teatro García Barbón\, Policarpo Sanz\, 13. Vigo (Pontevedra)\, VIGO\, PONTEVEDRA\, 36201\, España
ATTACH;FMTTYPE=image/png:https://www.ategal.com/wp-content/uploads/2022/04/LA-PALMA.-VOLCAN-E-VIDA.png
END:VEVENT
END:VCALENDAR