BEGIN:VCALENDAR
VERSION:2.0
PRODID:-//Ategal - ECPv6.15.20//NONSGML v1.0//EN
CALSCALE:GREGORIAN
METHOD:PUBLISH
X-WR-CALNAME:Ategal
X-ORIGINAL-URL:https://www.ategal.com
X-WR-CALDESC:Eventos para Ategal
REFRESH-INTERVAL;VALUE=DURATION:PT1H
X-Robots-Tag:noindex
X-PUBLISHED-TTL:PT1H
BEGIN:VTIMEZONE
TZID:Europe/Paris
BEGIN:DAYLIGHT
TZOFFSETFROM:+0100
TZOFFSETTO:+0200
TZNAME:CEST
DTSTART:20210328T010000
END:DAYLIGHT
BEGIN:STANDARD
TZOFFSETFROM:+0200
TZOFFSETTO:+0100
TZNAME:CET
DTSTART:20211031T010000
END:STANDARD
BEGIN:DAYLIGHT
TZOFFSETFROM:+0100
TZOFFSETTO:+0200
TZNAME:CEST
DTSTART:20220327T010000
END:DAYLIGHT
BEGIN:STANDARD
TZOFFSETFROM:+0200
TZOFFSETTO:+0100
TZNAME:CET
DTSTART:20221030T010000
END:STANDARD
BEGIN:DAYLIGHT
TZOFFSETFROM:+0100
TZOFFSETTO:+0200
TZNAME:CEST
DTSTART:20230326T010000
END:DAYLIGHT
BEGIN:STANDARD
TZOFFSETFROM:+0200
TZOFFSETTO:+0100
TZNAME:CET
DTSTART:20231029T010000
END:STANDARD
END:VTIMEZONE
BEGIN:VEVENT
DTSTART;TZID=Europe/Paris:20220425T173000
DTEND;TZID=Europe/Paris:20220425T183000
DTSTAMP:20260420T023549
CREATED:20220405T100301Z
LAST-MODIFIED:20220405T100301Z
UID:12881-1650907800-1650911400@www.ategal.com
SUMMARY:VIGO | Taller novas tecnoloxías: Alexa
DESCRIPTION:A Fundación Esplai volve trasladarse ás nosas aulas de Vigo para formarnos tecnoloxicamente. Nesta ocasión\, falarannos de Alexa\, o asistente virtual que pode facilitarnos a vida.
URL:https://www.ategal.com/evento-ategal/vigo-taller-novas-tecnoloxias-alexa/
LOCATION:Ategal Vigo\, Travesía do Pino\, 2-entrechan\, Vigo\, Pontevedra
ATTACH;FMTTYPE=image/png:https://www.ategal.com/wp-content/uploads/2022/04/ALEXA.png
END:VEVENT
END:VCALENDAR