BEGIN:VCALENDAR
VERSION:2.0
PRODID:-//Ategal - ECPv6.15.20//NONSGML v1.0//EN
CALSCALE:GREGORIAN
METHOD:PUBLISH
X-WR-CALNAME:Ategal
X-ORIGINAL-URL:https://www.ategal.com
X-WR-CALDESC:Eventos para Ategal
REFRESH-INTERVAL;VALUE=DURATION:PT1H
X-Robots-Tag:noindex
X-PUBLISHED-TTL:PT1H
BEGIN:VTIMEZONE
TZID:Europe/Paris
BEGIN:DAYLIGHT
TZOFFSETFROM:+0100
TZOFFSETTO:+0200
TZNAME:CEST
DTSTART:20210328T010000
END:DAYLIGHT
BEGIN:STANDARD
TZOFFSETFROM:+0200
TZOFFSETTO:+0100
TZNAME:CET
DTSTART:20211031T010000
END:STANDARD
BEGIN:DAYLIGHT
TZOFFSETFROM:+0100
TZOFFSETTO:+0200
TZNAME:CEST
DTSTART:20220327T010000
END:DAYLIGHT
BEGIN:STANDARD
TZOFFSETFROM:+0200
TZOFFSETTO:+0100
TZNAME:CET
DTSTART:20221030T010000
END:STANDARD
BEGIN:DAYLIGHT
TZOFFSETFROM:+0100
TZOFFSETTO:+0200
TZNAME:CEST
DTSTART:20230326T010000
END:DAYLIGHT
BEGIN:STANDARD
TZOFFSETFROM:+0200
TZOFFSETTO:+0100
TZNAME:CET
DTSTART:20231029T010000
END:STANDARD
END:VTIMEZONE
BEGIN:VEVENT
DTSTART;TZID=Europe/Paris:20220602T173000
DTEND;TZID=Europe/Paris:20220602T190000
DTSTAMP:20260420T042844
CREATED:20220524T180538Z
LAST-MODIFIED:20220522T193131Z
UID:12908-1654191000-1654196400@www.ategal.com
SUMMARY:SANTIAGO | Taller de saúde
DESCRIPTION:«Sumando calidade á vida»\, este é o título do novo taller que acollerán as Aulas Sénior de Santiago de Compostela. Aínda que\, nesta ocasión\, levámolas ás rúas da cidade. \nO caféLaMorena acolle estas xornadas sobre saúde\, que se ofrecen a todo o público compostelán de maneira gratuíta. Un encontro temático en cada dunha estas datas\, que se celebran entre as 17:30 e as 19:00 horas. \nNesta ocasión\, Silvia Méndez vén falarnos de Neuroalimentación. \n\nUn evento que é posible grazas á colaboración de CEATE\, financiado polo Ministerio de Derechos Sociales y Agenda 2030.\nATEGAL conta sempre co apoio da Xunta de Galicia.
URL:https://www.ategal.com/evento-ategal/santiago-taller-de-saude-3/
LOCATION:caféLaMorena\, Rúa de San Clemente\, 6\, Santiago de Compostela\, A Coruña\, España
ATTACH;FMTTYPE=image/png:https://www.ategal.com/wp-content/uploads/2022/05/Cuaderno_Lalin-1.png
END:VEVENT
END:VCALENDAR