BEGIN:VCALENDAR
VERSION:2.0
PRODID:-//Ategal - ECPv6.15.20//NONSGML v1.0//EN
CALSCALE:GREGORIAN
METHOD:PUBLISH
X-WR-CALNAME:Ategal
X-ORIGINAL-URL:https://www.ategal.com
X-WR-CALDESC:Eventos para Ategal
REFRESH-INTERVAL;VALUE=DURATION:PT1H
X-Robots-Tag:noindex
X-PUBLISHED-TTL:PT1H
BEGIN:VTIMEZONE
TZID:Europe/Paris
BEGIN:DAYLIGHT
TZOFFSETFROM:+0100
TZOFFSETTO:+0200
TZNAME:CEST
DTSTART:20210328T010000
END:DAYLIGHT
BEGIN:STANDARD
TZOFFSETFROM:+0200
TZOFFSETTO:+0100
TZNAME:CET
DTSTART:20211031T010000
END:STANDARD
BEGIN:DAYLIGHT
TZOFFSETFROM:+0100
TZOFFSETTO:+0200
TZNAME:CEST
DTSTART:20220327T010000
END:DAYLIGHT
BEGIN:STANDARD
TZOFFSETFROM:+0200
TZOFFSETTO:+0100
TZNAME:CET
DTSTART:20221030T010000
END:STANDARD
BEGIN:DAYLIGHT
TZOFFSETFROM:+0100
TZOFFSETTO:+0200
TZNAME:CEST
DTSTART:20230326T010000
END:DAYLIGHT
BEGIN:STANDARD
TZOFFSETFROM:+0200
TZOFFSETTO:+0100
TZNAME:CET
DTSTART:20231029T010000
END:STANDARD
END:VTIMEZONE
BEGIN:VEVENT
DTSTART;TZID=Europe/Paris:20220607T173000
DTEND;TZID=Europe/Paris:20220607T190000
DTSTAMP:20260420T061503
CREATED:20220601T190028Z
LAST-MODIFIED:20220531T195604Z
UID:12922-1654623000-1654628400@www.ategal.com
SUMMARY:VIGO | Cine Fórum: "Le Week-End"
DESCRIPTION:As nosas aulas de Vigo apuran os últimos días de curso cunha chea de actividades. \nO martes 7 de xuño gozaremos dunha sesión de cine fórum. Un espazo no que compartiremos unha película e falaremos sobre o que nos transmite. \nNesta ocasión\, eliximos «Le Week-End«\, unha comedia que fala dunha parella madura que deciden viaxar a París para seguir dando vida ao seu matrimonio. Esta longametraxe valeulle a Concha de Plata a mellor actor a Jim Broadbent no Festival de San Sebastián.
URL:https://www.ategal.com/evento-ategal/vigo-cine-forum-le-week-end/
LOCATION:Ategal Vigo\, Travesía do Pino\, 2-entrechan\, Vigo\, Pontevedra
ATTACH;FMTTYPE=image/png:https://www.ategal.com/wp-content/uploads/2022/05/la-cumbre-del-agua.png
END:VEVENT
END:VCALENDAR