BEGIN:VCALENDAR
VERSION:2.0
PRODID:-//Ategal - ECPv6.15.20//NONSGML v1.0//EN
CALSCALE:GREGORIAN
METHOD:PUBLISH
X-ORIGINAL-URL:https://www.ategal.com
X-WR-CALDESC:Eventos para Ategal
REFRESH-INTERVAL;VALUE=DURATION:PT1H
X-Robots-Tag:noindex
X-PUBLISHED-TTL:PT1H
BEGIN:VTIMEZONE
TZID:Europe/Paris
BEGIN:DAYLIGHT
TZOFFSETFROM:+0100
TZOFFSETTO:+0200
TZNAME:CEST
DTSTART:20210328T010000
END:DAYLIGHT
BEGIN:STANDARD
TZOFFSETFROM:+0200
TZOFFSETTO:+0100
TZNAME:CET
DTSTART:20211031T010000
END:STANDARD
BEGIN:DAYLIGHT
TZOFFSETFROM:+0100
TZOFFSETTO:+0200
TZNAME:CEST
DTSTART:20220327T010000
END:DAYLIGHT
BEGIN:STANDARD
TZOFFSETFROM:+0200
TZOFFSETTO:+0100
TZNAME:CET
DTSTART:20221030T010000
END:STANDARD
BEGIN:DAYLIGHT
TZOFFSETFROM:+0100
TZOFFSETTO:+0200
TZNAME:CEST
DTSTART:20230326T010000
END:DAYLIGHT
BEGIN:STANDARD
TZOFFSETFROM:+0200
TZOFFSETTO:+0100
TZNAME:CET
DTSTART:20231029T010000
END:STANDARD
END:VTIMEZONE
BEGIN:VEVENT
DTSTART;TZID=Europe/Paris:20220610T133000
DTEND;TZID=Europe/Paris:20220610T170000
DTSTAMP:20260422T105108
CREATED:20220603T190053Z
LAST-MODIFIED:20220531T201729Z
UID:12925-1654867800-1654880400@www.ategal.com
SUMMARY:VIGO | Comida de fin de curso
DESCRIPTION:As nosas aulas de Vigo celebran os bos momentos deste curso\, e o verán que vén por diante. \nFarano cunha comida familiar na a que acudirán alumnos\, alumnas e profesorado. Un momento de tranquilidade no que deixaremos ao carón as clases para centrarnos no espírito de ATEGAL\, a xente. \nServiranos para rir\, coñecernos máis a fondo\, descubrir novas amizades e\, por suposto\, comer.
URL:https://www.ategal.com/evento-ategal/vigo-comida-de-fin-de-curso/
LOCATION:Ategal Vigo\, Travesía do Pino\, 2-entrechan\, Vigo\, Pontevedra
ATTACH;FMTTYPE=image/png:https://www.ategal.com/wp-content/uploads/2022/05/fin-de-curso.png
END:VEVENT
END:VCALENDAR