BEGIN:VCALENDAR
VERSION:2.0
PRODID:-//Ategal - ECPv6.15.20//NONSGML v1.0//EN
CALSCALE:GREGORIAN
METHOD:PUBLISH
X-WR-CALNAME:Ategal
X-ORIGINAL-URL:https://www.ategal.com
X-WR-CALDESC:Eventos para Ategal
REFRESH-INTERVAL;VALUE=DURATION:PT1H
X-Robots-Tag:noindex
X-PUBLISHED-TTL:PT1H
BEGIN:VTIMEZONE
TZID:Europe/Paris
BEGIN:DAYLIGHT
TZOFFSETFROM:+0100
TZOFFSETTO:+0200
TZNAME:CEST
DTSTART:20210328T010000
END:DAYLIGHT
BEGIN:STANDARD
TZOFFSETFROM:+0200
TZOFFSETTO:+0100
TZNAME:CET
DTSTART:20211031T010000
END:STANDARD
BEGIN:DAYLIGHT
TZOFFSETFROM:+0100
TZOFFSETTO:+0200
TZNAME:CEST
DTSTART:20220327T010000
END:DAYLIGHT
BEGIN:STANDARD
TZOFFSETFROM:+0200
TZOFFSETTO:+0100
TZNAME:CET
DTSTART:20221030T010000
END:STANDARD
BEGIN:DAYLIGHT
TZOFFSETFROM:+0100
TZOFFSETTO:+0200
TZNAME:CEST
DTSTART:20230326T010000
END:DAYLIGHT
BEGIN:STANDARD
TZOFFSETFROM:+0200
TZOFFSETTO:+0100
TZNAME:CET
DTSTART:20231029T010000
END:STANDARD
END:VTIMEZONE
BEGIN:VEVENT
DTSTART;TZID=Europe/Paris:20220614T180000
DTEND;TZID=Europe/Paris:20220614T190000
DTSTAMP:20260420T061501
CREATED:20220607T100045Z
LAST-MODIFIED:20220531T203204Z
UID:12928-1655229600-1655233200@www.ategal.com
SUMMARY:VIGO | Roteiro cultural: "Coñece a túa cidade"
DESCRIPTION:Este martes 14 de xuño percorreremos as rúas de Vigo. As nosas aulas gozarán dun roteiro cultural que nos ensinará moito sobre a cidade. \n«Coñece a túa cidade» é unha proposta que arrincará ás 18:00 horas e convidaranos a redescubrir Vigo. \nLocalizámonos nun lugar moi concreto para entender máis de nós\, para situarnos no tempo e o espazo.
URL:https://www.ategal.com/evento-ategal/vigo-roteiro-cultural-conece-a-tua-cidade/
LOCATION:Ategal Vigo\, Travesía do Pino\, 2-entrechan\, Vigo\, Pontevedra
ATTACH;FMTTYPE=image/png:https://www.ategal.com/wp-content/uploads/2022/05/CONOCE-TU-CIUDAD.png
END:VEVENT
END:VCALENDAR