BEGIN:VCALENDAR
VERSION:2.0
PRODID:-//Ategal - ECPv6.15.20//NONSGML v1.0//EN
CALSCALE:GREGORIAN
METHOD:PUBLISH
X-ORIGINAL-URL:https://www.ategal.com
X-WR-CALDESC:Eventos para Ategal
REFRESH-INTERVAL;VALUE=DURATION:PT1H
X-Robots-Tag:noindex
X-PUBLISHED-TTL:PT1H
BEGIN:VTIMEZONE
TZID:Europe/Paris
BEGIN:DAYLIGHT
TZOFFSETFROM:+0100
TZOFFSETTO:+0200
TZNAME:CEST
DTSTART:20250330T010000
END:DAYLIGHT
BEGIN:STANDARD
TZOFFSETFROM:+0200
TZOFFSETTO:+0100
TZNAME:CET
DTSTART:20251026T010000
END:STANDARD
BEGIN:DAYLIGHT
TZOFFSETFROM:+0100
TZOFFSETTO:+0200
TZNAME:CEST
DTSTART:20260329T010000
END:DAYLIGHT
BEGIN:STANDARD
TZOFFSETFROM:+0200
TZOFFSETTO:+0100
TZNAME:CET
DTSTART:20261025T010000
END:STANDARD
BEGIN:DAYLIGHT
TZOFFSETFROM:+0100
TZOFFSETTO:+0200
TZNAME:CEST
DTSTART:20270328T010000
END:DAYLIGHT
BEGIN:STANDARD
TZOFFSETFROM:+0200
TZOFFSETTO:+0100
TZNAME:CET
DTSTART:20271031T010000
END:STANDARD
END:VTIMEZONE
BEGIN:VEVENT
DTSTART;TZID=Europe/Paris:20260311T173000
DTEND;TZID=Europe/Paris:20260311T173000
DTSTAMP:20260422T022512
CREATED:20260226T134913Z
LAST-MODIFIED:20260226T134913Z
UID:17143-1773250200-1773250200@www.ategal.com
SUMMARY:VIGO | Visita al Museo Liste
DESCRIPTION:Con motivo del Mes de la Mujer\, las Aulas de Vigo tienen organizada una nueva actividad. Una visita guiada al Museo Etnográfico Liste\, que incluye un taller de sororidad y fotografía\, herbario y tejidos. \nPodéis inscribiros en el centro hasta el 6 de marzo. Las plazas son limitadas.
URL:https://www.ategal.com/evento-ategal/vigo-visita-al-museo-liste/
LOCATION:Museo Liste etnográfico\, Rúa Pastora\, 22\, Vigo\, Pontevedra\, 36210\, España
CATEGORIES:Vigo,Vigo
ATTACH;FMTTYPE=image/jpeg:https://www.ategal.com/wp-content/uploads/2026/02/Cartel-Visita-Museo-Liste-Marzo.jpg
END:VEVENT
END:VCALENDAR