BEGIN:VCALENDAR
VERSION:2.0
PRODID:-//Ategal - ECPv6.15.20//NONSGML v1.0//EN
CALSCALE:GREGORIAN
METHOD:PUBLISH
X-WR-CALNAME:Ategal
X-ORIGINAL-URL:https://www.ategal.com
X-WR-CALDESC:Eventos para Ategal
REFRESH-INTERVAL;VALUE=DURATION:PT1H
X-Robots-Tag:noindex
X-PUBLISHED-TTL:PT1H
BEGIN:VTIMEZONE
TZID:Europe/Paris
BEGIN:DAYLIGHT
TZOFFSETFROM:+0100
TZOFFSETTO:+0200
TZNAME:CEST
DTSTART:20250330T010000
END:DAYLIGHT
BEGIN:STANDARD
TZOFFSETFROM:+0200
TZOFFSETTO:+0100
TZNAME:CET
DTSTART:20251026T010000
END:STANDARD
BEGIN:DAYLIGHT
TZOFFSETFROM:+0100
TZOFFSETTO:+0200
TZNAME:CEST
DTSTART:20260329T010000
END:DAYLIGHT
BEGIN:STANDARD
TZOFFSETFROM:+0200
TZOFFSETTO:+0100
TZNAME:CET
DTSTART:20261025T010000
END:STANDARD
BEGIN:DAYLIGHT
TZOFFSETFROM:+0100
TZOFFSETTO:+0200
TZNAME:CEST
DTSTART:20270328T010000
END:DAYLIGHT
BEGIN:STANDARD
TZOFFSETFROM:+0200
TZOFFSETTO:+0100
TZNAME:CET
DTSTART:20271031T010000
END:STANDARD
END:VTIMEZONE
BEGIN:VEVENT
DTSTART;TZID=Europe/Paris:20260317T180000
DTEND;TZID=Europe/Paris:20260317T180000
DTSTAMP:20260421T162957
CREATED:20260316T133517Z
LAST-MODIFIED:20260316T133517Z
UID:17180-1773770400-1773770400@www.ategal.com
SUMMARY:FERROL | Visita Centro Torrente Ballester
DESCRIPTION:El próximo 17 de marzo\, las Aulas de Ferrol organizan una visita cultural al Centro Torrente Ballester.
URL:https://www.ategal.com/evento-ategal/ferrol-visita-centro-torrente-ballester/
LOCATION:Centro Cultural Torrente Ballester\, C/ Concepción Arenal\, s/n.\, Ferrol\, A Coruña\, 15402
CATEGORIES:Ferrol,Ferrol,Ferrol,Ferrol
ATTACH;FMTTYPE=image/jpeg:https://www.ategal.com/wp-content/uploads/2026/03/WhatsApp-Image-2026-03-16-at-12.39.10.jpeg
END:VEVENT
END:VCALENDAR