BEGIN:VCALENDAR
VERSION:2.0
PRODID:-//Ategal - ECPv6.15.20//NONSGML v1.0//EN
CALSCALE:GREGORIAN
METHOD:PUBLISH
X-WR-CALNAME:Ategal
X-ORIGINAL-URL:https://www.ategal.com
X-WR-CALDESC:Eventos para Ategal
REFRESH-INTERVAL;VALUE=DURATION:PT1H
X-Robots-Tag:noindex
X-PUBLISHED-TTL:PT1H
BEGIN:VTIMEZONE
TZID:Europe/Paris
BEGIN:DAYLIGHT
TZOFFSETFROM:+0100
TZOFFSETTO:+0200
TZNAME:CEST
DTSTART:20240331T010000
END:DAYLIGHT
BEGIN:STANDARD
TZOFFSETFROM:+0200
TZOFFSETTO:+0100
TZNAME:CET
DTSTART:20241027T010000
END:STANDARD
BEGIN:DAYLIGHT
TZOFFSETFROM:+0100
TZOFFSETTO:+0200
TZNAME:CEST
DTSTART:20250330T010000
END:DAYLIGHT
BEGIN:STANDARD
TZOFFSETFROM:+0200
TZOFFSETTO:+0100
TZNAME:CET
DTSTART:20251026T010000
END:STANDARD
BEGIN:DAYLIGHT
TZOFFSETFROM:+0100
TZOFFSETTO:+0200
TZNAME:CEST
DTSTART:20260329T010000
END:DAYLIGHT
BEGIN:STANDARD
TZOFFSETFROM:+0200
TZOFFSETTO:+0100
TZNAME:CET
DTSTART:20261025T010000
END:STANDARD
END:VTIMEZONE
BEGIN:VEVENT
DTSTART;VALUE=DATE:20250513
DTEND;VALUE=DATE:20250515
DTSTAMP:20260424T114518
CREATED:20250505T080626Z
LAST-MODIFIED:20250505T080626Z
UID:16647-1747094400-1747267199@www.ategal.com
SUMMARY:FERROL | Excursión a Tui
DESCRIPTION:Los días 13 y 14 de mayo\, las Aulas de Ferrol se van de excursión a Tui. Las personas interesadas ya pueden inscribirse en Ategal Ferrol. \nEl itinerario será el siguiente: \n13 de mayo \n\nVisita guiada al Monasterio de Armenteira.\nVisita panorámica en Tui.\n\n14 de mayo: \n\nCatedral Santa María de Tui.\nSan Bartolomé de Rebordans.\nPazo de Pegullal.
URL:https://www.ategal.com/evento-ategal/ferrol-excursion-a-tui/
LOCATION:Tui
CATEGORIES:Ferrol,Ferrol,Ferrol,Ferrol
ATTACH;FMTTYPE=image/jpeg:https://www.ategal.com/wp-content/uploads/2025/05/WhatsApp-Image-2025-05-02-at-11.59.13.jpeg
END:VEVENT
END:VCALENDAR