BEGIN:VCALENDAR
VERSION:2.0
PRODID:-//Ategal - ECPv6.15.20//NONSGML v1.0//EN
CALSCALE:GREGORIAN
METHOD:PUBLISH
X-WR-CALNAME:Ategal
X-ORIGINAL-URL:https://www.ategal.com
X-WR-CALDESC:Eventos para Ategal
REFRESH-INTERVAL;VALUE=DURATION:PT1H
X-Robots-Tag:noindex
X-PUBLISHED-TTL:PT1H
BEGIN:VTIMEZONE
TZID:Europe/Paris
BEGIN:DAYLIGHT
TZOFFSETFROM:+0100
TZOFFSETTO:+0200
TZNAME:CEST
DTSTART:20240331T010000
END:DAYLIGHT
BEGIN:STANDARD
TZOFFSETFROM:+0200
TZOFFSETTO:+0100
TZNAME:CET
DTSTART:20241027T010000
END:STANDARD
BEGIN:DAYLIGHT
TZOFFSETFROM:+0100
TZOFFSETTO:+0200
TZNAME:CEST
DTSTART:20250330T010000
END:DAYLIGHT
BEGIN:STANDARD
TZOFFSETFROM:+0200
TZOFFSETTO:+0100
TZNAME:CET
DTSTART:20251026T010000
END:STANDARD
BEGIN:DAYLIGHT
TZOFFSETFROM:+0100
TZOFFSETTO:+0200
TZNAME:CEST
DTSTART:20260329T010000
END:DAYLIGHT
BEGIN:STANDARD
TZOFFSETFROM:+0200
TZOFFSETTO:+0100
TZNAME:CET
DTSTART:20261025T010000
END:STANDARD
END:VTIMEZONE
BEGIN:VEVENT
DTSTART;TZID=Europe/Paris:20250602T170000
DTEND;TZID=Europe/Paris:20250602T183000
DTSTAMP:20260424T100132
CREATED:20250528T081607Z
LAST-MODIFIED:20250528T081607Z
UID:16695-1748883600-1748889000@www.ategal.com
SUMMARY:FERROL | Grandes civilizaciones de la historia antigua a través del cine y el arte
DESCRIPTION:Las Aulas de Ferrol proponen a su alumnado un nuevo curso temático. Durante el mes de junio\, se embarcarán en un viaje por las civilizaciones antiguas más destacadas – Egipto\, Grecia\, Roma y Mesopotamia – a través de sus manifestaciones artísticas y su recreación en el cine. Se establecerán conexiones entre historia\, arte y narrativa audiovisual. \nLos talleres se llevarán a cabo los lunes\, de 17h a 18h30 y de 18h30 a 20h.
URL:https://www.ategal.com/evento-ategal/ferrol-grandes-civilizaciones-de-la-historia-antigua-a-traves-del-cine-y-el-arte/
LOCATION:Ategal Ferrol\, Galiano\, 17-1º\, Ferrol
CATEGORIES:Ferrol,Ferrol,Ferrol,Ferrol
ATTACH;FMTTYPE=image/jpeg:https://www.ategal.com/wp-content/uploads/2025/05/WhatsApp-Image-2025-05-27-at-20.13.58.jpeg
END:VEVENT
END:VCALENDAR