BEGIN:VCALENDAR
VERSION:2.0
PRODID:-//Ategal - ECPv6.15.20//NONSGML v1.0//EN
CALSCALE:GREGORIAN
METHOD:PUBLISH
X-WR-CALNAME:Ategal
X-ORIGINAL-URL:https://www.ategal.com
X-WR-CALDESC:Eventos para Ategal
REFRESH-INTERVAL;VALUE=DURATION:PT1H
X-Robots-Tag:noindex
X-PUBLISHED-TTL:PT1H
BEGIN:VTIMEZONE
TZID:Europe/Paris
BEGIN:DAYLIGHT
TZOFFSETFROM:+0100
TZOFFSETTO:+0200
TZNAME:CEST
DTSTART:20240331T010000
END:DAYLIGHT
BEGIN:STANDARD
TZOFFSETFROM:+0200
TZOFFSETTO:+0100
TZNAME:CET
DTSTART:20241027T010000
END:STANDARD
BEGIN:DAYLIGHT
TZOFFSETFROM:+0100
TZOFFSETTO:+0200
TZNAME:CEST
DTSTART:20250330T010000
END:DAYLIGHT
BEGIN:STANDARD
TZOFFSETFROM:+0200
TZOFFSETTO:+0100
TZNAME:CET
DTSTART:20251026T010000
END:STANDARD
BEGIN:DAYLIGHT
TZOFFSETFROM:+0100
TZOFFSETTO:+0200
TZNAME:CEST
DTSTART:20260329T010000
END:DAYLIGHT
BEGIN:STANDARD
TZOFFSETFROM:+0200
TZOFFSETTO:+0100
TZNAME:CET
DTSTART:20261025T010000
END:STANDARD
END:VTIMEZONE
BEGIN:VEVENT
DTSTART;TZID=Europe/Paris:20251211T113000
DTEND;TZID=Europe/Paris:20251211T113000
DTSTAMP:20260425T021739
CREATED:20251210T122420Z
LAST-MODIFIED:20251210T122420Z
UID:16999-1765452600-1765452600@www.ategal.com
SUMMARY:OURENSE | Migraciones. Historias que nos atraviesan
DESCRIPTION:Las Aulas de Ourense se unen al proyecto «Migraciones. Historias que nos atraviesan» de Viraventos\, entidad que trabaja por la igualdad y convivencia entre personas con diversos orígenes nacionales o culturales. \nLa iniciativa busca crear un espacio de encuentro dirigido a personas mayores de 55 años\, con el objetivo de abrir un diálogo intercultural al rededor de la memoria migrante gallega y su vínculo con las migraciones actuales.
URL:https://www.ategal.com/evento-ategal/ourense-migraciones-historias-que-nos-atraviesan/
LOCATION:Ategal Ourense
CATEGORIES:Ourense,Ourense
ATTACH;FMTTYPE=image/jpeg:https://www.ategal.com/wp-content/uploads/2025/12/Migraciones-Historias-que-nos-atraviesan_page-0001-scaled.jpg
END:VEVENT
END:VCALENDAR