BEGIN:VCALENDAR
VERSION:2.0
PRODID:-//Ategal - ECPv6.15.20//NONSGML v1.0//EN
CALSCALE:GREGORIAN
METHOD:PUBLISH
X-WR-CALNAME:Ategal
X-ORIGINAL-URL:https://www.ategal.com
X-WR-CALDESC:Eventos para Ategal
REFRESH-INTERVAL;VALUE=DURATION:PT1H
X-Robots-Tag:noindex
X-PUBLISHED-TTL:PT1H
BEGIN:VTIMEZONE
TZID:Europe/Paris
BEGIN:DAYLIGHT
TZOFFSETFROM:+0100
TZOFFSETTO:+0200
TZNAME:CEST
DTSTART:20240331T010000
END:DAYLIGHT
BEGIN:STANDARD
TZOFFSETFROM:+0200
TZOFFSETTO:+0100
TZNAME:CET
DTSTART:20241027T010000
END:STANDARD
BEGIN:DAYLIGHT
TZOFFSETFROM:+0100
TZOFFSETTO:+0200
TZNAME:CEST
DTSTART:20250330T010000
END:DAYLIGHT
BEGIN:STANDARD
TZOFFSETFROM:+0200
TZOFFSETTO:+0100
TZNAME:CET
DTSTART:20251026T010000
END:STANDARD
BEGIN:DAYLIGHT
TZOFFSETFROM:+0100
TZOFFSETTO:+0200
TZNAME:CEST
DTSTART:20260329T010000
END:DAYLIGHT
BEGIN:STANDARD
TZOFFSETFROM:+0200
TZOFFSETTO:+0100
TZNAME:CET
DTSTART:20261025T010000
END:STANDARD
END:VTIMEZONE
BEGIN:VEVENT
DTSTART;TZID=Europe/Paris:20250606T120000
DTEND;TZID=Europe/Paris:20250606T120000
DTSTAMP:20260419T154044
CREATED:20250514T091617Z
LAST-MODIFIED:20250514T092743Z
UID:16658-1749211200-1749211200@www.ategal.com
SUMMARY:PADRÓN | Clausura del curso 2024/25
DESCRIPTION:Las Aulas de Padrón\, en colaboración con dicho ayuntamiento\, tienen preparada una jornada muy especial para clausurar el curso 2024/25. Celebrado el día 6 de junio\, a partir de las 12:00h habrá un evento conmemorativo en el Auditorio Municipal de Padrón. A continnuación\, los interesados podrán acudir a la comida organizada\, en el restaurante Scala a partir de las 14:00. El precio de la comida es de 22€ por personas y las inscripciones ya están abiertas en el Centro Social sede de Ategal Padrón. Tenéis hasta el lunes 2 de junio para anotaros.
URL:https://www.ategal.com/evento-ategal/padron-clausura-del-curso-2024-25/
LOCATION:Auditorio Municipal de Padrón
CATEGORIES:Padrón,Padrón,Padrón,Padrón
ATTACH;FMTTYPE=image/jpeg:https://www.ategal.com/wp-content/uploads/2025/05/cartel-clausura-Aulas-Senior-2024-25_page-0001.jpg
END:VEVENT
END:VCALENDAR