BEGIN:VCALENDAR
VERSION:2.0
PRODID:-//Ategal - ECPv6.15.20//NONSGML v1.0//EN
CALSCALE:GREGORIAN
METHOD:PUBLISH
X-ORIGINAL-URL:https://www.ategal.com
X-WR-CALDESC:Eventos para Ategal
REFRESH-INTERVAL;VALUE=DURATION:PT1H
X-Robots-Tag:noindex
X-PUBLISHED-TTL:PT1H
BEGIN:VTIMEZONE
TZID:Europe/Paris
BEGIN:DAYLIGHT
TZOFFSETFROM:+0100
TZOFFSETTO:+0200
TZNAME:CEST
DTSTART:20240331T010000
END:DAYLIGHT
BEGIN:STANDARD
TZOFFSETFROM:+0200
TZOFFSETTO:+0100
TZNAME:CET
DTSTART:20241027T010000
END:STANDARD
BEGIN:DAYLIGHT
TZOFFSETFROM:+0100
TZOFFSETTO:+0200
TZNAME:CEST
DTSTART:20250330T010000
END:DAYLIGHT
BEGIN:STANDARD
TZOFFSETFROM:+0200
TZOFFSETTO:+0100
TZNAME:CET
DTSTART:20251026T010000
END:STANDARD
BEGIN:DAYLIGHT
TZOFFSETFROM:+0100
TZOFFSETTO:+0200
TZNAME:CEST
DTSTART:20260329T010000
END:DAYLIGHT
BEGIN:STANDARD
TZOFFSETFROM:+0200
TZOFFSETTO:+0100
TZNAME:CET
DTSTART:20261025T010000
END:STANDARD
END:VTIMEZONE
BEGIN:VEVENT
DTSTART;TZID=Europe/Paris:20250602T180000
DTEND;TZID=Europe/Paris:20250602T180000
DTSTAMP:20260424T174905
CREATED:20250521T084703Z
LAST-MODIFIED:20250521T084703Z
UID:16677-1748887200-1748887200@www.ategal.com
SUMMARY:SANTIAGO | Ruta sobre Modernismo en Santiago
DESCRIPTION:La profesora de historia del arte de las Aulas de Santiago\, Victoria Tizón\, será la encargada de las actividades sobre el modernismo en Santiago que se organizan en la sede de ategal de la capital gallega para la primera semana de junio: \n\nEl lunes 2 de junio\, ruta modernista a las 18h.\nEl miércoles 4 de junio\, conferencia a las 19h.\n\nYa está disponible la inscripción en la sede de Ategal Santiago.
URL:https://www.ategal.com/evento-ategal/santiago-ruta-sobre-modernismo-en-santiago/
LOCATION:Santiago
CATEGORIES:Santiago de Compostela,Santiago de Compostela
ATTACH;FMTTYPE=image/png:https://www.ategal.com/wp-content/uploads/2025/05/modernismo.png
END:VEVENT
BEGIN:VEVENT
DTSTART;TZID=Europe/Paris:20250604T190000
DTEND;TZID=Europe/Paris:20250604T190000
DTSTAMP:20260424T174905
CREATED:20250521T084836Z
LAST-MODIFIED:20250521T084836Z
UID:16680-1749063600-1749063600@www.ategal.com
SUMMARY:SANTIAGO | Conferencia sobre Modernismo en Santiago
DESCRIPTION:La profesora de historia del arte de las Aulas de Santiago\, Victoria Tizón\, será la encargada de las actividades sobre el modernismo en Santiago que se organizan en la sede de ategal de la capital gallega para la primera semana de junio: \n\nEl lunes 2 de junio\, ruta modernista a las 18h.\nEl miércoles 4 de junio\, conferencia a las 19h.\n\nYa está disponible la inscripción en la sede de Ategal Santiago.
URL:https://www.ategal.com/evento-ategal/santiago-conferencia-sobre-modernismo-en-santiago/
LOCATION:Ategal Santiago\, Rúa Virxe da Cerca\, 31\, Santiago de Compostela\, A Coruña
CATEGORIES:Santiago de Compostela,Santiago de Compostela
ATTACH;FMTTYPE=image/png:https://www.ategal.com/wp-content/uploads/2025/05/modernismo.png
END:VEVENT
BEGIN:VEVENT
DTSTART;TZID=Europe/Paris:20250605T190000
DTEND;TZID=Europe/Paris:20250605T190000
DTSTAMP:20260424T174905
CREATED:20250521T074851Z
LAST-MODIFIED:20250521T083703Z
UID:16671-1749150000-1749150000@www.ategal.com
SUMMARY:SANTIAGO | Francisca Pizarro. La primera mestiza
DESCRIPTION:¿Aún no sabéis quién fue Francisca Pizarro? En las Aulas de Santiago tenéis la oportunidad de conocer más a fondo a esta figura histórica de la mano de la profesora de historia\, Victoria Tizón. El próximo 5 de junio a las 19h. \nLos interesados ya pueden apuntarse en la oficina de Ategal Santiago.
URL:https://www.ategal.com/evento-ategal/santiago-francisca-pizarro-la-primera-mestiza/
LOCATION:Ategal Santiago\, Rúa Virxe da Cerca\, 31\, Santiago de Compostela\, A Coruña
CATEGORIES:Santiago de Compostela,Santiago de Compostela
ATTACH;FMTTYPE=image/png:https://www.ategal.com/wp-content/uploads/2025/05/francisca-pizarra.png
END:VEVENT
BEGIN:VEVENT
DTSTART;TZID=Europe/Paris:20250612T190000
DTEND;TZID=Europe/Paris:20250612T190000
DTSTAMP:20260424T174905
CREATED:20250521T084235Z
LAST-MODIFIED:20250521T084235Z
UID:16674-1749754800-1749754800@www.ategal.com
SUMMARY:SANTIAGO | O ano de Castelao
DESCRIPTION:Este 2025 foi declarado Ano de Castelao\, conmemorando así o 75º aniversario da súa morte. Para celebralo. As Aulas de Santiago organizan unha charla ilustrativa sobre a súa obra. Impártea a profesora de historia e historia da arte de Ategal\, Victoria Tizón o 12 de xuño ás 19 horas. \nOs interesados poden anotarse na sede de Ategal Santiago.
URL:https://www.ategal.com/evento-ategal/santiago-o-ano-de-castelao/
LOCATION:Ategal Santiago\, Rúa Virxe da Cerca\, 31\, Santiago de Compostela\, A Coruña
CATEGORIES:Santiago de Compostela,Santiago de Compostela
ATTACH;FMTTYPE=image/png:https://www.ategal.com/wp-content/uploads/2025/05/castelao.png
END:VEVENT
END:VCALENDAR