BEGIN:VCALENDAR
VERSION:2.0
PRODID:-//Ategal - ECPv6.15.20//NONSGML v1.0//EN
CALSCALE:GREGORIAN
METHOD:PUBLISH
X-WR-CALNAME:Ategal
X-ORIGINAL-URL:https://www.ategal.com
X-WR-CALDESC:Eventos para Ategal
REFRESH-INTERVAL;VALUE=DURATION:PT1H
X-Robots-Tag:noindex
X-PUBLISHED-TTL:PT1H
BEGIN:VTIMEZONE
TZID:Europe/Paris
BEGIN:DAYLIGHT
TZOFFSETFROM:+0100
TZOFFSETTO:+0200
TZNAME:CEST
DTSTART:20250330T010000
END:DAYLIGHT
BEGIN:STANDARD
TZOFFSETFROM:+0200
TZOFFSETTO:+0100
TZNAME:CET
DTSTART:20251026T010000
END:STANDARD
BEGIN:DAYLIGHT
TZOFFSETFROM:+0100
TZOFFSETTO:+0200
TZNAME:CEST
DTSTART:20260329T010000
END:DAYLIGHT
BEGIN:STANDARD
TZOFFSETFROM:+0200
TZOFFSETTO:+0100
TZNAME:CET
DTSTART:20261025T010000
END:STANDARD
BEGIN:DAYLIGHT
TZOFFSETFROM:+0100
TZOFFSETTO:+0200
TZNAME:CEST
DTSTART:20270328T010000
END:DAYLIGHT
BEGIN:STANDARD
TZOFFSETFROM:+0200
TZOFFSETTO:+0100
TZNAME:CET
DTSTART:20271031T010000
END:STANDARD
END:VTIMEZONE
BEGIN:VEVENT
DTSTART;TZID=Europe/Paris:20260305T173000
DTEND;TZID=Europe/Paris:20260305T190000
DTSTAMP:20260424T015717
CREATED:20260304T091044Z
LAST-MODIFIED:20260304T091044Z
UID:17159-1772731800-1772737200@www.ategal.com
SUMMARY:SANTIAGO | Bingo y Pasapalabra feminista
DESCRIPTION:Las Aulas de Santiago han preparado un mes de marzo repleto de actividades para conmemorar el Mes de la Mujer. \nLa programación comenzará el próximo jueves\, 5 de marzo\, con un bingo especial y un divertido Pasapalabra feminista.
URL:https://www.ategal.com/evento-ategal/santiago-bingo-y-pasapalabra-feminista/
LOCATION:Ategal Santiago\, Rúa Virxe da Cerca\, 31\, Santiago de Compostela\, A Coruña
CATEGORIES:Santiago de Compostela,Santiago de Compostela
ATTACH;FMTTYPE=image/png:https://www.ategal.com/wp-content/uploads/2026/03/Cartel-8m-mesda-muller.png
END:VEVENT
BEGIN:VEVENT
DTSTART;TZID=Europe/Paris:20260309T100000
DTEND;TZID=Europe/Paris:20260309T130000
DTSTAMP:20260424T015717
CREATED:20260212T100228Z
LAST-MODIFIED:20260212T100253Z
UID:17094-1773050400-1773061200@www.ategal.com
SUMMARY:SANTIAGO | Tu transformación digital
DESCRIPTION:Las Aulas de Santiago organizan un nuevo taller para impulsar las competencias digitales entre las personas senior. El evento se divide en dos jornadas: \n\nUso del correo electrónico\, impartida los días 9\, 11\, 13 y 16 de marzo.\nAsistentes virtuales y comunicación. Los días 20\, 23\, 25 y 27 de marzo.\n\nLas personas interesadas pueden inscribirse en Ategal Santiago o llamar al 981 581 533. El plazo termina el 20 de febrero.  \nPara esta actividad\, enmarcada en el programa Generación D de Red.es\, Ategal cuenta con la colaboración de Adecco Learning&Consulting. \n 
URL:https://www.ategal.com/evento-ategal/santiago-tu-transformacion-digital/
LOCATION:A Coruña
CATEGORIES:Santiago de Compostela,Santiago de Compostela
ATTACH;FMTTYPE=image/jpeg:https://www.ategal.com/wp-content/uploads/2026/02/WhatsApp-Image-2026-02-12-at-10.22.23.jpeg
END:VEVENT
BEGIN:VEVENT
DTSTART;TZID=Europe/Paris:20260312T190000
DTEND;TZID=Europe/Paris:20260312T200000
DTSTAMP:20260424T015717
CREATED:20260304T091426Z
LAST-MODIFIED:20260304T091426Z
UID:17163-1773342000-1773345600@www.ategal.com
SUMMARY:SANTIAGO | Las reinas de la historia
DESCRIPTION:Las Aulas de Santiago han preparado un mes de marzo repleto de actividades para conmemorar el Mes de la Mujer. \nContinúan con una charla a cargo de la profesora de Historia de las Aulas\, Victoria Tizón\, sobre personalidades femeninas de gran peso histórico: Isabel de Inglaterra y María de Escocia.
URL:https://www.ategal.com/evento-ategal/santiago-las-reinas-de-la-historia/
LOCATION:Ategal Santiago\, Rúa Virxe da Cerca\, 31\, Santiago de Compostela\, A Coruña
CATEGORIES:Santiago de Compostela,Santiago de Compostela
ATTACH;FMTTYPE=image/png:https://www.ategal.com/wp-content/uploads/2026/03/Cartel-8m-mesda-muller.png
END:VEVENT
BEGIN:VEVENT
DTSTART;TZID=Europe/Paris:20260326T190000
DTEND;TZID=Europe/Paris:20260326T200000
DTSTAMP:20260424T015717
CREATED:20260304T092008Z
LAST-MODIFIED:20260304T092008Z
UID:17165-1774551600-1774555200@www.ategal.com
SUMMARY:SANTIAGO | Las reinas de la historia
DESCRIPTION:Las Aulas de Santiago han preparado un mes de marzo repleto de actividades para conmemorar el Mes de la Mujer. \nTerminan las conmemoraciones con una segunda charla sobre mujeres que tuvieron un papel relevante en la historia. En este caso Victoria Tizón\, profesora voluntaria de Ategal\, hablará sobre la reina de España María Josefa de Sajonia.
URL:https://www.ategal.com/evento-ategal/santiago-las-reinas-de-la-historia-2/
LOCATION:Ategal Santiago\, Rúa Virxe da Cerca\, 31\, Santiago de Compostela\, A Coruña
CATEGORIES:Santiago de Compostela,Santiago de Compostela
ATTACH;FMTTYPE=image/png:https://www.ategal.com/wp-content/uploads/2026/03/Cartel-8m-mesda-muller.png
END:VEVENT
END:VCALENDAR