BEGIN:VCALENDAR
VERSION:2.0
PRODID:-//Ategal - ECPv6.15.20//NONSGML v1.0//EN
CALSCALE:GREGORIAN
METHOD:PUBLISH
X-WR-CALNAME:Ategal
X-ORIGINAL-URL:https://www.ategal.com
X-WR-CALDESC:Eventos para Ategal
REFRESH-INTERVAL;VALUE=DURATION:PT1H
X-Robots-Tag:noindex
X-PUBLISHED-TTL:PT1H
BEGIN:VTIMEZONE
TZID:Europe/Paris
BEGIN:DAYLIGHT
TZOFFSETFROM:+0100
TZOFFSETTO:+0200
TZNAME:CEST
DTSTART:20240331T010000
END:DAYLIGHT
BEGIN:STANDARD
TZOFFSETFROM:+0200
TZOFFSETTO:+0100
TZNAME:CET
DTSTART:20241027T010000
END:STANDARD
BEGIN:DAYLIGHT
TZOFFSETFROM:+0100
TZOFFSETTO:+0200
TZNAME:CEST
DTSTART:20250330T010000
END:DAYLIGHT
BEGIN:STANDARD
TZOFFSETFROM:+0200
TZOFFSETTO:+0100
TZNAME:CET
DTSTART:20251026T010000
END:STANDARD
BEGIN:DAYLIGHT
TZOFFSETFROM:+0100
TZOFFSETTO:+0200
TZNAME:CEST
DTSTART:20260329T010000
END:DAYLIGHT
BEGIN:STANDARD
TZOFFSETFROM:+0200
TZOFFSETTO:+0100
TZNAME:CET
DTSTART:20261025T010000
END:STANDARD
END:VTIMEZONE
BEGIN:VEVENT
DTSTART;TZID=Europe/Paris:20250325T170000
DTEND;TZID=Europe/Paris:20250325T190000
DTSTAMP:20260425T004739
CREATED:20250311T153923Z
LAST-MODIFIED:20250321T090701Z
UID:16494-1742922000-1742929200@www.ategal.com
SUMMARY:SANTIAGO | Jornadas sobre IA
DESCRIPTION:El martes 18 de marzo las Aulas de Santiago inician sus Jornadas sobre Inteligencia Artificial. A lo largo de tres semanas\, los asistentes se familiarizarán con estas tecnología\, descubriendo su potencial y cómo pueden usarla de forma segura. \nEn esta primera sesión hablarán sobre qué es la IA así como de sus usos\, historia y peligros. \nLas siguientes sesiones se llevarán a cabo el próximo 25 de marzo – donde se explicará qué es un Chatbot y como hacer un buen Prompt – y el 1 de abril – para ver ejemplos prácticos con ChatGPT\, Perplexity\, Gemini y Copilot -. \n 
URL:https://www.ategal.com/evento-ategal/santiago-jornadas-sobre-ia/
LOCATION:Ategal Santiago\, Rúa Virxe da Cerca\, 31\, Santiago de Compostela\, A Coruña
CATEGORIES:Santiago de Compostela,Santiago de Compostela
ATTACH;FMTTYPE=image/jpeg:https://www.ategal.com/wp-content/uploads/2025/03/WhatsApp-Image-2025-03-11-at-14.10.38.jpeg
END:VEVENT
BEGIN:VEVENT
DTSTART;TZID=Europe/Paris:20250325T190000
DTEND;TZID=Europe/Paris:20250325T200000
DTSTAMP:20260425T004739
CREATED:20250321T085935Z
LAST-MODIFIED:20250321T085935Z
UID:16592-1742929200-1742932800@www.ategal.com
SUMMARY:SANTIAGO | Taller de relajación
DESCRIPTION:Las Aulas de Santiago continúan con sus talleres sobre bienestar con dos nuevos talleres de relajación. En ellos trabajarán nuevamente la técnica de tensión – relajación. Las jornadas se llevarán a cabo el martes 25 de marzo\, de 19 a 20 horas\, y viernes 28\, de 11 a 12h. \nLas inscripciones se hacen en la sede de Ategal Santiago.
URL:https://www.ategal.com/evento-ategal/santiago-taller-de-relajacion-2/
LOCATION:Ategal Santiago\, Rúa Virxe da Cerca\, 31\, Santiago de Compostela\, A Coruña
CATEGORIES:Santiago de Compostela,Santiago de Compostela
ATTACH;FMTTYPE=image/jpeg:https://www.ategal.com/wp-content/uploads/2025/03/Cartel-Taller-Relajacion-002.jpg
END:VEVENT
END:VCALENDAR