BEGIN:VCALENDAR
VERSION:2.0
PRODID:-//Ategal - ECPv6.15.20//NONSGML v1.0//EN
CALSCALE:GREGORIAN
METHOD:PUBLISH
X-ORIGINAL-URL:https://www.ategal.com
X-WR-CALDESC:Eventos para Ategal
REFRESH-INTERVAL;VALUE=DURATION:PT1H
X-Robots-Tag:noindex
X-PUBLISHED-TTL:PT1H
BEGIN:VTIMEZONE
TZID:Europe/Paris
BEGIN:DAYLIGHT
TZOFFSETFROM:+0100
TZOFFSETTO:+0200
TZNAME:CEST
DTSTART:20240331T010000
END:DAYLIGHT
BEGIN:STANDARD
TZOFFSETFROM:+0200
TZOFFSETTO:+0100
TZNAME:CET
DTSTART:20241027T010000
END:STANDARD
BEGIN:DAYLIGHT
TZOFFSETFROM:+0100
TZOFFSETTO:+0200
TZNAME:CEST
DTSTART:20250330T010000
END:DAYLIGHT
BEGIN:STANDARD
TZOFFSETFROM:+0200
TZOFFSETTO:+0100
TZNAME:CET
DTSTART:20251026T010000
END:STANDARD
BEGIN:DAYLIGHT
TZOFFSETFROM:+0100
TZOFFSETTO:+0200
TZNAME:CEST
DTSTART:20260329T010000
END:DAYLIGHT
BEGIN:STANDARD
TZOFFSETFROM:+0200
TZOFFSETTO:+0100
TZNAME:CET
DTSTART:20261025T010000
END:STANDARD
END:VTIMEZONE
BEGIN:VEVENT
DTSTART;TZID=Europe/Paris:20250402T123000
DTEND;TZID=Europe/Paris:20250402T133000
DTSTAMP:20260424T225647
CREATED:20250321T090505Z
LAST-MODIFIED:20250325T125107Z
UID:16595-1743597000-1743600600@www.ategal.com
SUMMARY:SANTIAGO | Taller de autocuidado
DESCRIPTION:En abril\, las Aulas de Santiago tienen preparado un taller de fortalecimiento del bienestar personal. En él\, los asistentes trabajarán el autoconocimiento y el cuidado personal para conseguir maximizar su bienestar. \nLas sesiones se llevarán a cabo los días 2\, 9\, 23 y 30 de abril. En la sede de Ategal Santiago de 12:30 a 13:30 horas.
URL:https://www.ategal.com/evento-ategal/santiago-taller-de-autocuidado/
LOCATION:A Coruña
CATEGORIES:Santiago de Compostela,Santiago de Compostela
ATTACH;FMTTYPE=image/jpeg:https://www.ategal.com/wp-content/uploads/2025/03/autocoidado-1_page-0001.jpg
END:VEVENT
END:VCALENDAR