BEGIN:VCALENDAR
VERSION:2.0
PRODID:-//Ategal - ECPv6.15.20//NONSGML v1.0//EN
CALSCALE:GREGORIAN
METHOD:PUBLISH
X-WR-CALNAME:Ategal
X-ORIGINAL-URL:https://www.ategal.com
X-WR-CALDESC:Eventos para Ategal
REFRESH-INTERVAL;VALUE=DURATION:PT1H
X-Robots-Tag:noindex
X-PUBLISHED-TTL:PT1H
BEGIN:VTIMEZONE
TZID:Europe/Paris
BEGIN:DAYLIGHT
TZOFFSETFROM:+0100
TZOFFSETTO:+0200
TZNAME:CEST
DTSTART:20240331T010000
END:DAYLIGHT
BEGIN:STANDARD
TZOFFSETFROM:+0200
TZOFFSETTO:+0100
TZNAME:CET
DTSTART:20241027T010000
END:STANDARD
BEGIN:DAYLIGHT
TZOFFSETFROM:+0100
TZOFFSETTO:+0200
TZNAME:CEST
DTSTART:20250330T010000
END:DAYLIGHT
BEGIN:STANDARD
TZOFFSETFROM:+0200
TZOFFSETTO:+0100
TZNAME:CET
DTSTART:20251026T010000
END:STANDARD
BEGIN:DAYLIGHT
TZOFFSETFROM:+0100
TZOFFSETTO:+0200
TZNAME:CEST
DTSTART:20260329T010000
END:DAYLIGHT
BEGIN:STANDARD
TZOFFSETFROM:+0200
TZOFFSETTO:+0100
TZNAME:CET
DTSTART:20261025T010000
END:STANDARD
END:VTIMEZONE
BEGIN:VEVENT
DTSTART;TZID=Europe/Paris:20250612T190000
DTEND;TZID=Europe/Paris:20250612T190000
DTSTAMP:20260424T192924
CREATED:20250521T084235Z
LAST-MODIFIED:20250521T084235Z
UID:16674-1749754800-1749754800@www.ategal.com
SUMMARY:SANTIAGO | O ano de Castelao
DESCRIPTION:Este 2025 foi declarado Ano de Castelao\, conmemorando así o 75º aniversario da súa morte. Para celebralo. As Aulas de Santiago organizan unha charla ilustrativa sobre a súa obra. Impártea a profesora de historia e historia da arte de Ategal\, Victoria Tizón o 12 de xuño ás 19 horas. \nOs interesados poden anotarse na sede de Ategal Santiago.
URL:https://www.ategal.com/evento-ategal/santiago-o-ano-de-castelao/
LOCATION:Ategal Santiago\, Rúa Virxe da Cerca\, 31\, Santiago de Compostela\, A Coruña
CATEGORIES:Santiago de Compostela,Santiago de Compostela
ATTACH;FMTTYPE=image/png:https://www.ategal.com/wp-content/uploads/2025/05/castelao.png
END:VEVENT
END:VCALENDAR