BEGIN:VCALENDAR
VERSION:2.0
PRODID:-//Ategal - ECPv6.15.20//NONSGML v1.0//EN
CALSCALE:GREGORIAN
METHOD:PUBLISH
X-ORIGINAL-URL:https://www.ategal.com
X-WR-CALDESC:Eventos para Ategal
REFRESH-INTERVAL;VALUE=DURATION:PT1H
X-Robots-Tag:noindex
X-PUBLISHED-TTL:PT1H
BEGIN:VTIMEZONE
TZID:Europe/Paris
BEGIN:DAYLIGHT
TZOFFSETFROM:+0100
TZOFFSETTO:+0200
TZNAME:CEST
DTSTART:20250330T010000
END:DAYLIGHT
BEGIN:STANDARD
TZOFFSETFROM:+0200
TZOFFSETTO:+0100
TZNAME:CET
DTSTART:20251026T010000
END:STANDARD
BEGIN:DAYLIGHT
TZOFFSETFROM:+0100
TZOFFSETTO:+0200
TZNAME:CEST
DTSTART:20260329T010000
END:DAYLIGHT
BEGIN:STANDARD
TZOFFSETFROM:+0200
TZOFFSETTO:+0100
TZNAME:CET
DTSTART:20261025T010000
END:STANDARD
BEGIN:DAYLIGHT
TZOFFSETFROM:+0100
TZOFFSETTO:+0200
TZNAME:CEST
DTSTART:20270328T010000
END:DAYLIGHT
BEGIN:STANDARD
TZOFFSETFROM:+0200
TZOFFSETTO:+0100
TZNAME:CET
DTSTART:20271031T010000
END:STANDARD
END:VTIMEZONE
BEGIN:VEVENT
DTSTART;TZID=Europe/Paris:20260213T110000
DTEND;TZID=Europe/Paris:20260213T120000
DTSTAMP:20260424T103103
CREATED:20260205T115631Z
LAST-MODIFIED:20260205T115631Z
UID:17074-1770980400-1770984000@www.ategal.com
SUMMARY:SANTIAGO | Taller de bienestar
DESCRIPTION:Ategal Santiago organiza un nuevo taller de bienestar\, compuesto por dos sesiones: \n\n13 de febrero. Donde se trabajará la identidad.\n20 de febrero. Para hablar de la gestión de emociones.\n\nAmbas citas se llevarán a cabo de 11 a 12h y las personas interesadas en participar ya se pueden inscribir en el centro o por teléfono: 618 184 344 / 981 581 533
URL:https://www.ategal.com/evento-ategal/santiago-taller-de-bienestar/
LOCATION:Ategal Santiago\, Rúa Virxe da Cerca\, 31\, Santiago de Compostela\, A Coruña
CATEGORIES:Santiago de Compostela,Santiago de Compostela
ATTACH;FMTTYPE=image/jpeg:https://www.ategal.com/wp-content/uploads/2026/02/taller-benestar_page-0001-scaled.jpg
END:VEVENT
END:VCALENDAR