BEGIN:VCALENDAR
VERSION:2.0
PRODID:-//Ategal - ECPv6.15.20//NONSGML v1.0//EN
CALSCALE:GREGORIAN
METHOD:PUBLISH
X-ORIGINAL-URL:https://www.ategal.com
X-WR-CALDESC:Eventos para Ategal
REFRESH-INTERVAL;VALUE=DURATION:PT1H
X-Robots-Tag:noindex
X-PUBLISHED-TTL:PT1H
BEGIN:VTIMEZONE
TZID:Europe/Paris
BEGIN:DAYLIGHT
TZOFFSETFROM:+0100
TZOFFSETTO:+0200
TZNAME:CEST
DTSTART:20250330T010000
END:DAYLIGHT
BEGIN:STANDARD
TZOFFSETFROM:+0200
TZOFFSETTO:+0100
TZNAME:CET
DTSTART:20251026T010000
END:STANDARD
BEGIN:DAYLIGHT
TZOFFSETFROM:+0100
TZOFFSETTO:+0200
TZNAME:CEST
DTSTART:20260329T010000
END:DAYLIGHT
BEGIN:STANDARD
TZOFFSETFROM:+0200
TZOFFSETTO:+0100
TZNAME:CET
DTSTART:20261025T010000
END:STANDARD
BEGIN:DAYLIGHT
TZOFFSETFROM:+0100
TZOFFSETTO:+0200
TZNAME:CEST
DTSTART:20270328T010000
END:DAYLIGHT
BEGIN:STANDARD
TZOFFSETFROM:+0200
TZOFFSETTO:+0100
TZNAME:CET
DTSTART:20271031T010000
END:STANDARD
END:VTIMEZONE
BEGIN:VEVENT
DTSTART;TZID=Europe/Paris:20260413T103000
DTEND;TZID=Europe/Paris:20260413T103000
DTSTAMP:20260424T175331
CREATED:20260409T081409Z
LAST-MODIFIED:20260409T081409Z
UID:17213-1776076200-1776076200@www.ategal.com
SUMMARY:SANTIAGO | Actividad intergeneracional con el colegio La Salle
DESCRIPTION:Como en otras ocasiones\, alumnos del colegio La Salle se acercarán a las Aulas Senior de Santiago para una actividad que busca generar vínculos intergeneracionales y compartir experiencias que impulsen las relaciones interpersonales y la prevención de los estereotipos negativos relacionados con las personas senior.
URL:https://www.ategal.com/evento-ategal/santiago-actividad-intergeneracional-con-el-colegio-la-salle/
LOCATION:Ategal Santiago\, Rúa Virxe da Cerca\, 31\, Santiago de Compostela\, A Coruña
CATEGORIES:Santiago de Compostela,Santiago de Compostela
END:VEVENT
END:VCALENDAR