BEGIN:VCALENDAR
VERSION:2.0
PRODID:-//Ategal - ECPv6.15.20//NONSGML v1.0//EN
CALSCALE:GREGORIAN
METHOD:PUBLISH
X-ORIGINAL-URL:https://www.ategal.com
X-WR-CALDESC:Eventos para Ategal
REFRESH-INTERVAL;VALUE=DURATION:PT1H
X-Robots-Tag:noindex
X-PUBLISHED-TTL:PT1H
BEGIN:VTIMEZONE
TZID:Europe/Paris
BEGIN:DAYLIGHT
TZOFFSETFROM:+0100
TZOFFSETTO:+0200
TZNAME:CEST
DTSTART:20240331T010000
END:DAYLIGHT
BEGIN:STANDARD
TZOFFSETFROM:+0200
TZOFFSETTO:+0100
TZNAME:CET
DTSTART:20241027T010000
END:STANDARD
BEGIN:DAYLIGHT
TZOFFSETFROM:+0100
TZOFFSETTO:+0200
TZNAME:CEST
DTSTART:20250330T010000
END:DAYLIGHT
BEGIN:STANDARD
TZOFFSETFROM:+0200
TZOFFSETTO:+0100
TZNAME:CET
DTSTART:20251026T010000
END:STANDARD
BEGIN:DAYLIGHT
TZOFFSETFROM:+0100
TZOFFSETTO:+0200
TZNAME:CEST
DTSTART:20260329T010000
END:DAYLIGHT
BEGIN:STANDARD
TZOFFSETFROM:+0200
TZOFFSETTO:+0100
TZNAME:CET
DTSTART:20261025T010000
END:STANDARD
END:VTIMEZONE
BEGIN:VEVENT
DTSTART;TZID=Europe/Paris:20251205T111500
DTEND;TZID=Europe/Paris:20251205T111500
DTSTAMP:20260424T230049
CREATED:20251117T094745Z
LAST-MODIFIED:20251117T094745Z
UID:16961-1764933300-1764933300@www.ategal.com
SUMMARY:VIGO | Visita guiada a la exposición de Irene González
DESCRIPTION:Nueva salida cultural de las Aulas de Vigo al museo Marco. El viernes 5 de diciembre disfrutarán de una visita guiada a la exposición Si recordar fuera olvidar\, de Irene González. \nEn su obra\, Irene González utiliza el papel como soporte para hablarnos de la tensión entre memoria y pérdida\, la ausencia y el anhelo.
URL:https://www.ategal.com/evento-ategal/vigo-visita-guiada-a-la-exposicion-de-irene-gonzalez/
LOCATION:Museo Marco\, Vigo
CATEGORIES:Vigo,Vigo
ATTACH;FMTTYPE=image/jpeg:https://www.ategal.com/wp-content/uploads/2025/11/VISITA-MARCO-5-DIC-2025.jpg
END:VEVENT
BEGIN:VEVENT
DTSTART;TZID=Europe/Paris:20251210T170000
DTEND;TZID=Europe/Paris:20251210T180000
DTSTAMP:20260424T230049
CREATED:20251014T085754Z
LAST-MODIFIED:20251015T073656Z
UID:16839-1765386000-1765389600@www.ategal.com
SUMMARY:VIGO | Visita guiada al Teatro Fraga
DESCRIPTION:El próximo miércoles 10 de diciembre\, las Aulas de Vigo se acercarán al Teatro Fraga para disfrutar de una visita guiada en la que conocerán más sobre la historia y la arquitectura del proyecto de este edificio emblemático en la ciudad de Vigo. \nLas plazas son limitadas. La inscripción\, en el centro de Ategal Vigo\, ya está disponible.
URL:https://www.ategal.com/evento-ategal/vigo-visita-guiada-al-teatro-fraga/
LOCATION:Teatro Fraga\, R. do Uruguai\, 1\, Santiago de Vigo\, 36201\, Vigo\, Pontevedra
CATEGORIES:Vigo,Vigo
ATTACH;FMTTYPE=image/jpeg:https://www.ategal.com/wp-content/uploads/2025/10/15.TeatroCineFraga_arquitectura___es_lg.jpg
END:VEVENT
BEGIN:VEVENT
DTSTART;TZID=Europe/Paris:20251211T170000
DTEND;TZID=Europe/Paris:20251211T170000
DTSTAMP:20260424T230049
CREATED:20251120T115011Z
LAST-MODIFIED:20251120T115011Z
UID:16963-1765472400-1765472400@www.ategal.com
SUMMARY:VIGO | Fiesta de Navidad del Ayuntamiento de Vigo
DESCRIPTION:El grupo Canta con nós de las Aulas de Vigo participará en la fiesta de Navidad que organiza dicho ayuntamiento\, enmarcado en su programa de envejecimiento activo. \nOs esperamos\, el jueves 11 de diciembre a las 17h en el auditorio Mar de Vigo.
URL:https://www.ategal.com/evento-ategal/vigo-fiesta-de-navidad-del-ayuntamiento-de-vigo/
LOCATION:Auditorio Mar de Vigo
CATEGORIES:Vigo,Vigo
ATTACH;FMTTYPE=image/jpeg:https://www.ategal.com/wp-content/uploads/2025/11/WhatsApp-Image-2025-11-20-at-12.09.59.jpeg
END:VEVENT
BEGIN:VEVENT
DTSTART;TZID=Europe/Paris:20251218T140000
DTEND;TZID=Europe/Paris:20251218T190000
DTSTAMP:20260424T230049
CREATED:20251117T094135Z
LAST-MODIFIED:20251117T094135Z
UID:16956-1766066400-1766084400@www.ategal.com
SUMMARY:VIGO | Comida baile de Navidad
DESCRIPTION:El próximo 18 de diciembre\, las Aulas de Vigo animan a todos sus alumnos a unirse a la comida baile de Navidad para celebrar juntos estas fechas tan señaladas. Habrá buena comida\, música y muchas sorpresas. \nLas personas interesadas pueden anotarse en el centro de Ategal Vigo del 1 al 12 de diciembre. \nEl evento se organiza un año más en el Hotel Coia\, a partir de las 14 horas. El precio es de 40€ por persona.
URL:https://www.ategal.com/evento-ategal/vigo-comida-baile-de-navidad-2/
LOCATION:Hotel Coia de Vigo
CATEGORIES:Vigo,Vigo
ATTACH;FMTTYPE=image/png:https://www.ategal.com/wp-content/uploads/2025/11/Cartel-Comida-de-Navidad-Ategal-Vigo.png
END:VEVENT
END:VCALENDAR