BEGIN:VCALENDAR
VERSION:2.0
PRODID:-//Ategal - ECPv6.15.20//NONSGML v1.0//EN
CALSCALE:GREGORIAN
METHOD:PUBLISH
X-WR-CALNAME:Ategal
X-ORIGINAL-URL:https://www.ategal.com
X-WR-CALDESC:Eventos para Ategal
REFRESH-INTERVAL;VALUE=DURATION:PT1H
X-Robots-Tag:noindex
X-PUBLISHED-TTL:PT1H
BEGIN:VTIMEZONE
TZID:Europe/Paris
BEGIN:DAYLIGHT
TZOFFSETFROM:+0100
TZOFFSETTO:+0200
TZNAME:CEST
DTSTART:20250330T010000
END:DAYLIGHT
BEGIN:STANDARD
TZOFFSETFROM:+0200
TZOFFSETTO:+0100
TZNAME:CET
DTSTART:20251026T010000
END:STANDARD
BEGIN:DAYLIGHT
TZOFFSETFROM:+0100
TZOFFSETTO:+0200
TZNAME:CEST
DTSTART:20260329T010000
END:DAYLIGHT
BEGIN:STANDARD
TZOFFSETFROM:+0200
TZOFFSETTO:+0100
TZNAME:CET
DTSTART:20261025T010000
END:STANDARD
BEGIN:DAYLIGHT
TZOFFSETFROM:+0100
TZOFFSETTO:+0200
TZNAME:CEST
DTSTART:20270328T010000
END:DAYLIGHT
BEGIN:STANDARD
TZOFFSETFROM:+0200
TZOFFSETTO:+0100
TZNAME:CET
DTSTART:20271031T010000
END:STANDARD
END:VTIMEZONE
BEGIN:VEVENT
DTSTART;TZID=Europe/Paris:20260212T140000
DTEND;TZID=Europe/Paris:20260212T140000
DTSTAMP:20260423T184913
CREATED:20260121T092634Z
LAST-MODIFIED:20260121T092634Z
UID:17033-1770904800-1770904800@www.ategal.com
SUMMARY:VIGO | Carnavales 2026
DESCRIPTION:El próximo jueves\, 12 de febrero\, las Aulas de Vigo se reunirán en el hotel Coia para celebrar el Carnaval. Habrá comida\, baile de máscaras y muchas sorpresas. \nLas personas interesadas ya se pueden inscribir en el centro. El plazo para hacerlo estará abierto hasta el 9 de febrero. \nEl precio de la actividad es de 30€/persona. \n 
URL:https://www.ategal.com/evento-ategal/vigo-carnavales-2026/
LOCATION:Hotel Coia de Vigo
CATEGORIES:Vigo,Vigo
ATTACH;FMTTYPE=image/jpeg:https://www.ategal.com/wp-content/uploads/2026/01/Cartel-Entroido-2026-1_page-0001.jpg
END:VEVENT
BEGIN:VEVENT
DTSTART;TZID=Europe/Paris:20260216T103000
DTEND;TZID=Europe/Paris:20260216T123000
DTSTAMP:20260423T184913
CREATED:20260121T124515Z
LAST-MODIFIED:20260202T093436Z
UID:17037-1771237800-1771245000@www.ategal.com
SUMMARY:VIGO | Festival de Carnaval del CSC Calvario
DESCRIPTION:El grupo de baile de las Aulas de Vigo participarán en el Festival de Carnaval del centro sociocomunitario Calvario. \nLa celebración tendrá lugar en el CSC el lunes 16 de febrero.
URL:https://www.ategal.com/evento-ategal/vigo-festival-de-carnaval-del-csc-calvario/
LOCATION:Centro Sociocomunitario Calvario
CATEGORIES:Vigo,Vigo
ATTACH;FMTTYPE=image/jpeg:https://www.ategal.com/wp-content/uploads/2026/01/WhatsApp-Image-2026-01-30-at-09.19.11-scaled.jpeg
END:VEVENT
BEGIN:VEVENT
DTSTART;TZID=Europe/Paris:20260223T180000
DTEND;TZID=Europe/Paris:20260223T180000
DTSTAMP:20260423T184913
CREATED:20260129T113439Z
LAST-MODIFIED:20260129T113439Z
UID:17055-1771869600-1771869600@www.ategal.com
SUMMARY:VIGO | Día de Rosalía de Castro
DESCRIPTION:Para celebrar el Día de Rosalía de Castro\, las Aulas de Vigo tienen preparado un evento de música y literatura. El acto\, que cuenta con la colaboración de los voluntarios del ayuntamiento de Vigo\, se llevará a cabo en la sede de Ategal Vigo. El propio lunes 23 de febrero\, a las 18h.
URL:https://www.ategal.com/evento-ategal/vigo-dia-de-rosalia-de-castro-2/
LOCATION:Ategal Vigo\, Travesía do Pino\, 2-entrechan\, Vigo\, Pontevedra
CATEGORIES:Vigo,Vigo
ATTACH;FMTTYPE=image/jpeg:https://www.ategal.com/wp-content/uploads/2026/01/cartel-dia-de-Rosalia-2026.jpg
END:VEVENT
BEGIN:VEVENT
DTSTART;TZID=Europe/Paris:20260224T100000
DTEND;TZID=Europe/Paris:20260224T130000
DTSTAMP:20260423T184913
CREATED:20260128T152337Z
LAST-MODIFIED:20260128T152337Z
UID:17048-1771927200-1771938000@www.ategal.com
SUMMARY:VIGO | Curso de iniciación digital
DESCRIPTION:A finales de febrero las Aulas de Vigo acogen un nuevo curso de iniciación digital\, organizado por la Fundación Cibervoluntarios. La iniciativa está abierta de forma gratuita a todas las personas mayores de 60 años\, sean o no socios de Ategal\, y se llevará a cabo los días 24 y 26 de febrero y 3 y 5 de marzo. \nPara inscribirse hay que llamar al 986481600 o 606627511. También se puede hacer de forma presencial en el centro de Ategal Vigo. El plazo para hacerlo termina el martes 3 de febrero. \nEl programa del curso tratará las siguientes cuestiones: \n\nIniciación a Internet\, Administración electrónica y banca digital.\nIdentidad degital\, videollamadas y redes sociales.\nApps de salud y ocio.\nInternet seguro.\nAcompañamiento en el uso seguro de Internet.
URL:https://www.ategal.com/evento-ategal/vigo-curso-de-iniciacion-digital/
LOCATION:Ategal Vigo\, Travesía do Pino\, 2-entrechan\, Vigo\, Pontevedra
CATEGORIES:Vigo,Vigo
ATTACH;FMTTYPE=image/jpeg:https://www.ategal.com/wp-content/uploads/2026/01/YOCONECTO_CARTEL-mayores-3_page-0001.jpg
END:VEVENT
END:VCALENDAR