BEGIN:VCALENDAR
VERSION:2.0
PRODID:-//Ategal - ECPv6.15.20//NONSGML v1.0//EN
CALSCALE:GREGORIAN
METHOD:PUBLISH
X-ORIGINAL-URL:https://www.ategal.com
X-WR-CALDESC:Eventos para Ategal
REFRESH-INTERVAL;VALUE=DURATION:PT1H
X-Robots-Tag:noindex
X-PUBLISHED-TTL:PT1H
BEGIN:VTIMEZONE
TZID:Europe/Paris
BEGIN:DAYLIGHT
TZOFFSETFROM:+0100
TZOFFSETTO:+0200
TZNAME:CEST
DTSTART:20250330T010000
END:DAYLIGHT
BEGIN:STANDARD
TZOFFSETFROM:+0200
TZOFFSETTO:+0100
TZNAME:CET
DTSTART:20251026T010000
END:STANDARD
BEGIN:DAYLIGHT
TZOFFSETFROM:+0100
TZOFFSETTO:+0200
TZNAME:CEST
DTSTART:20260329T010000
END:DAYLIGHT
BEGIN:STANDARD
TZOFFSETFROM:+0200
TZOFFSETTO:+0100
TZNAME:CET
DTSTART:20261025T010000
END:STANDARD
BEGIN:DAYLIGHT
TZOFFSETFROM:+0100
TZOFFSETTO:+0200
TZNAME:CEST
DTSTART:20270328T010000
END:DAYLIGHT
BEGIN:STANDARD
TZOFFSETFROM:+0200
TZOFFSETTO:+0100
TZNAME:CET
DTSTART:20271031T010000
END:STANDARD
END:VTIMEZONE
BEGIN:VEVENT
DTSTART;TZID=Europe/Paris:20260505T180000
DTEND;TZID=Europe/Paris:20260505T193000
DTSTAMP:20260423T154356
CREATED:20260423T095213Z
LAST-MODIFIED:20260423T095213Z
UID:17251-1778004000-1778009400@www.ategal.com
SUMMARY:VIGO | Quién quiere ser millonario
DESCRIPTION:Las Aulas de Vigo\, en colaboración con Solidariedade Internacional de Galicia\, tienen preparado un juego perfecto para aprender sobre economía y comercio. El próximo 5 de mayo organizan Quien quiere ser millonario en el centro de Ategal.
URL:https://www.ategal.com/evento-ategal/vigo-quien-quiere-ser-millonario/
LOCATION:Ategal Vigo\, Travesía do Pino\, 2-entrechan\, Vigo\, Pontevedra
CATEGORIES:Vigo,Vigo
ATTACH;FMTTYPE=image/png:https://www.ategal.com/wp-content/uploads/2026/04/QQSM-ATEGAL-VIGO.png
END:VEVENT
BEGIN:VEVENT
DTSTART;TZID=Europe/Paris:20260511T100000
DTEND;TZID=Europe/Paris:20260511T130000
DTSTAMP:20260423T154356
CREATED:20260420T085216Z
LAST-MODIFIED:20260420T085216Z
UID:17219-1778493600-1778504400@www.ategal.com
SUMMARY:VIGO | Curso Banca electrónica
DESCRIPTION:Ategal Vigo continúa con los cursos sobre digitalización en colaboración con la Findación Cibervoluntarios. El próximo curso se centrará en el uso de la banca electrónica. \nSe impartirá los lunes y miércoles de 10:00h a 13:00h\, desde el 11 al 20 de mayo. Para inscribirse hay que llamar por teléfono (986481600//606627511 ) o en el propio centro (Travesía do Pino 2 – Entrechán\, Vigo). \nIniciativa enmarcada en el programa Generación D de Red.es. \n 
URL:https://www.ategal.com/evento-ategal/vigo-curso-banca-electronica/
LOCATION:Ategal Vigo\, Travesía do Pino\, 2-entrechan\, Vigo\, Pontevedra
CATEGORIES:Vigo,Vigo
ATTACH;FMTTYPE=image/jpeg:https://www.ategal.com/wp-content/uploads/2026/04/YOCONECTO_CARTEL-mayores-3-BANCA-ELECTRONICA_page-0001.jpg
END:VEVENT
BEGIN:VEVENT
DTSTART;VALUE=DATE:20260514
DTEND;VALUE=DATE:20260515
DTSTAMP:20260423T154356
CREATED:20260421T122756Z
LAST-MODIFIED:20260421T122756Z
UID:17241-1778716800-1778803199@www.ategal.com
SUMMARY:VIGO | Ruta en barco por el Río Ulla
DESCRIPTION:Con la colaboración de la Diputación de Pontevedra\, las Aulas de Vigo organizan una escapada relacionada con el apóstolo Santiago. Se trata de una excursión en barco por el río Ulla en los asistentes conocerán la Ruta Traslatio por Mar del Apóstol. \nEl viaje tiene un coste de 60€ por persona e incluye: \n\nRuta guiada en barco por el Río Ulla (Vilanova – Pontecesures)\nComida en Pontecesures\nVisita al Centro de Activación Torres Oestes\nAutobús y seguro de Viaje\n\nLas inscripciones serán en Secretaría a partir del 23 de abril y hasta el 6 de mayo o hasta agotarse las plazas. La salida será el 14 de mayo desde la Plaza Fernando el Católico (10:00H). 
URL:https://www.ategal.com/evento-ategal/vigo-ruta-en-barco-por-el-rio-ulla/
LOCATION:Pontevedra
CATEGORIES:Vigo,Vigo
ATTACH;FMTTYPE=image/png:https://www.ategal.com/wp-content/uploads/2026/04/excursion-catoira-mayo-26.png
END:VEVENT
END:VCALENDAR