BEGIN:VCALENDAR
VERSION:2.0
PRODID:-//Ategal - ECPv6.15.20//NONSGML v1.0//EN
CALSCALE:GREGORIAN
METHOD:PUBLISH
X-ORIGINAL-URL:https://www.ategal.com
X-WR-CALDESC:Eventos para Ategal
REFRESH-INTERVAL;VALUE=DURATION:PT1H
X-Robots-Tag:noindex
X-PUBLISHED-TTL:PT1H
BEGIN:VTIMEZONE
TZID:Europe/Paris
BEGIN:DAYLIGHT
TZOFFSETFROM:+0100
TZOFFSETTO:+0200
TZNAME:CEST
DTSTART:20240331T010000
END:DAYLIGHT
BEGIN:STANDARD
TZOFFSETFROM:+0200
TZOFFSETTO:+0100
TZNAME:CET
DTSTART:20241027T010000
END:STANDARD
BEGIN:DAYLIGHT
TZOFFSETFROM:+0100
TZOFFSETTO:+0200
TZNAME:CEST
DTSTART:20250330T010000
END:DAYLIGHT
BEGIN:STANDARD
TZOFFSETFROM:+0200
TZOFFSETTO:+0100
TZNAME:CET
DTSTART:20251026T010000
END:STANDARD
BEGIN:DAYLIGHT
TZOFFSETFROM:+0100
TZOFFSETTO:+0200
TZNAME:CEST
DTSTART:20260329T010000
END:DAYLIGHT
BEGIN:STANDARD
TZOFFSETFROM:+0200
TZOFFSETTO:+0100
TZNAME:CET
DTSTART:20261025T010000
END:STANDARD
END:VTIMEZONE
BEGIN:VEVENT
DTSTART;TZID=Europe/Paris:20250509T113000
DTEND;TZID=Europe/Paris:20250509T113000
DTSTAMP:20260425T123058
CREATED:20250423T112054Z
LAST-MODIFIED:20250423T112054Z
UID:16642-1746790200-1746790200@www.ategal.com
SUMMARY:VIGO | Visita exposición Alfonso Galván
DESCRIPTION:El 9 de mayo\, las Aulas de Vigo organizan una nueva visita al museo Marco. El destino es la exposición del autor madrileño Alfonso Galván. La muestra se organiza en dos atmósferas: una dominada por la presencia de animales en escenas densas\, cerradas\, de fuerte contenido ficcional; otra en apariencia más lírica\, con paisajes abiertos y referencias orientalistas.
URL:https://www.ategal.com/evento-ategal/vigo-visita-exposicion-alfonso-galvan/
LOCATION:Museo Marco\, Vigo
CATEGORIES:Vigo,Vigo
END:VEVENT
END:VCALENDAR