BEGIN:VCALENDAR
VERSION:2.0
PRODID:-//Ategal - ECPv6.15.20//NONSGML v1.0//EN
CALSCALE:GREGORIAN
METHOD:PUBLISH
X-WR-CALNAME:Ategal
X-ORIGINAL-URL:https://www.ategal.com
X-WR-CALDESC:Eventos para Ategal
REFRESH-INTERVAL;VALUE=DURATION:PT1H
X-Robots-Tag:noindex
X-PUBLISHED-TTL:PT1H
BEGIN:VTIMEZONE
TZID:Europe/Paris
BEGIN:DAYLIGHT
TZOFFSETFROM:+0100
TZOFFSETTO:+0200
TZNAME:CEST
DTSTART:20240331T010000
END:DAYLIGHT
BEGIN:STANDARD
TZOFFSETFROM:+0200
TZOFFSETTO:+0100
TZNAME:CET
DTSTART:20241027T010000
END:STANDARD
BEGIN:DAYLIGHT
TZOFFSETFROM:+0100
TZOFFSETTO:+0200
TZNAME:CEST
DTSTART:20250330T010000
END:DAYLIGHT
BEGIN:STANDARD
TZOFFSETFROM:+0200
TZOFFSETTO:+0100
TZNAME:CET
DTSTART:20251026T010000
END:STANDARD
BEGIN:DAYLIGHT
TZOFFSETFROM:+0100
TZOFFSETTO:+0200
TZNAME:CEST
DTSTART:20260329T010000
END:DAYLIGHT
BEGIN:STANDARD
TZOFFSETFROM:+0200
TZOFFSETTO:+0100
TZNAME:CET
DTSTART:20261025T010000
END:STANDARD
END:VTIMEZONE
BEGIN:VEVENT
DTSTART;TZID=Europe/Paris:20250917T180000
DTEND;TZID=Europe/Paris:20250917T180000
DTSTAMP:20260425T055248
CREATED:20250731T113912Z
LAST-MODIFIED:20250731T113912Z
UID:16732-1758132000-1758132000@www.ategal.com
SUMMARY:VIGO | Exposición Irene Ceballos
DESCRIPTION:El próximo miércoles 17 de septiembre las Aulas de Vigo se acercarán hasta la Pinacoteca Fernández del Riego para disfrutar de la exposición Irene Ceballos. Relato verídico de la viuda de Policarpo Sanz. Un conjunto de más de 30 obras que ahonda en el importante papel de Irene Ceballos para la ciudad de Vigo.
URL:https://www.ategal.com/evento-ategal/vigo-exposicion-irene-ceballos/
LOCATION:Ategal Vigo\, Travesía do Pino\, 2-entrechan\, Vigo\, Pontevedra
CATEGORIES:Vigo,Vigo
ATTACH;FMTTYPE=image/jpeg:https://www.ategal.com/wp-content/uploads/2025/07/Crateles-Vigo-Sept-2025_page-0002.jpg
END:VEVENT
END:VCALENDAR