BEGIN:VCALENDAR
VERSION:2.0
PRODID:-//Ategal - ECPv6.15.20//NONSGML v1.0//EN
CALSCALE:GREGORIAN
METHOD:PUBLISH
X-WR-CALNAME:Ategal
X-ORIGINAL-URL:https://www.ategal.com
X-WR-CALDESC:Eventos para Ategal
REFRESH-INTERVAL;VALUE=DURATION:PT1H
X-Robots-Tag:noindex
X-PUBLISHED-TTL:PT1H
BEGIN:VTIMEZONE
TZID:Europe/Paris
BEGIN:DAYLIGHT
TZOFFSETFROM:+0100
TZOFFSETTO:+0200
TZNAME:CEST
DTSTART:20240331T010000
END:DAYLIGHT
BEGIN:STANDARD
TZOFFSETFROM:+0200
TZOFFSETTO:+0100
TZNAME:CET
DTSTART:20241027T010000
END:STANDARD
BEGIN:DAYLIGHT
TZOFFSETFROM:+0100
TZOFFSETTO:+0200
TZNAME:CEST
DTSTART:20250330T010000
END:DAYLIGHT
BEGIN:STANDARD
TZOFFSETFROM:+0200
TZOFFSETTO:+0100
TZNAME:CET
DTSTART:20251026T010000
END:STANDARD
BEGIN:DAYLIGHT
TZOFFSETFROM:+0100
TZOFFSETTO:+0200
TZNAME:CEST
DTSTART:20260329T010000
END:DAYLIGHT
BEGIN:STANDARD
TZOFFSETFROM:+0200
TZOFFSETTO:+0100
TZNAME:CET
DTSTART:20261025T010000
END:STANDARD
END:VTIMEZONE
BEGIN:VEVENT
DTSTART;TZID=Europe/Paris:20250918T164500
DTEND;TZID=Europe/Paris:20250918T184500
DTSTAMP:20260425T055311
CREATED:20250731T114518Z
LAST-MODIFIED:20250731T114518Z
UID:16735-1758213900-1758221100@www.ategal.com
SUMMARY:VIGO | Repensar el ser mayor hoy
DESCRIPTION:Empieza el curso con los ya tradicionales talleres de salud y bienestar. El alumnado de Ategal Vigo podrá disfrutar de nuevos talleres sobre salud impartidos por la Dª Estefanía Zardoya. Estos se llevarán a cabo los jueves 18 y 25 de septiembre\, de 16:45 a 18:46 horas. \nEsta actividad cuenta con la financiación de la Diputación de Pontevedra.
URL:https://www.ategal.com/evento-ategal/vigo-repensar-el-ser-mayor-hoy/
LOCATION:Ategal Vigo\, Travesía do Pino\, 2-entrechan\, Vigo\, Pontevedra
CATEGORIES:Vigo,Vigo
ATTACH;FMTTYPE=image/jpeg:https://www.ategal.com/wp-content/uploads/2025/07/Crateles-Vigo-Sept-2025_page-0001.jpg
END:VEVENT
END:VCALENDAR