BEGIN:VCALENDAR
VERSION:2.0
PRODID:-//Ategal - ECPv6.15.20//NONSGML v1.0//EN
CALSCALE:GREGORIAN
METHOD:PUBLISH
X-ORIGINAL-URL:https://www.ategal.com
X-WR-CALDESC:Eventos para Ategal
REFRESH-INTERVAL;VALUE=DURATION:PT1H
X-Robots-Tag:noindex
X-PUBLISHED-TTL:PT1H
BEGIN:VTIMEZONE
TZID:Europe/Paris
BEGIN:DAYLIGHT
TZOFFSETFROM:+0100
TZOFFSETTO:+0200
TZNAME:CEST
DTSTART:20240331T010000
END:DAYLIGHT
BEGIN:STANDARD
TZOFFSETFROM:+0200
TZOFFSETTO:+0100
TZNAME:CET
DTSTART:20241027T010000
END:STANDARD
BEGIN:DAYLIGHT
TZOFFSETFROM:+0100
TZOFFSETTO:+0200
TZNAME:CEST
DTSTART:20250330T010000
END:DAYLIGHT
BEGIN:STANDARD
TZOFFSETFROM:+0200
TZOFFSETTO:+0100
TZNAME:CET
DTSTART:20251026T010000
END:STANDARD
BEGIN:DAYLIGHT
TZOFFSETFROM:+0100
TZOFFSETTO:+0200
TZNAME:CEST
DTSTART:20260329T010000
END:DAYLIGHT
BEGIN:STANDARD
TZOFFSETFROM:+0200
TZOFFSETTO:+0100
TZNAME:CET
DTSTART:20261025T010000
END:STANDARD
END:VTIMEZONE
BEGIN:VEVENT
DTSTART;TZID=Europe/Paris:20251024T173000
DTEND;TZID=Europe/Paris:20251024T193000
DTSTAMP:20260425T040128
CREATED:20251013T144750Z
LAST-MODIFIED:20251023T111900Z
UID:16826-1761327000-1761334200@www.ategal.com
SUMMARY:VIGO | Festival inicio de curso del CSC Coia
DESCRIPTION:El próximo 24 de octubre\, el grupo de baile de Ategas Vigo participará en el festival de inicio de curso del centro sociocultural Coia. El evento está abierto al público en general por lo que todo aquel que quiera asistir está invitado.
URL:https://www.ategal.com/evento-ategal/vigo-festiva-inicio-de-curso-del-csc-coia/
LOCATION:CSC Coia\, Rúa de Cangas\, 1\, B\, Coia\, 36209\, Vigo\, Pontevedra
CATEGORIES:Vigo,Vigo
ATTACH;FMTTYPE=image/jpeg:https://www.ategal.com/wp-content/uploads/2025/10/CARTEL-FESTIVAL-scaled.jpg
END:VEVENT
END:VCALENDAR