BEGIN:VCALENDAR
VERSION:2.0
PRODID:-//Ategal - ECPv6.15.20//NONSGML v1.0//EN
CALSCALE:GREGORIAN
METHOD:PUBLISH
X-WR-CALNAME:Ategal
X-ORIGINAL-URL:https://www.ategal.com
X-WR-CALDESC:Eventos para Ategal
REFRESH-INTERVAL;VALUE=DURATION:PT1H
X-Robots-Tag:noindex
X-PUBLISHED-TTL:PT1H
BEGIN:VTIMEZONE
TZID:Europe/Paris
BEGIN:DAYLIGHT
TZOFFSETFROM:+0100
TZOFFSETTO:+0200
TZNAME:CEST
DTSTART:20240331T010000
END:DAYLIGHT
BEGIN:STANDARD
TZOFFSETFROM:+0200
TZOFFSETTO:+0100
TZNAME:CET
DTSTART:20241027T010000
END:STANDARD
BEGIN:DAYLIGHT
TZOFFSETFROM:+0100
TZOFFSETTO:+0200
TZNAME:CEST
DTSTART:20250330T010000
END:DAYLIGHT
BEGIN:STANDARD
TZOFFSETFROM:+0200
TZOFFSETTO:+0100
TZNAME:CET
DTSTART:20251026T010000
END:STANDARD
BEGIN:DAYLIGHT
TZOFFSETFROM:+0100
TZOFFSETTO:+0200
TZNAME:CEST
DTSTART:20260329T010000
END:DAYLIGHT
BEGIN:STANDARD
TZOFFSETFROM:+0200
TZOFFSETTO:+0100
TZNAME:CET
DTSTART:20261025T010000
END:STANDARD
END:VTIMEZONE
BEGIN:VEVENT
DTSTART;TZID=Europe/Paris:20251031T110000
DTEND;TZID=Europe/Paris:20251031T110000
DTSTAMP:20260425T035918
CREATED:20251014T084800Z
LAST-MODIFIED:20251014T084800Z
UID:16835-1761908400-1761908400@www.ategal.com
SUMMARY:VIGO | Ruta histórico cultural por la ciudad
DESCRIPTION:En Ategal Vigo se une a las rutas Descubre Vigo que organiza el Ayuntamiento dentro de su programa Vigo\, ciudad amiga de las personas mayores.  \nEn la jornada\, que se llevará a cabo el 31 de octubre a las 11h\, servirá para conocer hechos y personajes fascinantes vinculados a Vigo a lo largo de la historia. El punto de encuentro será la Puerta del Sol\, junto al Sireno. \nLos interesados ya se pueden inscribir en el las Aulas Senior de Vigo.
URL:https://www.ategal.com/evento-ategal/vigo-ruta-historico-cultural-por-la-ciudad/
LOCATION:Vigo
CATEGORIES:Vigo,Vigo
END:VEVENT
END:VCALENDAR