BEGIN:VCALENDAR
VERSION:2.0
PRODID:-//Ategal - ECPv6.15.20//NONSGML v1.0//EN
CALSCALE:GREGORIAN
METHOD:PUBLISH
X-WR-CALNAME:Ategal
X-ORIGINAL-URL:https://www.ategal.com
X-WR-CALDESC:Eventos para Ategal
REFRESH-INTERVAL;VALUE=DURATION:PT1H
X-Robots-Tag:noindex
X-PUBLISHED-TTL:PT1H
BEGIN:VTIMEZONE
TZID:Europe/Paris
BEGIN:DAYLIGHT
TZOFFSETFROM:+0100
TZOFFSETTO:+0200
TZNAME:CEST
DTSTART:20240331T010000
END:DAYLIGHT
BEGIN:STANDARD
TZOFFSETFROM:+0200
TZOFFSETTO:+0100
TZNAME:CET
DTSTART:20241027T010000
END:STANDARD
BEGIN:DAYLIGHT
TZOFFSETFROM:+0100
TZOFFSETTO:+0200
TZNAME:CEST
DTSTART:20250330T010000
END:DAYLIGHT
BEGIN:STANDARD
TZOFFSETFROM:+0200
TZOFFSETTO:+0100
TZNAME:CET
DTSTART:20251026T010000
END:STANDARD
BEGIN:DAYLIGHT
TZOFFSETFROM:+0100
TZOFFSETTO:+0200
TZNAME:CEST
DTSTART:20260329T010000
END:DAYLIGHT
BEGIN:STANDARD
TZOFFSETFROM:+0200
TZOFFSETTO:+0100
TZNAME:CET
DTSTART:20261025T010000
END:STANDARD
END:VTIMEZONE
BEGIN:VEVENT
DTSTART;TZID=Europe/Paris:20251104T170000
DTEND;TZID=Europe/Paris:20251104T180000
DTSTAMP:20260425T021529
CREATED:20251028T121055Z
LAST-MODIFIED:20251028T121055Z
UID:16862-1762275600-1762279200@www.ategal.com
SUMMARY:VIGO | Dale ritmo a tu salud
DESCRIPTION:Nuevo taller de baile en las Aulas de Vigo\, que cuenta con la financiación de la Diputación de Pontevedra. \nLos martes y jueves de octubre\, noviembre y diciembre de 17 a 18h. Imparte Francia Sandoval.
URL:https://www.ategal.com/evento-ategal/vigo-dale-ritmo-a-tu-salud/
LOCATION:Ategal Vigo\, Travesía do Pino\, 2-entrechan\, Vigo\, Pontevedra
CATEGORIES:Vigo,Vigo
ATTACH;FMTTYPE=image/png:https://www.ategal.com/wp-content/uploads/2025/10/Dalle-Ritmo-a-tua-saude.png
END:VEVENT
BEGIN:VEVENT
DTSTART;TZID=Europe/Paris:20251104T180000
DTEND;TZID=Europe/Paris:20251104T193000
DTSTAMP:20260425T021529
CREATED:20251028T121311Z
LAST-MODIFIED:20251028T121311Z
UID:16865-1762279200-1762284600@www.ategal.com
SUMMARY:VIGO | Taller de felicidad y salud
DESCRIPTION:Nuevo taller de felicidad y salud en las Aulas de Vigo\, que cuenta con la financiación de la Diputación de Pontevedra. \nLos martes de octubre\, noviembre y diciembre de 18 a 19:30h. Imparte Begoña Roque.
URL:https://www.ategal.com/evento-ategal/vigo-taller-de-felicidad-y-salud/
LOCATION:Ategal Vigo\, Travesía do Pino\, 2-entrechan\, Vigo\, Pontevedra
CATEGORIES:Vigo,Vigo
ATTACH;FMTTYPE=image/png:https://www.ategal.com/wp-content/uploads/2025/10/Cartel-dalle-ledicia-a-tua-saude.png
END:VEVENT
END:VCALENDAR