BEGIN:VCALENDAR
VERSION:2.0
PRODID:-//Ategal - ECPv6.15.20//NONSGML v1.0//EN
CALSCALE:GREGORIAN
METHOD:PUBLISH
X-WR-CALNAME:Ategal
X-ORIGINAL-URL:https://www.ategal.com
X-WR-CALDESC:Eventos para Ategal
REFRESH-INTERVAL;VALUE=DURATION:PT1H
X-Robots-Tag:noindex
X-PUBLISHED-TTL:PT1H
BEGIN:VTIMEZONE
TZID:Europe/Paris
BEGIN:DAYLIGHT
TZOFFSETFROM:+0100
TZOFFSETTO:+0200
TZNAME:CEST
DTSTART:20240331T010000
END:DAYLIGHT
BEGIN:STANDARD
TZOFFSETFROM:+0200
TZOFFSETTO:+0100
TZNAME:CET
DTSTART:20241027T010000
END:STANDARD
BEGIN:DAYLIGHT
TZOFFSETFROM:+0100
TZOFFSETTO:+0200
TZNAME:CEST
DTSTART:20250330T010000
END:DAYLIGHT
BEGIN:STANDARD
TZOFFSETFROM:+0200
TZOFFSETTO:+0100
TZNAME:CET
DTSTART:20251026T010000
END:STANDARD
BEGIN:DAYLIGHT
TZOFFSETFROM:+0100
TZOFFSETTO:+0200
TZNAME:CEST
DTSTART:20260329T010000
END:DAYLIGHT
BEGIN:STANDARD
TZOFFSETFROM:+0200
TZOFFSETTO:+0100
TZNAME:CET
DTSTART:20261025T010000
END:STANDARD
END:VTIMEZONE
BEGIN:VEVENT
DTSTART;TZID=Europe/Paris:20251211T170000
DTEND;TZID=Europe/Paris:20251211T170000
DTSTAMP:20260425T004251
CREATED:20251120T115011Z
LAST-MODIFIED:20251120T115011Z
UID:16963-1765472400-1765472400@www.ategal.com
SUMMARY:VIGO | Fiesta de Navidad del Ayuntamiento de Vigo
DESCRIPTION:El grupo Canta con nós de las Aulas de Vigo participará en la fiesta de Navidad que organiza dicho ayuntamiento\, enmarcado en su programa de envejecimiento activo. \nOs esperamos\, el jueves 11 de diciembre a las 17h en el auditorio Mar de Vigo.
URL:https://www.ategal.com/evento-ategal/vigo-fiesta-de-navidad-del-ayuntamiento-de-vigo/
LOCATION:Auditorio Mar de Vigo
CATEGORIES:Vigo,Vigo
ATTACH;FMTTYPE=image/jpeg:https://www.ategal.com/wp-content/uploads/2025/11/WhatsApp-Image-2025-11-20-at-12.09.59.jpeg
END:VEVENT
END:VCALENDAR