BEGIN:VCALENDAR
VERSION:2.0
PRODID:-//Ategal - ECPv6.15.20//NONSGML v1.0//EN
CALSCALE:GREGORIAN
METHOD:PUBLISH
X-ORIGINAL-URL:https://www.ategal.com
X-WR-CALDESC:Eventos para Ategal
REFRESH-INTERVAL;VALUE=DURATION:PT1H
X-Robots-Tag:noindex
X-PUBLISHED-TTL:PT1H
BEGIN:VTIMEZONE
TZID:Europe/Paris
BEGIN:DAYLIGHT
TZOFFSETFROM:+0100
TZOFFSETTO:+0200
TZNAME:CEST
DTSTART:20250330T010000
END:DAYLIGHT
BEGIN:STANDARD
TZOFFSETFROM:+0200
TZOFFSETTO:+0100
TZNAME:CET
DTSTART:20251026T010000
END:STANDARD
BEGIN:DAYLIGHT
TZOFFSETFROM:+0100
TZOFFSETTO:+0200
TZNAME:CEST
DTSTART:20260329T010000
END:DAYLIGHT
BEGIN:STANDARD
TZOFFSETFROM:+0200
TZOFFSETTO:+0100
TZNAME:CET
DTSTART:20261025T010000
END:STANDARD
BEGIN:DAYLIGHT
TZOFFSETFROM:+0100
TZOFFSETTO:+0200
TZNAME:CEST
DTSTART:20270328T010000
END:DAYLIGHT
BEGIN:STANDARD
TZOFFSETFROM:+0200
TZOFFSETTO:+0100
TZNAME:CET
DTSTART:20271031T010000
END:STANDARD
END:VTIMEZONE
BEGIN:VEVENT
DTSTART;TZID=Europe/Paris:20260505T180000
DTEND;TZID=Europe/Paris:20260505T193000
DTSTAMP:20260423T170731
CREATED:20260423T095213Z
LAST-MODIFIED:20260423T095213Z
UID:17251-1778004000-1778009400@www.ategal.com
SUMMARY:VIGO | Quién quiere ser millonario
DESCRIPTION:Las Aulas de Vigo\, en colaboración con Solidariedade Internacional de Galicia\, tienen preparado un juego perfecto para aprender sobre economía y comercio. El próximo 5 de mayo organizan Quien quiere ser millonario en el centro de Ategal.
URL:https://www.ategal.com/evento-ategal/vigo-quien-quiere-ser-millonario/
LOCATION:Ategal Vigo\, Travesía do Pino\, 2-entrechan\, Vigo\, Pontevedra
CATEGORIES:Vigo,Vigo
ATTACH;FMTTYPE=image/png:https://www.ategal.com/wp-content/uploads/2026/04/QQSM-ATEGAL-VIGO.png
END:VEVENT
END:VCALENDAR