BEGIN:VCALENDAR
VERSION:2.0
PRODID:-//Ategal - ECPv6.15.20//NONSGML v1.0//EN
CALSCALE:GREGORIAN
METHOD:PUBLISH
X-ORIGINAL-URL:https://www.ategal.com
X-WR-CALDESC:Eventos para Ategal
REFRESH-INTERVAL;VALUE=DURATION:PT1H
X-Robots-Tag:noindex
X-PUBLISHED-TTL:PT1H
BEGIN:VTIMEZONE
TZID:Europe/Paris
BEGIN:DAYLIGHT
TZOFFSETFROM:+0100
TZOFFSETTO:+0200
TZNAME:CEST
DTSTART:20250330T010000
END:DAYLIGHT
BEGIN:STANDARD
TZOFFSETFROM:+0200
TZOFFSETTO:+0100
TZNAME:CET
DTSTART:20251026T010000
END:STANDARD
BEGIN:DAYLIGHT
TZOFFSETFROM:+0100
TZOFFSETTO:+0200
TZNAME:CEST
DTSTART:20260329T010000
END:DAYLIGHT
BEGIN:STANDARD
TZOFFSETFROM:+0200
TZOFFSETTO:+0100
TZNAME:CET
DTSTART:20261025T010000
END:STANDARD
BEGIN:DAYLIGHT
TZOFFSETFROM:+0100
TZOFFSETTO:+0200
TZNAME:CEST
DTSTART:20270328T010000
END:DAYLIGHT
BEGIN:STANDARD
TZOFFSETFROM:+0200
TZOFFSETTO:+0100
TZNAME:CET
DTSTART:20271031T010000
END:STANDARD
END:VTIMEZONE
BEGIN:VEVENT
DTSTART;VALUE=DATE:20260420
DTEND;VALUE=DATE:20260425
DTSTAMP:20260423T140215
CREATED:20260421T121116Z
LAST-MODIFIED:20260421T121116Z
UID:17238-1776643200-1777075199@www.ategal.com
SUMMARY:VIGO | Libros libres. Intercambio de libros
DESCRIPTION:Con motivo del Día del Libro\, las Aulas de Vigo tienen organizada una actividad muy especial. A lo largo de toda la semana\, los usuarios pueden llevar al centro un libro que ya hayan leído y coger otro que quieran leer. De esta forma\, se fomenta la lectura\, el reciclaje cultural y las conexiones interpersonales a través de los intercambios\, el compartir gustos y las recomendaciones.
URL:https://www.ategal.com/evento-ategal/vigo-libros-libres-intercambio-de-libros/
LOCATION:Ategal Vigo\, Travesía do Pino\, 2-entrechan\, Vigo\, Pontevedra
CATEGORIES:Vigo,Vigo
ATTACH;FMTTYPE=image/png:https://www.ategal.com/wp-content/uploads/2026/04/Intercambio-de-libros.png
END:VEVENT
BEGIN:VEVENT
DTSTART;TZID=Europe/Paris:20260424T180000
DTEND;TZID=Europe/Paris:20260424T180000
DTSTAMP:20260423T140215
CREATED:20260420T100510Z
LAST-MODIFIED:20260420T100556Z
UID:17222-1777053600-1777053600@www.ategal.com
SUMMARY:VIGO | Día del Libro
DESCRIPTION:Con motivo del Día del Libro\, que se celebra cada 23 de abril\, las Aulas de Vigo han organizado una jornada muy especial. Será el viernes 24 en el centro de Ategal\, donde el alumnado hará una obra de teatro leído: Sancho Panza y el caso de las 10 monedas. \nAdemás\, durante la jornada los asistentes podrán intercambiar libros. Podrán traer un libro y llevarse a casa otro que aún no hayan leído. De esta forma\, se fomenta  la lectura y una segunda vida para los libros pero también el intercambio de opiniones\, de gustos y de recomendaciones.
URL:https://www.ategal.com/evento-ategal/vigo-dia-del-libro-2/
LOCATION:Ategal Vigo\, Travesía do Pino\, 2-entrechan\, Vigo\, Pontevedra
CATEGORIES:Vigo,Vigo
ATTACH;FMTTYPE=image/jpeg:https://www.ategal.com/wp-content/uploads/2026/04/Cartel-Dia-del-Libro-2026.jpg
END:VEVENT
BEGIN:VEVENT
DTSTART;TZID=Europe/Paris:20260428T110000
DTEND;TZID=Europe/Paris:20260428T130000
DTSTAMP:20260423T140215
CREATED:20260320T085124Z
LAST-MODIFIED:20260410T071309Z
UID:17188-1777374000-1777381200@www.ategal.com
SUMMARY:VIGO | Descubre Vigo
DESCRIPTION:Las Aulas de Vigo colaboran con la iniciativa Vigo\, ciudad amiga de las personas mayores del Ayuntamineto. Lo hace participando en tres rutas histórico culturales sobre la ciudad: \n\nViernes\, 10 de abril. Descubre el arte urbano.\nMartes\, 28 de abril. 1809 la reconquista de Vigo.\nViernes\, 1 de mayo. Vigo de las letras gallegas.\n\nLas inscripciones están abiertas en la sede de Ategal. Plazas limitadas.
URL:https://www.ategal.com/evento-ategal/vigo-descubre-vigo/
LOCATION:Porta do sol. O sereo
CATEGORIES:Vigo,Vigo
ATTACH;FMTTYPE=image/jpeg:https://www.ategal.com/wp-content/uploads/2026/03/Descubre-Vigo-Rutas-historico-culturales-guiadas-para-maiores-de-65_page-0001.jpg
END:VEVENT
END:VCALENDAR