BEGIN:VCALENDAR
VERSION:2.0
PRODID:-//Ategal - ECPv6.15.20//NONSGML v1.0//EN
CALSCALE:GREGORIAN
METHOD:PUBLISH
X-ORIGINAL-URL:https://www.ategal.com
X-WR-CALDESC:Eventos para Ategal
REFRESH-INTERVAL;VALUE=DURATION:PT1H
X-Robots-Tag:noindex
X-PUBLISHED-TTL:PT1H
BEGIN:VTIMEZONE
TZID:Europe/Paris
BEGIN:DAYLIGHT
TZOFFSETFROM:+0100
TZOFFSETTO:+0200
TZNAME:CEST
DTSTART:20180325T010000
END:DAYLIGHT
BEGIN:STANDARD
TZOFFSETFROM:+0200
TZOFFSETTO:+0100
TZNAME:CET
DTSTART:20181028T010000
END:STANDARD
BEGIN:DAYLIGHT
TZOFFSETFROM:+0100
TZOFFSETTO:+0200
TZNAME:CEST
DTSTART:20190331T010000
END:DAYLIGHT
BEGIN:STANDARD
TZOFFSETFROM:+0200
TZOFFSETTO:+0100
TZNAME:CET
DTSTART:20191027T010000
END:STANDARD
BEGIN:DAYLIGHT
TZOFFSETFROM:+0100
TZOFFSETTO:+0200
TZNAME:CEST
DTSTART:20200329T010000
END:DAYLIGHT
BEGIN:STANDARD
TZOFFSETFROM:+0200
TZOFFSETTO:+0100
TZNAME:CET
DTSTART:20201025T010000
END:STANDARD
END:VTIMEZONE
BEGIN:VEVENT
DTSTART;TZID=Europe/Paris:20190204T170000
DTEND;TZID=Europe/Paris:20190204T180000
DTSTAMP:20260423T231240
CREATED:20190127T183016Z
LAST-MODIFIED:20190204T150426Z
UID:2770-1549299600-1549303200@www.ategal.com
SUMMARY:Curso de tabletas en Ategal A Coruña
DESCRIPTION:Las aulas de Ategal A Coruña celebra todos los lunes de febrero a las 17.00 horas en su sede (Fonseca\, 8) un curso específico de tablets para personas de más de 50 años.  \nEl precio es de 10 € para alumnado y 20 € para el resto.  \nEl curso es gratuito para alumnos y alumnas de Informática que se hayan matriculado a principio de curso.
URL:https://www.ategal.com/evento-ategal/curso-de-tableta-en-ategal-a-coruna/
LOCATION:Ategal A Coruña\, A Coruña
ATTACH;FMTTYPE=image/jpeg:https://www.ategal.com/wp-content/uploads/2019/01/TabletsAtegal-1.jpg
END:VEVENT
BEGIN:VEVENT
DTSTART;TZID=Europe/Paris:20190204T181500
DTEND;TZID=Europe/Paris:20190204T193000
DTSTAMP:20260423T231240
CREATED:20190127T181108Z
LAST-MODIFIED:20190127T181120Z
UID:2764-1549304100-1549308600@www.ategal.com
SUMMARY:Lecturas y presentaciones en Ategal Vigo
DESCRIPTION:El lunes 4 de febrero a las 18.15 horas las Aulas Senior de Ategal Vigo\, en colaboración con el Voluntariado Cultural del Concello de Vigo\, celebran en su sede (Travesía do Pino\, 2-entrechan) la sesión de lecturas y presentaciones: ‘Las vanguardias literarias\, la proliferación de los ismos’. 
URL:https://www.ategal.com/evento-ategal/lecturas-y-presentaciones-en-ategal-vigo/
LOCATION:Ategal Vigo\, Travesía do Pino\, 2-entrechan\, Vigo
END:VEVENT
BEGIN:VEVENT
DTSTART;TZID=Europe/Paris:20190205T180000
DTEND;TZID=Europe/Paris:20190205T190000
DTSTAMP:20260423T231240
CREATED:20190131T130213Z
LAST-MODIFIED:20190205T163059Z
UID:2792-1549389600-1549393200@www.ategal.com
SUMMARY:Visita guiada al pórtico de la Gloria del alumnado de Ategal Santiago
DESCRIPTION:El martes 5 de febrero a las 18.00 horas la sede de Ategal Santiago organiza una visita guiada al Pórtico de la Gloria de la Catedral de Santiago.  \nEl punto de encuentro para todas las personas inscritas será en el mismo Pórtico cinco minutos antes de la visita. \nMás información en las propias aulas de Santiago en Virxe da Cerca\, 31 o en el teléfono de su sede: 981 581 533
URL:https://www.ategal.com/evento-ategal/visita-guiada-al-portico-de-la-gloria-del-alumnado-de-ategal-santiago/
LOCATION:Catedral de Santiago\, Praza do Obradoiro
ATTACH;FMTTYPE=image/jpeg:https://www.ategal.com/wp-content/uploads/2019/01/Portico.jpg
END:VEVENT
BEGIN:VEVENT
DTSTART;TZID=Europe/Paris:20190205T180000
DTEND;TZID=Europe/Paris:20190205T200000
DTSTAMP:20260423T231240
CREATED:20190131T124530Z
LAST-MODIFIED:20190131T124544Z
UID:2789-1549389600-1549396800@www.ategal.com
SUMMARY:'Taller de autoestima y superación de problemas' en Ategal Vigo
DESCRIPTION:Las aulas de Ategal de Vigo celebran el próximo martes 5 de febrero a las 18.00 horas en su sede (Travesía do Pino\, 2-entresuelo A y B) un ‘Taller de autoestima y superación de problemas’ para personas mayores de 65 años.  \nLa jornada va a ser impartida por profesionales de la Cruz Roja Galicia. \n  \n 
URL:https://www.ategal.com/evento-ategal/taller-de-autoestima-y-superacion-de-problemas-en-ategal-vigo/
LOCATION:Ategal Vigo\, Travesía do Pino\, 2-entrechan\, Vigo
END:VEVENT
BEGIN:VEVENT
DTSTART;TZID=Europe/Paris:20190207T180000
DTEND;TZID=Europe/Paris:20190207T190000
DTSTAMP:20260423T231240
CREATED:20190131T160217Z
LAST-MODIFIED:20190205T162833Z
UID:2797-1549562400-1549566000@www.ategal.com
SUMMARY:Ategal Santiago organiza un visita guiada al Pórtico de la Gloria
DESCRIPTION:El jueves 7 de febrero a las 18.00 horas la sede de Ategal Santiago organiza una visita guiada al Pórtico de la Gloria de la Catedral de Santiago.  \nEl punto de encuentro para todas las personas inscritas será en el mismo Pórtico cinco minutos antes de la visita. \nMás información en las propias aulas de Santiago en Virxe da Cerca\, 31 o en el teléfono de su sede: 981 581 533
URL:https://www.ategal.com/evento-ategal/ategal-santiago-organiza-un-visita-guiada-al-portico-de-la-gloria/
LOCATION:Catedral de Santiago\, Praza do Obradoiro
ATTACH;FMTTYPE=image/jpeg:https://www.ategal.com/wp-content/uploads/2019/01/Portico.jpg
END:VEVENT
BEGIN:VEVENT
DTSTART;TZID=Europe/Paris:20190211T170000
DTEND;TZID=Europe/Paris:20190211T180000
DTSTAMP:20260423T231240
CREATED:20190201T103124Z
LAST-MODIFIED:20190201T103133Z
UID:2823-1549904400-1549908000@www.ategal.com
SUMMARY:Curso de tabletas en Ategal A Coruña
DESCRIPTION:Las aulas de Ategal A Coruña celebra todos los lunes de febrero a las 17.00 horas en su sede (Fonseca\, 8) un curso específico de tablets para personas de más de 50 años.  \nEl precio es de 10 € para alumnado y 20 € para el resto.  \nEl curso es gratuito para alumnos y alumnas de Informática que se hayan matriculado a principio de curso.
URL:https://www.ategal.com/evento-ategal/curso-de-tabletas-en-ategal-a-coruna/
LOCATION:Ategal A Coruña\, A Coruña
END:VEVENT
BEGIN:VEVENT
DTSTART;TZID=Europe/Paris:20190212T170000
DTEND;TZID=Europe/Paris:20190212T190000
DTSTAMP:20260423T231240
CREATED:20190131T161030Z
LAST-MODIFIED:20190131T162612Z
UID:2799-1549990800-1549998000@www.ategal.com
SUMMARY:'Cine Fórum' en Ategal Vigo: "Vacaciones en Roma"
DESCRIPTION:(Filmaffinity)\nLas aulas de Ategal de Vigo proyectan el martes 12 de febrero a las 17.30 horas en su sede (Travesía do Pino\, 2-entresuelos A y B)la película ‘Vacaciones en Roma’. \nSe trata de la segunda sesión de su programa ‘Cine Fórum’ que se celebra todos los segundos martes de cada mes\, entre enero y mayo. \nMás información sobre la película y trailer en este enlace directo (por Filmaffinity). \n 
URL:https://www.ategal.com/evento-ategal/cine-forum-en-ategal-vigo-vacaciones-en-roma/
LOCATION:Pontevedra
END:VEVENT
BEGIN:VEVENT
DTSTART;TZID=Europe/Paris:20190215T103000
DTEND;TZID=Europe/Paris:20190215T123000
DTSTAMP:20260423T231240
CREATED:20190214T112052Z
LAST-MODIFIED:20190214T112052Z
UID:2864-1550226600-1550233800@www.ategal.com
SUMMARY:Camiñada saudable
DESCRIPTION:Este venres 15 vos animamos a todos a empezar a camiñar no 2019 con ATEGAL por Sar e o Eugenio Granell
URL:https://www.ategal.com/evento-ategal/caminada-saudable/
LOCATION:Ategal Santiago\, Rúa Virxe da Cerca\, 31\, Santiago de Compostela\, A Coruña
ATTACH;FMTTYPE=image/jpeg:https://www.ategal.com/wp-content/uploads/2016/11/cidade-da-cultura.jpg
END:VEVENT
BEGIN:VEVENT
DTSTART;TZID=Europe/Paris:20190215T170000
DTEND;TZID=Europe/Paris:20190215T190000
DTSTAMP:20260423T231240
CREATED:20190201T101414Z
LAST-MODIFIED:20190201T101634Z
UID:2816-1550250000-1550257200@www.ategal.com
SUMMARY:Visita guiada de Ategal Padrón a la exposición 'Proxecto Libertas' de la Fundación Camilo José Cela
DESCRIPTION:El viernes 15 de febrero a las 17.00 horas las aulas de Ategal Padrón organizan una visita a la exposición ‘Proxecto Libertas’ de la Fundación Camilo José Cela\, que será guiada por el comisario de la muestra\, Olegario Sampedro.  \nLas personas interesadas en acudir deben anotarse en las oficinas de Ategal Padrón (Campo do Souto\, 2). \nTríptico y más información de la exposición en este enlace directo. 
URL:https://www.ategal.com/evento-ategal/visita-guiada-de-ategal-padron-a-la-exposicion-proxecto-libertas-de-la-fundacion-camilo-jose-cela/
LOCATION:Fundación Camilo José Cela\, Padrón
END:VEVENT
BEGIN:VEVENT
DTSTART;TZID=Europe/Paris:20190216T090000
DTEND;TZID=Europe/Paris:20190217T230000
DTSTAMP:20260423T231240
CREATED:20190201T102802Z
LAST-MODIFIED:20190201T102802Z
UID:2821-1550307600-1550444400@www.ategal.com
SUMMARY:El alumnado de Ategal Padrón viaja a La Alberca\, Peña de Francia\, Mogarraz\, Ciudad Rodrígo y Viseu.
DESCRIPTION:El 16 y 17 de febrero el alumnado de Ategal organiza un viaje a La Alberca\, Peña de Francia\, Mogarraz\, Ciudad Rodrígo y Viseu. 
URL:https://www.ategal.com/evento-ategal/el-alumnado-de-ategal-padron-viaja-a-la-alberca-pena-de-francia-mogarraz-ciudad-rodrigo-y-viseu/
LOCATION:Pontevedra
END:VEVENT
BEGIN:VEVENT
DTSTART;TZID=Europe/Paris:20190218T170000
DTEND;TZID=Europe/Paris:20190218T180000
DTSTAMP:20260423T231240
CREATED:20190201T103254Z
LAST-MODIFIED:20190201T103441Z
UID:2825-1550509200-1550512800@www.ategal.com
SUMMARY:Curso de tabletas en Ategal A Coruña
DESCRIPTION:Las aulas de Ategal A Coruña celebra todos los lunes de febrero a las 17.00 horas en su sede (Fonseca\, 8) un curso específico de tablets para personas de más de 50 años.  \nEl precio es de 10 € para alumnado y 20 € para el resto.  \nEl curso es gratuito para alumnos y alumnas de Informática que se hayan matriculado a principio de curso.
URL:https://www.ategal.com/evento-ategal/curso-de-tabletas-en-ategal-a-coruna-2/
LOCATION:Ategal A Coruña\, A Coruña
END:VEVENT
BEGIN:VEVENT
DTSTART;TZID=Europe/Paris:20190219T170000
DTEND;TZID=Europe/Paris:20190219T190000
DTSTAMP:20260423T231240
CREATED:20190214T184129Z
LAST-MODIFIED:20190215T230008Z
UID:2868-1550595600-1550602800@www.ategal.com
SUMMARY:Segundo taller do curso "Unha saúde de cine" nas Aulas de Santiago
DESCRIPTION:O 19 de febreiro terá lugar en Santiago o segundo taller do curso «Unha saúde de cine» co taller «Unha odisea no espacio: descanso e saúde». \nO resto de talleres realizaranse\, de 17 a 19 horas o 21 de marzo\, 11 abril\, 21 maio e o 18 de xuño. \nTodos os talleres serán impartidos por Estefanía Zardoya\, médico de familia e coach. \nAberto ao público.
URL:https://www.ategal.com/evento-ategal/segundo-taller-do-curso-unha-saude-de-cine-nas-aulas-de-santiago/
LOCATION:Ategal Santiago\, Rúa Virxe da Cerca\, 31\, Santiago de Compostela\, A Coruña
END:VEVENT
BEGIN:VEVENT
DTSTART;TZID=Europe/Paris:20190219T183000
DTEND;TZID=Europe/Paris:20190219T200000
DTSTAMP:20260423T231240
CREATED:20190201T112320Z
LAST-MODIFIED:20190201T112452Z
UID:2829-1550601000-1550606400@www.ategal.com
SUMMARY:Charla teórico práctica 'Escuela de Espalda' en Ategal Vigo
DESCRIPTION:Ategal Vigo\, en colaboración con Afaga Alzheimer Vigo\, celebra en su sede (Travesía do Pino\, 2) el martes 19 de febrero a las 18.30 horas la charla teórico práctica ‘Escuela de la espalda’. \nLa imparte la fisioterapeuta de Afaga\, Vanesa López Miguéns.  \nLas plazas son limitadas a 20 personas.  \nPara participar es necesario inscribirse en la secretaría de la sede de Ategal Vigo.  \n 
URL:https://www.ategal.com/evento-ategal/2829/
LOCATION:Ategal Vigo\, Travesía do Pino\, 2-entrechan\, Vigo
ATTACH;FMTTYPE=image/jpeg:https://www.ategal.com/wp-content/uploads/2019/02/Outdoor-Fitness-Routines.jpg
END:VEVENT
BEGIN:VEVENT
DTSTART;TZID=Europe/Paris:20190219T200000
DTEND;TZID=Europe/Paris:20190219T213000
DTSTAMP:20260423T231240
CREATED:20190218T110448Z
LAST-MODIFIED:20190218T110457Z
UID:2929-1550606400-1550611800@www.ategal.com
SUMMARY:Conferencia de José Ramón Busto en Ategal A Coruña
DESCRIPTION:Las aulas de Ategal A Coruña organiza el martes 19 de febrero la conferencia de José Ramón Busto\, «La visión del hombre en la espiritualidad ignaciada. Creados a imagen y semejanza de Dios». \nLa actividad se celebra en el salón de actos (primer piso) a las 20.00 horas. 
URL:https://www.ategal.com/evento-ategal/conferencia-de-jose-ramon-busto-en-ategal-a-coruna/
LOCATION:Ategal A Coruña\, A Coruña
END:VEVENT
BEGIN:VEVENT
DTSTART;TZID=Europe/Paris:20190220T200000
DTEND;TZID=Europe/Paris:20190220T213000
DTSTAMP:20260423T231240
CREATED:20190218T111124Z
LAST-MODIFIED:20190218T111240Z
UID:2931-1550692800-1550698200@www.ategal.com
SUMMARY:Conferencia de José Ramón Busto en Ategal A Coruña
DESCRIPTION:Las aulas Ategal A Coruña acogen una nueva conferencia de José Ramón Busto\, continuación de la impartida el día anterior. \nSerá el miércoles 20 de febrero a las 20.00 horas en el salón de actos del primer piso. Y el título: «La visión del hombre en la espiritualidad ignaciana. Destinados a reproducir la imagen de su hijo». 
URL:https://www.ategal.com/evento-ategal/2931/
LOCATION:Ategal A Coruña\, A Coruña
END:VEVENT
BEGIN:VEVENT
DTSTART;TZID=Europe/Paris:20190222T170000
DTEND;TZID=Europe/Paris:20190222T183000
DTSTAMP:20260423T231240
CREATED:20190211T204322Z
LAST-MODIFIED:20190221T165417Z
UID:2856-1550854800-1550860200@www.ategal.com
SUMMARY:'Club de lectura' en Ategal Padrón: 'Abuelas' de Doris Lessing
DESCRIPTION:Las aulas de Ategal Padrón\, en colaboración con la Fundación Camilo José Cela\, celebran el viernes 22 de febrero una nueva sesión de su Club de Lectura. \nEn esta ocasión con la obra «Las Abuelas» de la autora Doris Lessing. \n 
URL:https://www.ategal.com/evento-ategal/club-de-lectura-en-ategal-padron-abuelas-de-doris-lessing/
LOCATION:Ategal Padrón
ATTACH;FMTTYPE=image/jpeg:https://www.ategal.com/wp-content/uploads/2019/02/download-1.jpg
END:VEVENT
BEGIN:VEVENT
DTSTART;TZID=Europe/Paris:20190222T180000
DTEND;TZID=Europe/Paris:20190222T200000
DTSTAMP:20260423T231240
CREATED:20190218T112043Z
LAST-MODIFIED:20190221T163140Z
UID:2934-1550858400-1550865600@www.ategal.com
SUMMARY:Cine Forum en Ategal A Coruña: "Conversaciones con mi jardinero"
DESCRIPTION:Las aulas Ategal A Coruña celebra este viernes 22 de febrero una nueva sesión de Cine Forum a las 18.00 horas en el aula del segundo piso: «Conversaciones con mi jardinero«. \nTRAILER\, Sinopsis y más información sobre la película en este enlace (vía filmaffinity).
URL:https://www.ategal.com/evento-ategal/cine-forum-en-ategal-a-coruna-conversaciones-con-mi-jardinero/
LOCATION:Ategal A Coruña\, A Coruña
END:VEVENT
BEGIN:VEVENT
DTSTART;TZID=Europe/Paris:20190225T170000
DTEND;TZID=Europe/Paris:20190225T180000
DTSTAMP:20260423T231240
CREATED:20190201T103549Z
LAST-MODIFIED:20190201T103556Z
UID:2827-1551114000-1551117600@www.ategal.com
SUMMARY:Curso de tabletas en Ategal A Coruña
DESCRIPTION:Las aulas de Ategal A Coruña celebra todos los lunes de febrero a las 17.00 horas en su sede (Fonseca\, 8) un curso específico de tablets para personas de más de 50 años.  \nEl precio es de 10 € para alumnado y 20 € para el resto.  \nEl curso es gratuito para alumnos y alumnas de Informática que se hayan matriculado a principio de curso.
URL:https://www.ategal.com/evento-ategal/curso-de-tabletas-en-ategal-a-coruna-3/
LOCATION:Ategal A Coruña\, A Coruña
END:VEVENT
BEGIN:VEVENT
DTSTART;TZID=Europe/Paris:20190226T090000
DTEND;TZID=Europe/Paris:20190226T203000
DTSTAMP:20260423T231240
CREATED:20190215T100601Z
LAST-MODIFIED:20190225T215620Z
UID:2908-1551171600-1551213000@www.ategal.com
SUMMARY:Viaje a Lalín y cocido de Entroido de Ategal Ferrol y Ategal Ourense
DESCRIPTION:Las aulas de Ategal Ferrol y Ategal Ourense organizan\, para el 26 de febrero\, un viaje a Lalín con visita a la Casa do Patrón\, Museo Aller (Laxeiro) y Pazo de Liñares. Además\, comerán un cocido de Entroido en destino. \nMás información e inscripciones en Ategal Ferrol y Ategal Ourense: \n\nProgreso\, 66 Entrechán A\, 32003 Ourense\n\n\n Tel: 988 215 077\n\n\n Mvl: 634 910 125\n\nourense@ategal.com\n\nGaliano\, 17-Planta 1\, 15402 Ferrol\n\n\n Tel: 981 356 202\n\n\n Mvl: 634 910 118\n\nferrol@ategal.com\n\n\n\n\n\n 
URL:https://www.ategal.com/evento-ategal/2908/
LOCATION:Ategal Padrón
END:VEVENT
BEGIN:VEVENT
DTSTART;TZID=Europe/Paris:20190226T183000
DTEND;TZID=Europe/Paris:20190226T203000
DTSTAMP:20260423T231240
CREATED:20190214T234341Z
LAST-MODIFIED:20190214T234602Z
UID:2893-1551205800-1551213000@www.ategal.com
SUMMARY:Audiciones comentadas en Ategal Vigo: 'La Traviata' y 'Aida'
DESCRIPTION:Ategal Vigo celebra el martes 26 de febrero a partir de las 18.30 horas\, una nueva sesión de sus ‘Audiciones Comentadas’. En esta ocasión dedicadas a Verdi\, con las obras\, ‘La Traviata’ y ‘Aida’  \nAtegal Vigo: \nTravesía do Pino 2\, Entrechán \, 36205 Vigo\n\n\n Tel: 986 481 600\n\n\n Mvl: 634 910 119
URL:https://www.ategal.com/evento-ategal/audiciones-comentadas-en-ategal-vigo-la-traviata-y-aida/
LOCATION:Ategal Vigo\, Travesía do Pino\, 2-entrechan\, Vigo
ATTACH;FMTTYPE=image/jpeg:https://www.ategal.com/wp-content/uploads/2019/02/download-2.jpg
END:VEVENT
BEGIN:VEVENT
DTSTART;TZID=Europe/Paris:20190227T090000
DTEND;TZID=Europe/Paris:20190227T190000
DTSTAMP:20260423T231240
CREATED:20190214T233645Z
LAST-MODIFIED:20190220T223037Z
UID:2887-1551258000-1551294000@www.ategal.com
SUMMARY:Visita ao 'Museo do Traxe' de Ordes\, cocido de Entroido e concurso de disfraces
DESCRIPTION:O martes 27 de febreiro as aulas de Ategal Santiago realizan unha visita ao Museo do Traxe de Ordes e\, despois\, teñen un cocido de entroido e un concurso de disfraces.  \nMáis información en Ategal Santiago: \n\nRúa Virxe da Cerca 31\, 15703 Santiago de Compostela\n\n\n Tel: 981 581 533\n\n\n Fax: 981 585 657\n\n\n Mvl: 618 184 344\n\ncoordinacion@ategal.com\n\n\n 
URL:https://www.ategal.com/evento-ategal/2887/
LOCATION:Ordes
ATTACH;FMTTYPE=image/jpeg:https://www.ategal.com/wp-content/uploads/2019/02/Ordes.jpg
END:VEVENT
BEGIN:VEVENT
DTSTART;TZID=Europe/Paris:20190227T100000
DTEND;TZID=Europe/Paris:20190227T210000
DTSTAMP:20260423T231240
CREATED:20190214T235609Z
LAST-MODIFIED:20190218T200948Z
UID:2899-1551261600-1551301200@www.ategal.com
SUMMARY:Visita guiada al 'Pórtico de la Gloria' de la catedral de Santiago
DESCRIPTION:Ategal Vigo organiza una excursión a Santiago de Compostela para una visita guiada al Pórtico de la Gloria\, el Museo de las Peregrinaciones y la Colegiata del Sar. Después\, paseo por el casco histórico\, patrimonio de la humanidad. \nSerá el miércoles 27 de febrero con salida a las 10.00 horas de la plaza Fernando el Católico de la ciudad olívica. \nLas personas interesadas deben inscribirse entre el 4 y el 22 de febrero en Ategal Vigo: \nTravesía do Pino 2\, Entrechán \, 36205 Vigo\n\n\n Tel: 986 481 600\n\n\n Mvl: 634 910 119\n\nvigo@ategal.com
URL:https://www.ategal.com/evento-ategal/2899/
LOCATION:Santiago de Compostela
ATTACH;FMTTYPE=image/jpeg:https://www.ategal.com/wp-content/uploads/2019/01/Portico.jpg
END:VEVENT
BEGIN:VEVENT
DTSTART;TZID=Europe/Paris:20190227T170000
DTEND;TZID=Europe/Paris:20190227T190000
DTSTAMP:20260423T231240
CREATED:20190219T230615Z
LAST-MODIFIED:20190219T231259Z
UID:2963-1551286800-1551294000@www.ategal.com
SUMMARY:2ª sesión en Ourense del proyecto 'Talento Senior. Liderando mi salud. Pautas para una salud de cine'
DESCRIPTION:El miércoles 27 de febrero entre las 17.00 h. y las 19.00 h. las aulas de Ategal Ourense y Viaqua organizan en el centro municipal La Molinera de la ciudad\, la 2º sesión del proyecto ‘Talento Senior. Liderando mi salud. Pautas para tener una salud de cine’. \nEn esta ocasión el taller\, impartido por  se basará en la película ‘2001 Una odisea del espacio: descanso y salud’. \nTodos los talleres están impartidos por la médica de familia y coach\, Estefanía Zardoya.  \nMás información y detalles sobre el proyecto en este enlace directo. 
URL:https://www.ategal.com/evento-ategal/2a-sesion-en-ourense-del-proyecto-talento-senior-liderando-mi-salud-pautas-para-una-salud-de-cine/
LOCATION:Centro Municipal La Molinera\, Ourense
ATTACH;FMTTYPE=image/jpeg:https://www.ategal.com/wp-content/uploads/2019/02/AtegalViaquaOU-13.jpg
END:VEVENT
BEGIN:VEVENT
DTSTART;TZID=Europe/Paris:20190228T090000
DTEND;TZID=Europe/Paris:20190228T190000
DTSTAMP:20260423T231240
CREATED:20190221T132855Z
LAST-MODIFIED:20190221T132955Z
UID:2988-1551344400-1551380400@www.ategal.com
SUMMARY:Ategal Padrón disfruta del 'Balneario de Cuntis' dentro del 'Programa Termal'
DESCRIPTION:El alumnado de Ategal Padrón acudirá a disfrutar del Balneario de Cuntis el jueves 28 de febrero. \nLa actividad se engloba dentro del Programa Termal en el que está subscrito Ategal. \n 
URL:https://www.ategal.com/evento-ategal/2988/
LOCATION:Balneario de Cuntis\, Cuntis
END:VEVENT
BEGIN:VEVENT
DTSTART;TZID=Europe/Paris:20190228T180000
DTEND;TZID=Europe/Paris:20190228T200000
DTSTAMP:20260423T231240
CREATED:20190219T185010Z
LAST-MODIFIED:20190219T194537Z
UID:2948-1551376800-1551384000@www.ategal.com
SUMMARY:Visita a la ciudad vieja en A Coruña
DESCRIPTION:Las aulas de Ategal A Coruña organizan una visita guiada por el profesor José Doval a la ciudad vieja para este jueves 28 de febrero. \nEl punto de encuentro es a las 18.00 horas en la entrada principal del Palacio de Capitanía.
URL:https://www.ategal.com/evento-ategal/visita-a-la-ciudad-vieja-en-a-coruna/
LOCATION:Palacio de Capitanía\, A Coruña
END:VEVENT
BEGIN:VEVENT
DTSTART;TZID=Europe/Paris:20190228T190000
DTEND;TZID=Europe/Paris:20190228T203000
DTSTAMP:20260423T231240
CREATED:20190219T185309Z
LAST-MODIFIED:20190219T194302Z
UID:2952-1551380400-1551385800@www.ategal.com
SUMMARY:Concierto de la Orquesta Militar en A Coruña
DESCRIPTION:La sede de A Coruña de Ategal acudirá el jueves 28 de febrero a las 19.00 horas a un concierto de la Orquesta Militar que se celebra en Capitanía.
URL:https://www.ategal.com/evento-ategal/concierto-de-la-orquesta-militar-en-a-coruna/
LOCATION:Capitanía de A Coruña
END:VEVENT
BEGIN:VEVENT
DTSTART;TZID=Europe/Paris:20190228T200000
DTEND;TZID=Europe/Paris:20190228T213000
DTSTAMP:20260423T231240
CREATED:20190219T194139Z
LAST-MODIFIED:20190219T194202Z
UID:2955-1551384000-1551389400@www.ategal.com
SUMMARY:'Espacio Taizé. La Paz' de Ategal A Coruña
DESCRIPTION:Las aulas Ategal A Coruña organizan para el jueves 28 de febrero una nueva jornada del ‘Espacio Taizé’ dedicado en esta ocasión a la paz. \nSe celebra a las 20.00 horas en la Iglesia del Sagrado Corazón de A Coruña. 
URL:https://www.ategal.com/evento-ategal/espacio-taize-la-paz-de-ategal-a-coruna/
LOCATION:Iglesia Sagrado Corazón de A Coruña
END:VEVENT
BEGIN:VEVENT
DTSTART;TZID=Europe/Paris:20190301T183000
DTEND;TZID=Europe/Paris:20190301T210000
DTSTAMP:20260423T231240
CREATED:20190301T001049Z
LAST-MODIFIED:20190301T001103Z
UID:3034-1551465000-1551474000@www.ategal.com
SUMMARY:Festa de Entroido\, merenda con 'orellas' e baile de disfraces en Ategal Vigo
DESCRIPTION:As aulas de Ategal Vigo organizan unha festa de Entroido con merenda\, ‘orellas’ típicas fritidas\, e baile de disfraces. \nCelébrase o venres 1 de marzo a partires das 18.30 horas na súa sede: Travesía do Pino\, 2-entrechan. \nPrezo: 5 € por persoa \n 
URL:https://www.ategal.com/evento-ategal/festa-de-entroido-merenda-con-orellas-e-baile-de-disfraces-en-ategal-vigo/
LOCATION:Ategal Vigo\, Travesía do Pino\, 2-entrechan\, Vigo
ATTACH;FMTTYPE=image/jpeg:https://www.ategal.com/wp-content/uploads/2019/03/DisfracesVigo2.jpg
END:VEVENT
BEGIN:VEVENT
DTSTART;TZID=Europe/Paris:20190304T170000
DTEND;TZID=Europe/Paris:20190304T180000
DTSTAMP:20260423T231240
CREATED:20190127T184407Z
LAST-MODIFIED:20190318T101907Z
UID:2773-1551718800-1551722400@www.ategal.com
SUMMARY:Danzaterapia basada en bailes latinos en Ategal A Coruña
DESCRIPTION:La sede de Ategal A Coruña (Fonseca\, 8) celebra todos los lunes de marzo a las 17.00 horas un curso de danzaterapia basada en bailes latinos. \nPrecio: 10 € alumnado de las aulas \n20 € no alumnos o alumnas \nAtegal A Coruña: \nRúa Fonseca 8.\nTel: 981 216 863\n\ncoruna@ategal.com
URL:https://www.ategal.com/evento-ategal/danzaterapia-basada-en-bailes-latinos-en-ategal-a-coruna/
LOCATION:Ategal A Coruña\, A Coruña
ATTACH;FMTTYPE=image/jpeg:https://www.ategal.com/wp-content/uploads/2019/01/older-adult-1546130__340.jpg
END:VEVENT
BEGIN:VEVENT
DTSTART;TZID=Europe/Paris:20190306T163000
DTEND;TZID=Europe/Paris:20190306T173000
DTSTAMP:20260423T231240
CREATED:20190214T190233Z
LAST-MODIFIED:20190305T124515Z
UID:2881-1551889800-1551893400@www.ategal.com
SUMMARY:Visitas guiadas ao Pórtico da Gloria do alumnado de Ategal Santiago
DESCRIPTION:O mércores 6 de marzo a sede de Ategal de Santiago organiza dúas visitas guiadas ao Pórtico da Gloria de Santiago de Compostela. \nO punto de encontro para todas as persoas inscritas será no Palacio de Xelmírez 10 minutos antes da visita. \nMáis información nas propias aulas de Santiago na Virxe da Cerca\, 31 ou no teléfono da súa sede: 981 581 533 
URL:https://www.ategal.com/evento-ategal/visitas-guiadas-ao-portico-da-gloria-do-alumnado-de-ategal-santiago/
LOCATION:Ategal Santiago\, Rúa Virxe da Cerca\, 31\, Santiago de Compostela\, A Coruña
ATTACH;FMTTYPE=image/jpeg:https://www.ategal.com/wp-content/uploads/2019/01/Portico.jpg
END:VEVENT
END:VCALENDAR