BEGIN:VCALENDAR
VERSION:2.0
PRODID:-//Ategal - ECPv6.15.20//NONSGML v1.0//EN
CALSCALE:GREGORIAN
METHOD:PUBLISH
X-ORIGINAL-URL:https://www.ategal.com
X-WR-CALDESC:Eventos para Ategal
REFRESH-INTERVAL;VALUE=DURATION:PT1H
X-Robots-Tag:noindex
X-PUBLISHED-TTL:PT1H
BEGIN:VTIMEZONE
TZID:Europe/Paris
BEGIN:DAYLIGHT
TZOFFSETFROM:+0100
TZOFFSETTO:+0200
TZNAME:CEST
DTSTART:20180325T010000
END:DAYLIGHT
BEGIN:STANDARD
TZOFFSETFROM:+0200
TZOFFSETTO:+0100
TZNAME:CET
DTSTART:20181028T010000
END:STANDARD
BEGIN:DAYLIGHT
TZOFFSETFROM:+0100
TZOFFSETTO:+0200
TZNAME:CEST
DTSTART:20190331T010000
END:DAYLIGHT
BEGIN:STANDARD
TZOFFSETFROM:+0200
TZOFFSETTO:+0100
TZNAME:CET
DTSTART:20191027T010000
END:STANDARD
BEGIN:DAYLIGHT
TZOFFSETFROM:+0100
TZOFFSETTO:+0200
TZNAME:CEST
DTSTART:20200329T010000
END:DAYLIGHT
BEGIN:STANDARD
TZOFFSETFROM:+0200
TZOFFSETTO:+0100
TZNAME:CET
DTSTART:20201025T010000
END:STANDARD
END:VTIMEZONE
BEGIN:VEVENT
DTSTART;VALUE=DATE:20190610
DTEND;VALUE=DATE:20190611
DTSTAMP:20260423T132954
CREATED:20190604T204322Z
LAST-MODIFIED:20190604T204342Z
UID:3637-1560124800-1560211199@www.ategal.com
SUMMARY:Inauguración exposición trabajos pintura y manualidades en Ategal Ourense
DESCRIPTION:Las aulas de Ategal Ourense inauguran la exposición de trabajos realizados por el alumnado en los talleres de pintura y manualidades durante todo el curso. \nLa muestra se abre al público este lunes 10 de junio para permanecer abierta hasta el jueves 14 de junio.  \nAtegal Ourense: \nProgreso\, 66 Entrechán A\n\n\n Tel: 988 215 077\n\n\n Mvl: 634 910 125\n\n\nourense@ategal.com
URL:https://www.ategal.com/evento-ategal/inauguracion-exposicion-traballos-pintura-e-manualidades-en-ategal-ourense/
LOCATION:Ategal Ourense
ATTACH;FMTTYPE=image/jpeg:https://www.ategal.com/wp-content/uploads/2019/04/Acuarelas5.jpeg
END:VEVENT
BEGIN:VEVENT
DTSTART;VALUE=DATE:20190610
DTEND;VALUE=DATE:20190611
DTSTAMP:20260423T132954
CREATED:20190604T204322Z
LAST-MODIFIED:20190604T204322Z
UID:7454-1560124800-1560211199@www.ategal.com
SUMMARY:Inauguración exposición trabajos pintura y manualidades en Ategal Ourense
DESCRIPTION:Las aulas de Ategal Ourense inauguran la exposición de trabajos realizados por el alumnado en los talleres de pintura y manualidades durante todo el curso. \nLa muestra se abre al público este lunes 10 de junio para permanecer abierta hasta el jueves 14 de junio.  \nAtegal Ourense: \nProgreso\, 66 Entrechán A\n\n\n Tel: 988 215 077\n\n\n Mvl: 634 910 125\n\n\nourense@ategal.com
URL:https://www.ategal.com/evento-ategal/inauguracion-exposicion-traballos-pintura-e-manualidades-en-ategal-ourense/
LOCATION:Ategal Ourense
ATTACH;FMTTYPE=image/jpeg:https://www.ategal.com/wp-content/uploads/2019/04/Acuarelas5.jpeg
END:VEVENT
BEGIN:VEVENT
DTSTART;VALUE=DATE:20190611
DTEND;VALUE=DATE:20190613
DTSTAMP:20260423T132954
CREATED:20190604T204735Z
LAST-MODIFIED:20190613T094439Z
UID:3640-1560211200-1560383999@www.ategal.com
SUMMARY:Exposición de trabajos del alumnado de pintura y manualidades en Ategal Ourense
DESCRIPTION:Las aulas de Ategal Ourense celebran una exposición de trabajos realizados por el alumnado en los talleres de pintura y manualidades durante todo el curso. \nLa muestra permanecerá abierta al público desde el 10 de junio hasta el jueves 14 de junio.  \nAtegal Ourense: \nProgreso\, 66 Entrechán A\n\n\n Tel: 988 215 077\n\n\n Mvl: 634 910 125\n\n\nourense@ategal.com
URL:https://www.ategal.com/evento-ategal/3640/
LOCATION:Ategal Ourense
ATTACH;FMTTYPE=image/jpeg:https://www.ategal.com/wp-content/uploads/2016/08/p1020334_med_hr.jpeg
END:VEVENT
BEGIN:VEVENT
DTSTART;VALUE=DATE:20190611
DTEND;VALUE=DATE:20190613
DTSTAMP:20260423T132954
CREATED:20190604T204735Z
LAST-MODIFIED:20190604T204735Z
UID:7452-1560211200-1560383999@www.ategal.com
SUMMARY:Exposición de trabajos del alumnado de pintura y manualidades en Ategal Ourense
DESCRIPTION:Las aulas de Ategal Ourense celebran una exposición de trabajos realizados por el alumnado en los talleres de pintura y manualidades durante todo el curso. \nLa muestra permanecerá abierta al público desde el 10 de junio hasta el jueves 14 de junio.  \nAtegal Ourense: \nProgreso\, 66 Entrechán A\n\n\n Tel: 988 215 077\n\n\n Mvl: 634 910 125\n\n\nourense@ategal.com
URL:https://www.ategal.com/evento-ategal/3640/
LOCATION:Ategal Ourense
ATTACH;FMTTYPE=image/jpeg:https://www.ategal.com/wp-content/uploads/2016/08/p1020334_med_hr.jpeg
END:VEVENT
BEGIN:VEVENT
DTSTART;TZID=Europe/Paris:20190611T170000
DTEND;TZID=Europe/Paris:20190611T183000
DTSTAMP:20260423T132954
CREATED:20190604T201141Z
LAST-MODIFIED:20190613T093252Z
UID:3627-1560272400-1560277800@www.ategal.com
SUMMARY:Taller de memoria y entrenamiento cognitivo en Ategal Santiago
DESCRIPTION:Todos los martes del mes de junio las aulas de Ategal Santiago celebran\, en horario de tarde\, talleres de memoria y entrenamiento cognitivo. \nMás información y detalles en Ategal Santiago: \nRúa Virxe da Cerca 31\n\n\n Tel: 981 581 533\n\n\ncoordinacion@ategal.com
URL:https://www.ategal.com/evento-ategal/taller-de-memoria-en-ategal-santiago/
LOCATION:Ategal Santiago\, Rúa Virxe da Cerca\, 31\, Santiago de Compostela\, A Coruña
ATTACH;FMTTYPE=image/jpeg:https://www.ategal.com/wp-content/uploads/2019/06/TallerMemoria.jpg
END:VEVENT
BEGIN:VEVENT
DTSTART;TZID=Europe/Paris:20190611T170000
DTEND;TZID=Europe/Paris:20190611T183000
DTSTAMP:20260423T132954
CREATED:20190604T201141Z
LAST-MODIFIED:20190604T201141Z
UID:7450-1560272400-1560277800@www.ategal.com
SUMMARY:Taller de memoria y entrenamiento cognitivo en Ategal Santiago
DESCRIPTION:Todos los martes del mes de junio las aulas de Ategal Santiago celebran\, en horario de tarde\, talleres de memoria y entrenamiento cognitivo. \nMás información y detalles en Ategal Santiago: \nRúa Virxe da Cerca 31\n\n\n Tel: 981 581 533\n\n\ncoordinacion@ategal.com
URL:https://www.ategal.com/evento-ategal/taller-de-memoria-en-ategal-santiago/
LOCATION:Ategal Santiago\, Rúa Virxe da Cerca\, 31\, Santiago de Compostela\, A Coruña
ATTACH;FMTTYPE=image/jpeg:https://www.ategal.com/wp-content/uploads/2019/06/TallerMemoria.jpg
END:VEVENT
BEGIN:VEVENT
DTSTART;TZID=Europe/Paris:20190612T113000
DTEND;TZID=Europe/Paris:20190612T130000
DTSTAMP:20260423T132954
CREATED:20190609T012004Z
LAST-MODIFIED:20190609T012004Z
UID:7449-1560339000-1560344400@www.ategal.com
SUMMARY:Visita guiada al museo Marco de Vigo\, exposición "Destacados"
DESCRIPTION:Las aulas senior de Ategal Vigo organizan para el miércoles 12 de junio a las 11.30 h. una visita guiada al museo Marco de la ciudad. \nEn concreto\, el alumnado de la entidad disfrutará de la muestra de la Fundación Telefónica «Destacados. Artistas del s. XX».  \n 
URL:https://www.ategal.com/evento-ategal/visita-guiada-al-museo-marco-de-vigo-exposicion-destacados/
LOCATION:Museo Marco\, Vigo
ATTACH;FMTTYPE=image/jpeg:https://www.ategal.com/wp-content/uploads/2019/06/Vigo2.jpg
END:VEVENT
BEGIN:VEVENT
DTSTART;TZID=Europe/Paris:20190612T113000
DTEND;TZID=Europe/Paris:20190612T130000
DTSTAMP:20260423T132954
CREATED:20190609T012004Z
LAST-MODIFIED:20190613T093246Z
UID:3698-1560339000-1560344400@www.ategal.com
SUMMARY:Visita guiada al museo Marco de Vigo\, exposición "Destacados"
DESCRIPTION:Las aulas senior de Ategal Vigo organizan para el miércoles 12 de junio a las 11.30 h. una visita guiada al museo Marco de la ciudad. \nEn concreto\, el alumnado de la entidad disfrutará de la muestra de la Fundación Telefónica «Destacados. Artistas del s. XX».  \n 
URL:https://www.ategal.com/evento-ategal/visita-guiada-al-museo-marco-de-vigo-exposicion-destacados/
LOCATION:Museo Marco\, Vigo
ATTACH;FMTTYPE=image/jpeg:https://www.ategal.com/wp-content/uploads/2019/06/Vigo2.jpg
END:VEVENT
BEGIN:VEVENT
DTSTART;TZID=Europe/Paris:20190613T130000
DTEND;TZID=Europe/Paris:20190613T190000
DTSTAMP:20260423T132954
CREATED:20190606T222756Z
LAST-MODIFIED:20190613T131302Z
UID:3685-1560430800-1560452400@www.ategal.com
SUMMARY:Clausura de curso 2018-2019 de Ategal Ourense
DESCRIPTION:As aulas senior de Ategal Ourense celebran a clausura do seu curso 2018-2019 o xoves 13 de xuño cunha misa as 12.00 horas na Igrexa dos Salesianos (praza Don Bosco\, 1) e unha posterior comida no Restaurante Coto da cidade (rúa de Reza\, 11). \n  \n 
URL:https://www.ategal.com/evento-ategal/clausura-de-curso-2018-2019-de-ategal-ourense/
LOCATION:Igresa dos Salesianos e Restaurante O Coto\, Praza Don Bosco\, e rúa da Reza\, Ourense
END:VEVENT
BEGIN:VEVENT
DTSTART;TZID=Europe/Paris:20190613T130000
DTEND;TZID=Europe/Paris:20190613T190000
DTSTAMP:20260423T132954
CREATED:20190606T222756Z
LAST-MODIFIED:20190606T222756Z
UID:7446-1560430800-1560452400@www.ategal.com
SUMMARY:Clausura de curso 2018-2019 de Ategal Ourense
DESCRIPTION:As aulas senior de Ategal Ourense celebran a clausura do seu curso 2018-2019 o xoves 13 de xuño cunha misa as 12.00 horas na Igrexa dos Salesianos (praza Don Bosco\, 1) e unha posterior comida no Restaurante Coto da cidade (rúa de Reza\, 11). \n  \n 
URL:https://www.ategal.com/evento-ategal/clausura-de-curso-2018-2019-de-ategal-ourense/
LOCATION:Igresa dos Salesianos e Restaurante O Coto\, Praza Don Bosco\, e rúa da Reza\, Ourense
END:VEVENT
BEGIN:VEVENT
DTSTART;TZID=Europe/Paris:20190614T173000
DTEND;TZID=Europe/Paris:20190614T183000
DTSTAMP:20260423T132954
CREATED:20190606T212253Z
LAST-MODIFIED:20190606T212253Z
UID:7445-1560533400-1560537000@www.ategal.com
SUMMARY:Curso monográfico de arte en Ategal Ferrol: "el esoterismo en el arte"
DESCRIPTION:Las aulas senior de Ategal Ferrol celebran un curso monográfico de arte bajo el título: «el esoterismo en el arte».  \nEl programa\, impartido por Pilar Freire Rodríguez\, se desarrolla los viernes del mes de junio de 17.30 h. a 18.30 h. y se basa en la fascinación del arte por las ciencias ocultas\, la magia\, la alquimia\, la astrología\, y materias semejantes.
URL:https://www.ategal.com/evento-ategal/curso-monografico-de-arte-en-ategal-ferrol-el-esoterismo-en-el-arte/
LOCATION:Ategal Ferrol\, Galiano\, 17-1º\, Ferrol
ATTACH;FMTTYPE=image/jpeg:https://www.ategal.com/wp-content/uploads/2019/06/Junio-2019.jpg
END:VEVENT
BEGIN:VEVENT
DTSTART;TZID=Europe/Paris:20190614T173000
DTEND;TZID=Europe/Paris:20190614T183000
DTSTAMP:20260423T132954
CREATED:20190606T212253Z
LAST-MODIFIED:20190606T212302Z
UID:3676-1560533400-1560537000@www.ategal.com
SUMMARY:Curso monográfico de arte en Ategal Ferrol: "el esoterismo en el arte"
DESCRIPTION:Las aulas senior de Ategal Ferrol celebran un curso monográfico de arte bajo el título: «el esoterismo en el arte».  \nEl programa\, impartido por Pilar Freire Rodríguez\, se desarrolla los viernes del mes de junio de 17.30 h. a 18.30 h. y se basa en la fascinación del arte por las ciencias ocultas\, la magia\, la alquimia\, la astrología\, y materias semejantes.
URL:https://www.ategal.com/evento-ategal/curso-monografico-de-arte-en-ategal-ferrol-el-esoterismo-en-el-arte/
LOCATION:Ategal Ferrol\, Galiano\, 17-1º\, Ferrol
ATTACH;FMTTYPE=image/jpeg:https://www.ategal.com/wp-content/uploads/2019/06/Junio-2019.jpg
END:VEVENT
BEGIN:VEVENT
DTSTART;TZID=Europe/Paris:20190618T170000
DTEND;TZID=Europe/Paris:20190618T183000
DTSTAMP:20260423T132954
CREATED:20190604T202026Z
LAST-MODIFIED:20190604T202037Z
UID:3632-1560877200-1560882600@www.ategal.com
SUMMARY:Taller de memoria y entrenamiento cognitivo en Ategal Santiago
DESCRIPTION:Todos los martes del mes de junio las aulas de Ategal Santiago celebran\, en horario de tarde\, talleres de memoria y entrenamiento cognitivo. \nMás información y detalles en Ategal Santiago: \nRúa Virxe da Cerca 31\n\n\n Tel: 981 581 533\n\n\ncoordinacion@ategal.com
URL:https://www.ategal.com/evento-ategal/taller-de-memoria-y-entrenamiento-cognitivo-en-ategal-santiago/
LOCATION:Ategal Santiago\, Rúa Virxe da Cerca\, 31\, Santiago de Compostela\, A Coruña
ATTACH;FMTTYPE=image/jpeg:https://www.ategal.com/wp-content/uploads/2019/06/TallerMemoria.jpg
END:VEVENT
BEGIN:VEVENT
DTSTART;TZID=Europe/Paris:20190618T170000
DTEND;TZID=Europe/Paris:20190618T183000
DTSTAMP:20260423T132954
CREATED:20190604T202026Z
LAST-MODIFIED:20190604T202026Z
UID:7443-1560877200-1560882600@www.ategal.com
SUMMARY:Taller de memoria y entrenamiento cognitivo en Ategal Santiago
DESCRIPTION:Todos los martes del mes de junio las aulas de Ategal Santiago celebran\, en horario de tarde\, talleres de memoria y entrenamiento cognitivo. \nMás información y detalles en Ategal Santiago: \nRúa Virxe da Cerca 31\n\n\n Tel: 981 581 533\n\n\ncoordinacion@ategal.com
URL:https://www.ategal.com/evento-ategal/taller-de-memoria-y-entrenamiento-cognitivo-en-ategal-santiago/
LOCATION:Ategal Santiago\, Rúa Virxe da Cerca\, 31\, Santiago de Compostela\, A Coruña
ATTACH;FMTTYPE=image/jpeg:https://www.ategal.com/wp-content/uploads/2019/06/TallerMemoria.jpg
END:VEVENT
BEGIN:VEVENT
DTSTART;TZID=Europe/Paris:20190618T170000
DTEND;TZID=Europe/Paris:20190618T190000
DTSTAMP:20260423T132954
CREATED:20190606T224526Z
LAST-MODIFIED:20190606T224532Z
UID:3692-1560877200-1560884400@www.ategal.com
SUMMARY:Última sesión en Ategal Santiago del proyecto 'Una salud de cine'
DESCRIPTION:Última sesión de las aulas de Santiago de los talleres del proyecto entre Ategal y Viaqua ‘Una salud de cine’ que se celebra\, como es habitual\, en la propia sede de la entidad (Virxe da Cerca\, 31) entre las 17 horas y las 19.00 horas.  \nLos talleres están impartidos por la médica de familia y coach\, Estefanía Zardoya.  \nMás información sobre el proyecto aquí\, en este enlace directo. 
URL:https://www.ategal.com/evento-ategal/ultima-sesion-en-ategal-santiago-del-proyecto-una-salud-de-cine/
LOCATION:Ategal Santiago\, Rúa Virxe da Cerca\, 31\, Santiago de Compostela\, A Coruña
ATTACH;FMTTYPE=image/jpeg:https://www.ategal.com/wp-content/uploads/2019/03/AF_Santiago_01-scaled.jpg
END:VEVENT
BEGIN:VEVENT
DTSTART;TZID=Europe/Paris:20190618T170000
DTEND;TZID=Europe/Paris:20190618T190000
DTSTAMP:20260423T132954
CREATED:20190606T224526Z
LAST-MODIFIED:20190606T224526Z
UID:7444-1560877200-1560884400@www.ategal.com
SUMMARY:Última sesión en Ategal Santiago del proyecto 'Una salud de cine'
DESCRIPTION:Última sesión de las aulas de Santiago de los talleres del proyecto entre Ategal y Viaqua ‘Una salud de cine’ que se celebra\, como es habitual\, en la propia sede de la entidad (Virxe da Cerca\, 31) entre las 17 horas y las 19.00 horas.  \nLos talleres están impartidos por la médica de familia y coach\, Estefanía Zardoya.  \nMás información sobre el proyecto aquí\, en este enlace directo. 
URL:https://www.ategal.com/evento-ategal/ultima-sesion-en-ategal-santiago-del-proyecto-una-salud-de-cine/
LOCATION:Ategal Santiago\, Rúa Virxe da Cerca\, 31\, Santiago de Compostela\, A Coruña
ATTACH;FMTTYPE=image/jpeg:https://www.ategal.com/wp-content/uploads/2019/03/AF_Santiago_01-scaled.jpg
END:VEVENT
BEGIN:VEVENT
DTSTART;TZID=Europe/Paris:20190620T183000
DTEND;TZID=Europe/Paris:20190620T200000
DTSTAMP:20260423T132954
CREATED:20190606T225044Z
LAST-MODIFIED:20190606T225204Z
UID:3694-1561055400-1561060800@www.ategal.com
SUMMARY:Visita guiada a la muralla de Santiago con Victoria Tizón
DESCRIPTION:Las aulas senior de Ategal Santiago tienen programada una visita guiada a los restos de la muralla medieval de la ciudad el jueves 20 de junio a las 18.30 horas.  \nMás información en Ategal Santiago: \nRúa Virxe da Cerca 31\, 15703 Santiago de Compostela\n\n\n Tel: 981 581 533\n\n\n Mvl: 618 184 344\n\n\ncoordinacion@ategal.com
URL:https://www.ategal.com/evento-ategal/visita-guiada-a-la-muralla-de-ategal-santiago-con-victoria-tizon/
LOCATION:Restos muralla medieval Santiago\, Santiago de Compostela
END:VEVENT
BEGIN:VEVENT
DTSTART;TZID=Europe/Paris:20190620T183000
DTEND;TZID=Europe/Paris:20190620T200000
DTSTAMP:20260423T132954
CREATED:20190606T225044Z
LAST-MODIFIED:20190606T225044Z
UID:7442-1561055400-1561060800@www.ategal.com
SUMMARY:Visita guiada a la muralla de Santiago con Victoria Tizón
DESCRIPTION:Las aulas senior de Ategal Santiago tienen programada una visita guiada a los restos de la muralla medieval de la ciudad el jueves 20 de junio a las 18.30 horas.  \nMás información en Ategal Santiago: \nRúa Virxe da Cerca 31\, 15703 Santiago de Compostela\n\n\n Tel: 981 581 533\n\n\n Mvl: 618 184 344\n\n\ncoordinacion@ategal.com
URL:https://www.ategal.com/evento-ategal/visita-guiada-a-la-muralla-de-ategal-santiago-con-victoria-tizon/
LOCATION:Restos muralla medieval Santiago\, Santiago de Compostela
END:VEVENT
BEGIN:VEVENT
DTSTART;TZID=Europe/Paris:20190621T163000
DTEND;TZID=Europe/Paris:20190621T183000
DTSTAMP:20260423T132954
CREATED:20190606T212433Z
LAST-MODIFIED:20190606T212439Z
UID:3678-1561134600-1561141800@www.ategal.com
SUMMARY:Curso monográfico de arte en Ategal Ferrol: "el esoterismo en el arte"
DESCRIPTION:Las aulas senior de Ategal Ferrol celebran un curso monográfico de arte bajo el título: «el esoterismo en el arte».  \nEl programa\, impartido por Pilar Freire Rodríguez\, se desarrolla los viernes del mes de junio de 17.30 h. a 18.30 h. y se basa en la fascinación del arte por las ciencias ocultas\, la magia\, la alquimia\, la astrología\, y materias semejantes.
URL:https://www.ategal.com/evento-ategal/curso-monografico-de-arte-en-ategal-ferrol-el-esoterismo-en-el-arte-2/
LOCATION:Ategal Ferrol\, Galiano\, 17-1º\, Ferrol
ATTACH;FMTTYPE=image/jpeg:https://www.ategal.com/wp-content/uploads/2019/06/Junio-2019.jpg
END:VEVENT
BEGIN:VEVENT
DTSTART;TZID=Europe/Paris:20190621T163000
DTEND;TZID=Europe/Paris:20190621T183000
DTSTAMP:20260423T132954
CREATED:20190606T212433Z
LAST-MODIFIED:20190606T212433Z
UID:7441-1561134600-1561141800@www.ategal.com
SUMMARY:Curso monográfico de arte en Ategal Ferrol: "el esoterismo en el arte"
DESCRIPTION:Las aulas senior de Ategal Ferrol celebran un curso monográfico de arte bajo el título: «el esoterismo en el arte».  \nEl programa\, impartido por Pilar Freire Rodríguez\, se desarrolla los viernes del mes de junio de 17.30 h. a 18.30 h. y se basa en la fascinación del arte por las ciencias ocultas\, la magia\, la alquimia\, la astrología\, y materias semejantes.
URL:https://www.ategal.com/evento-ategal/curso-monografico-de-arte-en-ategal-ferrol-el-esoterismo-en-el-arte-2/
LOCATION:Ategal Ferrol\, Galiano\, 17-1º\, Ferrol
ATTACH;FMTTYPE=image/jpeg:https://www.ategal.com/wp-content/uploads/2019/06/Junio-2019.jpg
END:VEVENT
BEGIN:VEVENT
DTSTART;TZID=Europe/Paris:20190625T170000
DTEND;TZID=Europe/Paris:20190625T183000
DTSTAMP:20260423T132954
CREATED:20190604T202142Z
LAST-MODIFIED:20190604T202142Z
UID:7440-1561482000-1561487400@www.ategal.com
SUMMARY:Taller de memoria y entrenamiento cognitivo en Ategal Santiago
DESCRIPTION:Todos los martes del mes de junio las aulas de Ategal Santiago celebran\, en horario de tarde\, talleres de memoria y entrenamiento cognitivo. \nMás información y detalles en Ategal Santiago: \nRúa Virxe da Cerca 31\n\n\n Tel: 981 581 533\n\n\ncoordinacion@ategal.com
URL:https://www.ategal.com/evento-ategal/taller-de-memoria-y-entrenamiento-cognitivo-en-ategal-santiago-2/
LOCATION:Ategal Santiago\, Rúa Virxe da Cerca\, 31\, Santiago de Compostela\, A Coruña
ATTACH;FMTTYPE=image/jpeg:https://www.ategal.com/wp-content/uploads/2019/06/TallerMemoria.jpg
END:VEVENT
BEGIN:VEVENT
DTSTART;TZID=Europe/Paris:20190625T170000
DTEND;TZID=Europe/Paris:20190625T183000
DTSTAMP:20260423T132954
CREATED:20190604T202142Z
LAST-MODIFIED:20190604T202142Z
UID:3634-1561482000-1561487400@www.ategal.com
SUMMARY:Taller de memoria y entrenamiento cognitivo en Ategal Santiago
DESCRIPTION:Todos los martes del mes de junio las aulas de Ategal Santiago celebran\, en horario de tarde\, talleres de memoria y entrenamiento cognitivo. \nMás información y detalles en Ategal Santiago: \nRúa Virxe da Cerca 31\n\n\n Tel: 981 581 533\n\n\ncoordinacion@ategal.com
URL:https://www.ategal.com/evento-ategal/taller-de-memoria-y-entrenamiento-cognitivo-en-ategal-santiago-2/
LOCATION:Ategal Santiago\, Rúa Virxe da Cerca\, 31\, Santiago de Compostela\, A Coruña
ATTACH;FMTTYPE=image/jpeg:https://www.ategal.com/wp-content/uploads/2019/06/TallerMemoria.jpg
END:VEVENT
BEGIN:VEVENT
DTSTART;TZID=Europe/Paris:20190626T170000
DTEND;TZID=Europe/Paris:20190626T190000
DTSTAMP:20260423T132954
CREATED:20190625T195332Z
LAST-MODIFIED:20190625T195332Z
UID:3754-1561568400-1561575600@www.ategal.com
SUMMARY:Última sesión del proyecto 'Una salud de cine. Liderando la salud' de Ategal y Viaqua
DESCRIPTION:Última sesión de las aulas de Ourense de los talleres del proyecto entre Ategal y Viaqua ‘Una salud de cine’ que se celebra\, como es habitual\, en el Centro La Molinera entre las 17 horas y las 19.00 horas.  \nLos talleres están impartidos por la médica de familia y coach\, Estefanía Zardoya.  \nMás información sobre el proyecto aquí\, en este enlace directo. 
URL:https://www.ategal.com/evento-ategal/ultima-sesion-del-proyecto-una-salud-de-cine-liderando-la-salud-de-ategal-y-viaqua/
LOCATION:Centro Municipal La Molinera\, Ourense
ATTACH;FMTTYPE=image/jpeg:https://www.ategal.com/wp-content/uploads/2019/01/AtegalViaqua2-scaled.jpg
END:VEVENT
BEGIN:VEVENT
DTSTART;TZID=Europe/Paris:20190626T170000
DTEND;TZID=Europe/Paris:20190626T190000
DTSTAMP:20260423T132954
CREATED:20190625T195332Z
LAST-MODIFIED:20190625T195332Z
UID:7439-1561568400-1561575600@www.ategal.com
SUMMARY:Última sesión del proyecto 'Una salud de cine. Liderando la salud' de Ategal y Viaqua
DESCRIPTION:Última sesión de las aulas de Ourense de los talleres del proyecto entre Ategal y Viaqua ‘Una salud de cine’ que se celebra\, como es habitual\, en el Centro La Molinera entre las 17 horas y las 19.00 horas.  \nLos talleres están impartidos por la médica de familia y coach\, Estefanía Zardoya.  \nMás información sobre el proyecto aquí\, en este enlace directo. 
URL:https://www.ategal.com/evento-ategal/ultima-sesion-del-proyecto-una-salud-de-cine-liderando-la-salud-de-ategal-y-viaqua/
LOCATION:Centro Municipal La Molinera\, Ourense
ATTACH;FMTTYPE=image/jpeg:https://www.ategal.com/wp-content/uploads/2019/01/AtegalViaqua2-scaled.jpg
END:VEVENT
BEGIN:VEVENT
DTSTART;TZID=Europe/Paris:20190627T173000
DTEND;TZID=Europe/Paris:20190627T183000
DTSTAMP:20260423T132954
CREATED:20190606T212559Z
LAST-MODIFIED:20190606T212615Z
UID:3680-1561656600-1561660200@www.ategal.com
SUMMARY:Curso monográfico de arte en Ategal Ferrol: "el esoterismo en el arte"
DESCRIPTION:Las aulas senior de Ategal Ferrol celebran un curso monográfico de arte bajo el título: «el esoterismo en el arte».  \nEl programa\, impartido por Pilar Freire Rodríguez\, se desarrolla los viernes del mes de junio de 17.30 h. a 18.30 h. y se basa en la fascinación del arte por las ciencias ocultas\, la magia\, la alquimia\, la astrología\, y materias semejantes.
URL:https://www.ategal.com/evento-ategal/curso-monografico-de-arte-en-ategal-ferrol-el-esoterismo-en-el-arte-3/
LOCATION:Ategal Ferrol\, Galiano\, 17-1º\, Ferrol
ATTACH;FMTTYPE=image/jpeg:https://www.ategal.com/wp-content/uploads/2019/06/Junio-2019.jpg
END:VEVENT
BEGIN:VEVENT
DTSTART;TZID=Europe/Paris:20190627T173000
DTEND;TZID=Europe/Paris:20190627T183000
DTSTAMP:20260423T132954
CREATED:20190606T212559Z
LAST-MODIFIED:20190606T212559Z
UID:7438-1561656600-1561660200@www.ategal.com
SUMMARY:Curso monográfico de arte en Ategal Ferrol: "el esoterismo en el arte"
DESCRIPTION:Las aulas senior de Ategal Ferrol celebran un curso monográfico de arte bajo el título: «el esoterismo en el arte».  \nEl programa\, impartido por Pilar Freire Rodríguez\, se desarrolla los viernes del mes de junio de 17.30 h. a 18.30 h. y se basa en la fascinación del arte por las ciencias ocultas\, la magia\, la alquimia\, la astrología\, y materias semejantes.
URL:https://www.ategal.com/evento-ategal/curso-monografico-de-arte-en-ategal-ferrol-el-esoterismo-en-el-arte-3/
LOCATION:Ategal Ferrol\, Galiano\, 17-1º\, Ferrol
ATTACH;FMTTYPE=image/jpeg:https://www.ategal.com/wp-content/uploads/2019/06/Junio-2019.jpg
END:VEVENT
BEGIN:VEVENT
DTSTART;TZID=Europe/Paris:20190628T110000
DTEND;TZID=Europe/Paris:20190628T180000
DTSTAMP:20260423T132954
CREATED:20190606T223515Z
LAST-MODIFIED:20190606T223515Z
UID:7436-1561719600-1561744800@www.ategal.com
SUMMARY:III Andaina e comida campestre de Ategal Ourense "Abos\, aboas\, netos\, netas e demáis"
DESCRIPTION:As aulas senior de Ategal Ourense convocan para o 28 de xuño a III Andaina «Abos\, aboas\, netos\, netas e demáis» na que incluese unha comida campestre. \nMáis información e inscripcións en Ategal Ourense: \nProgreso\, 66 Entrechán A\n\n\n Tel: 988 215 077\n\n\n Mvl: 634 910 125\n\n\nourense@ategal.com
URL:https://www.ategal.com/evento-ategal/iii-andaina-e-comida-campestre-de-ategal-ourense-abos-aboas-netos-netas-e-demais/
LOCATION:Ategal Ourense
END:VEVENT
BEGIN:VEVENT
DTSTART;TZID=Europe/Paris:20190628T110000
DTEND;TZID=Europe/Paris:20190628T180000
DTSTAMP:20260423T132954
CREATED:20190606T223515Z
LAST-MODIFIED:20190606T223741Z
UID:3688-1561719600-1561744800@www.ategal.com
SUMMARY:III Andaina e comida campestre de Ategal Ourense "Abos\, aboas\, netos\, netas e demáis"
DESCRIPTION:As aulas senior de Ategal Ourense convocan para o 28 de xuño a III Andaina «Abos\, aboas\, netos\, netas e demáis» na que incluese unha comida campestre. \nMáis información e inscripcións en Ategal Ourense: \nProgreso\, 66 Entrechán A\n\n\n Tel: 988 215 077\n\n\n Mvl: 634 910 125\n\n\nourense@ategal.com
URL:https://www.ategal.com/evento-ategal/iii-andaina-e-comida-campestre-de-ategal-ourense-abos-aboas-netos-netas-e-demais/
LOCATION:Ategal Ourense
END:VEVENT
BEGIN:VEVENT
DTSTART;TZID=Europe/Paris:20190628T173000
DTEND;TZID=Europe/Paris:20190628T183000
DTSTAMP:20260423T132954
CREATED:20190606T212813Z
LAST-MODIFIED:20190606T215833Z
UID:3682-1561743000-1561746600@www.ategal.com
SUMMARY:Curso monográfico de arte en Ategal Ferrol: "el esoterismo en el arte"
DESCRIPTION:Las aulas senior de Ategal Ferrol celebran un curso monográfico de arte bajo el título: «el esoterismo en el arte».  \nEl programa\, impartido por Pilar Freire Rodríguez\, se desarrolla los viernes del mes de junio de 17.30 h. a 18.30 h. y se basa en la fascinación del arte por las ciencias ocultas\, la magia\, la alquimia\, la astrología\, y materias semejantes.
URL:https://www.ategal.com/evento-ategal/curso-monografico-de-arte-en-ategal-ferrol-el-esoterismo-en-el-arte-4/
LOCATION:Ategal Ferrol\, Galiano\, 17-1º\, Ferrol
ATTACH;FMTTYPE=image/jpeg:https://www.ategal.com/wp-content/uploads/2019/06/Junio-2019.jpg
END:VEVENT
BEGIN:VEVENT
DTSTART;TZID=Europe/Paris:20190628T173000
DTEND;TZID=Europe/Paris:20190628T183000
DTSTAMP:20260423T132954
CREATED:20190606T212813Z
LAST-MODIFIED:20190606T212813Z
UID:7435-1561743000-1561746600@www.ategal.com
SUMMARY:Curso monográfico de arte en Ategal Ferrol: "el esoterismo en el arte"
DESCRIPTION:Las aulas senior de Ategal Ferrol celebran un curso monográfico de arte bajo el título: «el esoterismo en el arte».  \nEl programa\, impartido por Pilar Freire Rodríguez\, se desarrolla los viernes del mes de junio de 17.30 h. a 18.30 h. y se basa en la fascinación del arte por las ciencias ocultas\, la magia\, la alquimia\, la astrología\, y materias semejantes.
URL:https://www.ategal.com/evento-ategal/curso-monografico-de-arte-en-ategal-ferrol-el-esoterismo-en-el-arte-4/
LOCATION:Ategal Ferrol\, Galiano\, 17-1º\, Ferrol
ATTACH;FMTTYPE=image/jpeg:https://www.ategal.com/wp-content/uploads/2019/06/Junio-2019.jpg
END:VEVENT
END:VCALENDAR