BEGIN:VCALENDAR
VERSION:2.0
PRODID:-//Ategal - ECPv6.15.20//NONSGML v1.0//EN
CALSCALE:GREGORIAN
METHOD:PUBLISH
X-ORIGINAL-URL:https://www.ategal.com
X-WR-CALDESC:Eventos para Ategal
REFRESH-INTERVAL;VALUE=DURATION:PT1H
X-Robots-Tag:noindex
X-PUBLISHED-TTL:PT1H
BEGIN:VTIMEZONE
TZID:Europe/Paris
BEGIN:DAYLIGHT
TZOFFSETFROM:+0100
TZOFFSETTO:+0200
TZNAME:CEST
DTSTART:20190331T010000
END:DAYLIGHT
BEGIN:STANDARD
TZOFFSETFROM:+0200
TZOFFSETTO:+0100
TZNAME:CET
DTSTART:20191027T010000
END:STANDARD
BEGIN:DAYLIGHT
TZOFFSETFROM:+0100
TZOFFSETTO:+0200
TZNAME:CEST
DTSTART:20200329T010000
END:DAYLIGHT
BEGIN:STANDARD
TZOFFSETFROM:+0200
TZOFFSETTO:+0100
TZNAME:CET
DTSTART:20201025T010000
END:STANDARD
BEGIN:DAYLIGHT
TZOFFSETFROM:+0100
TZOFFSETTO:+0200
TZNAME:CEST
DTSTART:20210328T010000
END:DAYLIGHT
BEGIN:STANDARD
TZOFFSETFROM:+0200
TZOFFSETTO:+0100
TZNAME:CET
DTSTART:20211031T010000
END:STANDARD
END:VTIMEZONE
BEGIN:VEVENT
DTSTART;TZID=Europe/Paris:20200210T100000
DTEND;TZID=Europe/Paris:20200220T120000
DTSTAMP:20260423T003347
CREATED:20200207T105002Z
LAST-MODIFIED:20200405T113648Z
UID:4659-1581328800-1582200000@www.ategal.com
SUMMARY:Curso de manexo de smartphones (Padrón)
DESCRIPTION:Desde o día 10 ata o 20\, as aulas de Padrón ofertarán un curso de manexo de smartphones con horario de 10 a 12h.
URL:https://www.ategal.com/evento-ategal/curso-de-manexo-de-smartphones-padron/
LOCATION:Ategal Padrón
CATEGORIES:Padrón
ATTACH;FMTTYPE=image/jpeg:https://www.ategal.com/wp-content/uploads/2020/02/curso-moviles_jpg.jpg
END:VEVENT
BEGIN:VEVENT
DTSTART;TZID=Europe/Paris:20200210T100000
DTEND;TZID=Europe/Paris:20200220T120000
DTSTAMP:20260423T003347
CREATED:20200207T105002Z
LAST-MODIFIED:20200207T105002Z
UID:7353-1581328800-1582200000@www.ategal.com
SUMMARY:Curso de manexo de smartphones (Padrón)
DESCRIPTION:Desde o día 10 ata o 20\, as aulas de Padrón ofertarán un curso de manexo de smartphones con horario de 10 a 12h.
URL:https://www.ategal.com/evento-ategal/curso-de-manexo-de-smartphones-padron/
LOCATION:Ategal Padrón
CATEGORIES:Padrón
ATTACH;FMTTYPE=image/jpeg:https://www.ategal.com/wp-content/uploads/2020/02/curso-moviles_jpg.jpg
END:VEVENT
BEGIN:VEVENT
DTSTART;TZID=Europe/Paris:20200218T173000
DTEND;TZID=Europe/Paris:20200218T190000
DTSTAMP:20260423T003347
CREATED:20200124T200432Z
LAST-MODIFIED:20200405T113642Z
UID:4634-1582047000-1582052400@www.ategal.com
SUMMARY:Charla "Hipertensión con toma de biomedidas" (Vigo)
DESCRIPTION:
URL:https://www.ategal.com/evento-ategal/charla-hipertension-con-toma-de-biomedidas-vigo/
LOCATION:Ategal Vigo\, Travesía do Pino\, 2-entrechan\, Vigo\, Pontevedra
CATEGORIES:Vigo
ATTACH;FMTTYPE=image/png:https://www.ategal.com/wp-content/uploads/2020/01/Hipertension.png
END:VEVENT
BEGIN:VEVENT
DTSTART;TZID=Europe/Paris:20200218T173000
DTEND;TZID=Europe/Paris:20200218T190000
DTSTAMP:20260423T003347
CREATED:20200124T200432Z
LAST-MODIFIED:20200124T200432Z
UID:7352-1582047000-1582052400@www.ategal.com
SUMMARY:Charla "Hipertensión con toma de biomedidas" (Vigo)
DESCRIPTION:
URL:https://www.ategal.com/evento-ategal/charla-hipertension-con-toma-de-biomedidas-vigo/
LOCATION:Ategal Vigo\, Travesía do Pino\, 2-entrechan\, Vigo\, Pontevedra
CATEGORIES:Vigo
ATTACH;FMTTYPE=image/png:https://www.ategal.com/wp-content/uploads/2020/01/Hipertension.png
END:VEVENT
BEGIN:VEVENT
DTSTART;TZID=Europe/Paris:20200219T170000
DTEND;TZID=Europe/Paris:20200219T190000
DTSTAMP:20260423T003347
CREATED:20200204T200941Z
LAST-MODIFIED:20200405T113636Z
UID:4656-1582131600-1582138800@www.ategal.com
SUMMARY:Una salud de cine: "Alimentación" (A Coruña)
DESCRIPTION:¡Llega la segunda edición de nuestros talleres! En esta ocasión trataremos una de las claves para un mejor envejecimiento: la alimentación
URL:https://www.ategal.com/evento-ategal/una-salud-de-cine-alimentacion-a-coruna/
LOCATION:Ategal A Coruña\, A Coruña
CATEGORIES:A Coruña
ATTACH;FMTTYPE=image/png:https://www.ategal.com/wp-content/uploads/2020/01/Una_salud_de_cine_CORUÑA-1-1-e1578998627187.png
END:VEVENT
BEGIN:VEVENT
DTSTART;TZID=Europe/Paris:20200219T170000
DTEND;TZID=Europe/Paris:20200219T190000
DTSTAMP:20260423T003347
CREATED:20200204T200941Z
LAST-MODIFIED:20200204T200941Z
UID:7351-1582131600-1582138800@www.ategal.com
SUMMARY:Una salud de cine: "Alimentación" (A Coruña)
DESCRIPTION:¡Llega la segunda edición de nuestros talleres! En esta ocasión trataremos una de las claves para un mejor envejecimiento: la alimentación
URL:https://www.ategal.com/evento-ategal/una-salud-de-cine-alimentacion-a-coruna/
LOCATION:Ategal A Coruña\, A Coruña
CATEGORIES:A Coruña
ATTACH;FMTTYPE=image/png:https://www.ategal.com/wp-content/uploads/2020/01/Una_salud_de_cine_CORUÑA-1-1-e1578998627187.png
END:VEVENT
BEGIN:VEVENT
DTSTART;TZID=Europe/Paris:20200220T093000
DTEND;TZID=Europe/Paris:20200220T190000
DTSTAMP:20260423T003347
CREATED:20200124T200122Z
LAST-MODIFIED:20200405T113628Z
UID:4630-1582191000-1582225200@www.ategal.com
SUMMARY:Excursión de Entroido (Vigo)
DESCRIPTION:¡ATEGAL Vigo se marcha de excursión para celebrar el Entroido! \nEl jueves 20 de febrero disfrutaremos de una visita guiada por la Pobra do Caramiñal para comer después en Noia. Allí lo pasaremos genial con un baile de disfraces\, así que ya sabéis\, ¡no os olvidéis del vuestro!
URL:https://www.ategal.com/evento-ategal/excursion-de-entroido-vigo/
LOCATION:Vigo
CATEGORIES:Vigo
ATTACH;FMTTYPE=image/png:https://www.ategal.com/wp-content/uploads/2020/01/EntroidoVigo.png
END:VEVENT
BEGIN:VEVENT
DTSTART;TZID=Europe/Paris:20200220T093000
DTEND;TZID=Europe/Paris:20200220T190000
DTSTAMP:20260423T003347
CREATED:20200124T200122Z
LAST-MODIFIED:20200124T200122Z
UID:7350-1582191000-1582225200@www.ategal.com
SUMMARY:Excursión de Entroido (Vigo)
DESCRIPTION:¡ATEGAL Vigo se marcha de excursión para celebrar el Entroido! \nEl jueves 20 de febrero disfrutaremos de una visita guiada por la Pobra do Caramiñal para comer después en Noia. Allí lo pasaremos genial con un baile de disfraces\, así que ya sabéis\, ¡no os olvidéis del vuestro!
URL:https://www.ategal.com/evento-ategal/excursion-de-entroido-vigo/
LOCATION:Vigo
CATEGORIES:Vigo
ATTACH;FMTTYPE=image/png:https://www.ategal.com/wp-content/uploads/2020/01/EntroidoVigo.png
END:VEVENT
BEGIN:VEVENT
DTSTART;TZID=Europe/Paris:20200220T160000
DTEND;TZID=Europe/Paris:20200220T170000
DTSTAMP:20260423T003347
CREATED:20200211T115336Z
LAST-MODIFIED:20200211T115336Z
UID:7349-1582214400-1582218000@www.ategal.com
SUMMARY:Visita guiada al Museo Casa Picasso (A Coruña)
DESCRIPTION:¡Las aulas de A Coruña nos vamos de excursión!
URL:https://www.ategal.com/evento-ategal/visita-guiada-al-museo-casa-picasso-a-coruna/
CATEGORIES:A Coruña
ATTACH;FMTTYPE=image/jpeg:https://www.ategal.com/wp-content/uploads/2020/02/WhatsApp-Image-2020-02-07-at-8.43.48-AM-e1581421946270.jpeg
END:VEVENT
BEGIN:VEVENT
DTSTART;TZID=Europe/Paris:20200220T160000
DTEND;TZID=Europe/Paris:20200220T170000
DTSTAMP:20260423T003347
CREATED:20200211T115336Z
LAST-MODIFIED:20200405T113623Z
UID:4667-1582214400-1582218000@www.ategal.com
SUMMARY:Visita guiada al Museo Casa Picasso (A Coruña)
DESCRIPTION:¡Las aulas de A Coruña nos vamos de excursión!
URL:https://www.ategal.com/evento-ategal/visita-guiada-al-museo-casa-picasso-a-coruna/
CATEGORIES:A Coruña
ATTACH;FMTTYPE=image/jpeg:https://www.ategal.com/wp-content/uploads/2020/02/WhatsApp-Image-2020-02-07-at-8.43.48-AM-e1581421946270.jpeg
END:VEVENT
BEGIN:VEVENT
DTSTART;TZID=Europe/Paris:20200220T190000
DTEND;TZID=Europe/Paris:20200220T200000
DTSTAMP:20260423T003347
CREATED:20200219T184521Z
LAST-MODIFIED:20200405T113617Z
UID:4676-1582225200-1582228800@www.ategal.com
SUMMARY:Conferencia Carlos Castelao (Santiago de Compostela)
DESCRIPTION:
URL:https://www.ategal.com/evento-ategal/4676/
LOCATION:Ategal Santiago\, Rúa Virxe da Cerca\, 31\, Santiago de Compostela\, A Coruña
CATEGORIES:Santiago de Compostela
ATTACH;FMTTYPE=image/png:https://www.ategal.com/wp-content/uploads/2020/02/carlos-castelao.png
END:VEVENT
BEGIN:VEVENT
DTSTART;TZID=Europe/Paris:20200220T190000
DTEND;TZID=Europe/Paris:20200220T200000
DTSTAMP:20260423T003347
CREATED:20200219T184521Z
LAST-MODIFIED:20200219T184521Z
UID:7348-1582225200-1582228800@www.ategal.com
SUMMARY:Conferencia Carlos Castelao (Santiago de Compostela)
DESCRIPTION:
URL:https://www.ategal.com/evento-ategal/4676/
LOCATION:Ategal Santiago\, Rúa Virxe da Cerca\, 31\, Santiago de Compostela\, A Coruña
CATEGORIES:Santiago de Compostela
ATTACH;FMTTYPE=image/png:https://www.ategal.com/wp-content/uploads/2020/02/carlos-castelao.png
END:VEVENT
BEGIN:VEVENT
DTSTART;TZID=Europe/Paris:20200226T183000
DTEND;TZID=Europe/Paris:20200226T200000
DTSTAMP:20260423T003347
CREATED:20200211T092140Z
LAST-MODIFIED:20200405T113610Z
UID:4665-1582741800-1582747200@www.ategal.com
SUMMARY:Recital poético-visual "Mª del Carmen Krukenberg" (Vigo)
DESCRIPTION:
URL:https://www.ategal.com/evento-ategal/ategal-vigo-homenaje-a-ma-del-carmen-krukenberg-recital-poetico-visual/
LOCATION:Ategal Vigo\, Travesía do Pino\, 2-entrechan\, Vigo\, Pontevedra
CATEGORIES:Vigo
END:VEVENT
BEGIN:VEVENT
DTSTART;TZID=Europe/Paris:20200226T183000
DTEND;TZID=Europe/Paris:20200226T200000
DTSTAMP:20260423T003347
CREATED:20200211T092140Z
LAST-MODIFIED:20200211T092140Z
UID:7347-1582741800-1582747200@www.ategal.com
SUMMARY:Recital poético-visual "Mª del Carmen Krukenberg" (Vigo)
DESCRIPTION:
URL:https://www.ategal.com/evento-ategal/ategal-vigo-homenaje-a-ma-del-carmen-krukenberg-recital-poetico-visual/
LOCATION:Ategal Vigo\, Travesía do Pino\, 2-entrechan\, Vigo\, Pontevedra
CATEGORIES:Vigo
END:VEVENT
BEGIN:VEVENT
DTSTART;TZID=Europe/Paris:20200303T173000
DTEND;TZID=Europe/Paris:20200303T173000
DTSTAMP:20260423T003347
CREATED:20200302T144631Z
LAST-MODIFIED:20200405T113604Z
UID:4702-1583256600-1583256600@www.ategal.com
SUMMARY:Visita guiada a la Exposición "Manuel Colmeiro. Espacios y Encuadramientos" (Vigo)
DESCRIPTION:Visitamos la exposición de Manuel Colmeiro «Espacios y Encuadramientos» en el Museo Marco
URL:https://www.ategal.com/evento-ategal/visita-guiada-a-la-exposicion-manuel-colmeiro-espacios-y-encuadernamientos-vigo/
LOCATION:Museo Marco Vigo\, C/ Príncipe\, Vigo
CATEGORIES:Vigo
ATTACH;FMTTYPE=image/png:https://www.ategal.com/wp-content/uploads/2020/03/VisitaGuiada_Vigo.png
END:VEVENT
BEGIN:VEVENT
DTSTART;TZID=Europe/Paris:20200303T173000
DTEND;TZID=Europe/Paris:20200303T173000
DTSTAMP:20260423T003347
CREATED:20200302T144631Z
LAST-MODIFIED:20200302T144631Z
UID:7345-1583256600-1583256600@www.ategal.com
SUMMARY:Visita guiada a la Exposición "Manuel Colmeiro. Espacios y Encuadramientos" (Vigo)
DESCRIPTION:Visitamos la exposición de Manuel Colmeiro «Espacios y Encuadramientos» en el Museo Marco
URL:https://www.ategal.com/evento-ategal/visita-guiada-a-la-exposicion-manuel-colmeiro-espacios-y-encuadernamientos-vigo/
LOCATION:Museo Marco Vigo\, C/ Príncipe\, Vigo
CATEGORIES:Vigo
ATTACH;FMTTYPE=image/png:https://www.ategal.com/wp-content/uploads/2020/03/VisitaGuiada_Vigo.png
END:VEVENT
BEGIN:VEVENT
DTSTART;TZID=Europe/Paris:20200305T110000
DTEND;TZID=Europe/Paris:20200305T120000
DTSTAMP:20260423T003347
CREATED:20200304T210707Z
LAST-MODIFIED:20200405T113556Z
UID:4707-1583406000-1583409600@www.ategal.com
SUMMARY:"Mulleres ourensanas ao longo da historia" (Ourense)
DESCRIPTION:Con motivo do Día da Muller\, propoñemos este coloquio que repasa as distintas pioneiras ourensanas ao longo da historia. Antonio González faranos de guía.
URL:https://www.ategal.com/evento-ategal/mulleres-ourensanas-ao-longo-da-historia-ourense/
LOCATION:Ategal Ourense
CATEGORIES:Ourense
END:VEVENT
BEGIN:VEVENT
DTSTART;TZID=Europe/Paris:20200305T110000
DTEND;TZID=Europe/Paris:20200305T120000
DTSTAMP:20260423T003347
CREATED:20200304T210707Z
LAST-MODIFIED:20200304T210707Z
UID:7344-1583406000-1583409600@www.ategal.com
SUMMARY:"Mulleres ourensanas ao longo da historia" (Ourense)
DESCRIPTION:Con motivo do Día da Muller\, propoñemos este coloquio que repasa as distintas pioneiras ourensanas ao longo da historia. Antonio González faranos de guía.
URL:https://www.ategal.com/evento-ategal/mulleres-ourensanas-ao-longo-da-historia-ourense/
LOCATION:Ategal Ourense
CATEGORIES:Ourense
END:VEVENT
BEGIN:VEVENT
DTSTART;TZID=Europe/Paris:20200309T190000
DTEND;TZID=Europe/Paris:20200309T200000
DTSTAMP:20260423T003347
CREATED:20200305T215403Z
LAST-MODIFIED:20200405T113549Z
UID:4717-1583780400-1583784000@www.ategal.com
SUMMARY:Proxección e coloquio do cortometraxe "Purl" (Ourense)
DESCRIPTION:Este corto de Pixar nos ofrece la posibilidad de reflexionar sobre la desigualdad de género
URL:https://www.ategal.com/evento-ategal/proxeccion-e-coloquio-do-cortometraxe-purl-ourense/
LOCATION:Ategal Ourense
CATEGORIES:Ourense
ATTACH;FMTTYPE=image/png:https://www.ategal.com/wp-content/uploads/2020/03/Purl.png
END:VEVENT
BEGIN:VEVENT
DTSTART;TZID=Europe/Paris:20200309T190000
DTEND;TZID=Europe/Paris:20200309T200000
DTSTAMP:20260423T003347
CREATED:20200305T215403Z
LAST-MODIFIED:20200305T215403Z
UID:7343-1583780400-1583784000@www.ategal.com
SUMMARY:Proxección e coloquio do cortometraxe "Purl" (Ourense)
DESCRIPTION:Este corto de Pixar nos ofrece la posibilidad de reflexionar sobre la desigualdad de género
URL:https://www.ategal.com/evento-ategal/proxeccion-e-coloquio-do-cortometraxe-purl-ourense/
LOCATION:Ategal Ourense
CATEGORIES:Ourense
ATTACH;FMTTYPE=image/png:https://www.ategal.com/wp-content/uploads/2020/03/Purl.png
END:VEVENT
BEGIN:VEVENT
DTSTART;TZID=Europe/Paris:20200310T190000
DTEND;TZID=Europe/Paris:20200310T203000
DTSTAMP:20260423T003347
CREATED:20200306T105335Z
LAST-MODIFIED:20200405T113541Z
UID:4720-1583866800-1583872200@www.ategal.com
SUMMARY:Mesa redonda "Historias de Mulleres Reais" (Santiago de Compostela)
DESCRIPTION:Con motivo del Día de la Mujer\, celebramos en Santiago de Compostela esta mesa redonda para poner en valor a todas esas mujeres que llevan toda su vida trabajando por la igualdad entre hombres y mujeres. Desde una empleada del hogar hasta una profesora emérita de la Universidad de Santiago de Compostela ofrecerán su testimonio sobre el ámbito laboral\, la familia\, los avances del feminismo\, el legado que dejan\, entre otros temas.
URL:https://www.ategal.com/evento-ategal/mesa-redonda-historias-de-mulleres-reais-santiago-de-compostela/
LOCATION:Ategal Santiago\, Rúa Virxe da Cerca\, 31\, Santiago de Compostela\, A Coruña
CATEGORIES:Santiago de Compostela
ATTACH;FMTTYPE=image/jpeg:https://www.ategal.com/wp-content/uploads/2020/03/002_Mesa-de-trabajo-1--scaled.jpg
END:VEVENT
BEGIN:VEVENT
DTSTART;TZID=Europe/Paris:20200310T190000
DTEND;TZID=Europe/Paris:20200310T203000
DTSTAMP:20260423T003347
CREATED:20200306T105335Z
LAST-MODIFIED:20200306T105335Z
UID:7342-1583866800-1583872200@www.ategal.com
SUMMARY:Mesa redonda "Historias de Mulleres Reais" (Santiago de Compostela)
DESCRIPTION:Con motivo del Día de la Mujer\, celebramos en Santiago de Compostela esta mesa redonda para poner en valor a todas esas mujeres que llevan toda su vida trabajando por la igualdad entre hombres y mujeres. Desde una empleada del hogar hasta una profesora emérita de la Universidad de Santiago de Compostela ofrecerán su testimonio sobre el ámbito laboral\, la familia\, los avances del feminismo\, el legado que dejan\, entre otros temas.
URL:https://www.ategal.com/evento-ategal/mesa-redonda-historias-de-mulleres-reais-santiago-de-compostela/
LOCATION:Ategal Santiago\, Rúa Virxe da Cerca\, 31\, Santiago de Compostela\, A Coruña
CATEGORIES:Santiago de Compostela
ATTACH;FMTTYPE=image/jpeg:https://www.ategal.com/wp-content/uploads/2020/03/002_Mesa-de-trabajo-1--scaled.jpg
END:VEVENT
BEGIN:VEVENT
DTSTART;TZID=Europe/Paris:20200311T173000
DTEND;TZID=Europe/Paris:20200311T190000
DTSTAMP:20260423T003347
CREATED:20200305T215003Z
LAST-MODIFIED:20200405T113534Z
UID:4714-1583947800-1583953200@www.ategal.com
SUMMARY:Proxección e coloquio de "La buena esposa" (Ourense)
DESCRIPTION:Con motivo del Día de la Mujer\, decidimos ofreceros cine para pensar. Las aulas de Ourense proyectarán la película «La buena esposa» (2017)
URL:https://www.ategal.com/evento-ategal/proxeccion-e-coloquio-de-la-buena-esposa-ourense/
LOCATION:Ategal Ourense
CATEGORIES:Ourense
ATTACH;FMTTYPE=image/png:https://www.ategal.com/wp-content/uploads/2020/03/La-buena-esposa.png
END:VEVENT
BEGIN:VEVENT
DTSTART;TZID=Europe/Paris:20200311T173000
DTEND;TZID=Europe/Paris:20200311T190000
DTSTAMP:20260423T003348
CREATED:20200305T215003Z
LAST-MODIFIED:20200305T215003Z
UID:7341-1583947800-1583953200@www.ategal.com
SUMMARY:Proxección e coloquio de "La buena esposa" (Ourense)
DESCRIPTION:Con motivo del Día de la Mujer\, decidimos ofreceros cine para pensar. Las aulas de Ourense proyectarán la película «La buena esposa» (2017)
URL:https://www.ategal.com/evento-ategal/proxeccion-e-coloquio-de-la-buena-esposa-ourense/
LOCATION:Ategal Ourense
CATEGORIES:Ourense
ATTACH;FMTTYPE=image/png:https://www.ategal.com/wp-content/uploads/2020/03/La-buena-esposa.png
END:VEVENT
BEGIN:VEVENT
DTSTART;TZID=Europe/Paris:20200311T180000
DTEND;TZID=Europe/Paris:20200311T190000
DTSTAMP:20260423T003348
CREATED:20200306T110703Z
LAST-MODIFIED:20200306T110703Z
UID:7340-1583949600-1583953200@www.ategal.com
SUMMARY:Conferencia "Nuevo coronavirus emergente" (A Coruña)
DESCRIPTION:Para dar respuesta al interés de la población\, proponemos esta conferencia a cargo de un experto en Medicina Preventiva\, el Doctor Juan Jesús Gestal Otero. \nEl acto será transmitido vía streaming por el Canal Senior de la Federación de Universitarios Seniors (FEGAUS)
URL:https://www.ategal.com/evento-ategal/conferencia-nuevo-coronavirus-emergente-a-coruna/
LOCATION:Ategal A Coruña\, A Coruña
CATEGORIES:A Coruña
ATTACH;FMTTYPE=image/jpeg:https://www.ategal.com/wp-content/uploads/2020/03/0001-9-scaled.jpg
END:VEVENT
BEGIN:VEVENT
DTSTART;TZID=Europe/Paris:20200311T180000
DTEND;TZID=Europe/Paris:20200311T190000
DTSTAMP:20260423T003348
CREATED:20200306T110703Z
LAST-MODIFIED:20200405T113527Z
UID:4723-1583949600-1583953200@www.ategal.com
SUMMARY:Conferencia "Nuevo coronavirus emergente" (A Coruña)
DESCRIPTION:Para dar respuesta al interés de la población\, proponemos esta conferencia a cargo de un experto en Medicina Preventiva\, el Doctor Juan Jesús Gestal Otero. \nEl acto será transmitido vía streaming por el Canal Senior de la Federación de Universitarios Seniors (FEGAUS)
URL:https://www.ategal.com/evento-ategal/conferencia-nuevo-coronavirus-emergente-a-coruna/
LOCATION:Ategal A Coruña\, A Coruña
CATEGORIES:A Coruña
ATTACH;FMTTYPE=image/jpeg:https://www.ategal.com/wp-content/uploads/2020/03/0001-9-scaled.jpg
END:VEVENT
BEGIN:VEVENT
DTSTART;TZID=Europe/Paris:20200311T183000
DTEND;TZID=Europe/Paris:20200311T193000
DTSTAMP:20260423T003348
CREATED:20200305T214529Z
LAST-MODIFIED:20200405T113521Z
UID:4710-1583951400-1583955000@www.ategal.com
SUMMARY:Conferencia "A contribución das persoas maiores ao benestar" (Vigo)
DESCRIPTION:Con motivo del Día de la Mujer\, Mª Xosé Rodríguez Galdo\, economista y profesora emérita de la Universidade de Santiago de Compostela nos ofrecerá esta conferencia.
URL:https://www.ategal.com/evento-ategal/conferencia-a-contribucion-das-persoas-maiores-ao-benestar-vigo/
LOCATION:Ategal Vigo\, Travesía do Pino\, 2-entrechan\, Vigo\, Pontevedra
CATEGORIES:Vigo
ATTACH;FMTTYPE=image/png:https://www.ategal.com/wp-content/uploads/2020/03/Conferencia-con-motivo-del-1.png
END:VEVENT
BEGIN:VEVENT
DTSTART;TZID=Europe/Paris:20200311T183000
DTEND;TZID=Europe/Paris:20200311T193000
DTSTAMP:20260423T003348
CREATED:20200305T214529Z
LAST-MODIFIED:20200305T214529Z
UID:7339-1583951400-1583955000@www.ategal.com
SUMMARY:Conferencia "A contribución das persoas maiores ao benestar" (Vigo)
DESCRIPTION:Con motivo del Día de la Mujer\, Mª Xosé Rodríguez Galdo\, economista y profesora emérita de la Universidade de Santiago de Compostela nos ofrecerá esta conferencia.
URL:https://www.ategal.com/evento-ategal/conferencia-a-contribucion-das-persoas-maiores-ao-benestar-vigo/
LOCATION:Ategal Vigo\, Travesía do Pino\, 2-entrechan\, Vigo\, Pontevedra
CATEGORIES:Vigo
ATTACH;FMTTYPE=image/png:https://www.ategal.com/wp-content/uploads/2020/03/Conferencia-con-motivo-del-1.png
END:VEVENT
BEGIN:VEVENT
DTSTART;TZID=Europe/Paris:20200429T080000
DTEND;TZID=Europe/Paris:20200429T170000
DTSTAMP:20260423T003348
CREATED:20200423T075044Z
LAST-MODIFIED:20200720T094417Z
UID:10605-1588147200-1588179600@www.ategal.com
SUMMARY:Conferencia "A contribución das persoas maiores ao benestar" (Ferrol)
DESCRIPTION:Con motivo del Día de la Mujer\, Mª Xosé Rodríguez Galdo\, economista y profesora emérita de la Universidade de Santiago de Compostela nos ofrecerá esta conferencia.
URL:https://www.ategal.com/evento-ategal/conferencia-a-contribucion-das-persoas-maiores-ao-benestar-ferrol/
LOCATION:Ategal Ferrol\, Galiano\, 17-1º\, Ferrol
CATEGORIES:Ferrol
ATTACH;FMTTYPE=image/png:https://www.ategal.com/wp-content/uploads/2018/10/active.png
END:VEVENT
BEGIN:VEVENT
DTSTART;TZID=Europe/Paris:20200429T080000
DTEND;TZID=Europe/Paris:20200429T170000
DTSTAMP:20260423T003348
CREATED:20200423T075044Z
LAST-MODIFIED:20200720T094445Z
UID:10608-1588147200-1588179600@www.ategal.com
SUMMARY:Conferencia "A contribución das persoas maiores ao benestar" (Ferrol)
DESCRIPTION:Con motivo del Día de la Mujer\, Mª Xosé Rodríguez Galdo\, economista y profesora emérita de la Universidade de Santiago de Compostela nos ofrecerá esta conferencia.
URL:https://www.ategal.com/evento-ategal/conferencia-a-contribucion-das-persoas-maiores-ao-benestar-ferrol/
LOCATION:Ategal Ferrol\, Galiano\, 17-1º\, Ferrol
CATEGORIES:Ferrol
ATTACH;FMTTYPE=image/png:https://www.ategal.com/wp-content/uploads/2018/10/active.png
END:VEVENT
END:VCALENDAR