BEGIN:VCALENDAR
VERSION:2.0
PRODID:-//Ategal - ECPv6.15.20//NONSGML v1.0//EN
CALSCALE:GREGORIAN
METHOD:PUBLISH
X-ORIGINAL-URL:https://www.ategal.com
X-WR-CALDESC:Eventos para Ategal
REFRESH-INTERVAL;VALUE=DURATION:PT1H
X-Robots-Tag:noindex
X-PUBLISHED-TTL:PT1H
BEGIN:VTIMEZONE
TZID:Europe/Paris
BEGIN:DAYLIGHT
TZOFFSETFROM:+0100
TZOFFSETTO:+0200
TZNAME:CEST
DTSTART:20170326T010000
END:DAYLIGHT
BEGIN:STANDARD
TZOFFSETFROM:+0200
TZOFFSETTO:+0100
TZNAME:CET
DTSTART:20171029T010000
END:STANDARD
BEGIN:DAYLIGHT
TZOFFSETFROM:+0100
TZOFFSETTO:+0200
TZNAME:CEST
DTSTART:20180325T010000
END:DAYLIGHT
BEGIN:STANDARD
TZOFFSETFROM:+0200
TZOFFSETTO:+0100
TZNAME:CET
DTSTART:20181028T010000
END:STANDARD
BEGIN:DAYLIGHT
TZOFFSETFROM:+0100
TZOFFSETTO:+0200
TZNAME:CEST
DTSTART:20190331T010000
END:DAYLIGHT
BEGIN:STANDARD
TZOFFSETFROM:+0200
TZOFFSETTO:+0100
TZNAME:CET
DTSTART:20191027T010000
END:STANDARD
END:VTIMEZONE
BEGIN:VEVENT
DTSTART;TZID=Europe/Paris:20181121T000000
DTEND;TZID=Europe/Paris:20181121T213000
DTSTAMP:20260423T213604
CREATED:20181120T173304Z
LAST-MODIFIED:20181120T173304Z
UID:2311-1542758400-1542835800@www.ategal.com
SUMMARY:"I Foro ActivIDADE de alimentación e envellecemento activo"
DESCRIPTION:La Unión de Consumidores de Galicia y la Xunta de Galicia organizan en Santiago el «I Foro ActivIDADE de alimentación e envellecemento activo». \nUn foro profesional que se celebra el miércoles 21 de noviembre en la Cidade da Cultura de Santiago de Compostela y en el que participa Ategal con una conferencia de su formadora\, orientadora y psicóloga\, María José Fares Varela. \nPuedes ver aquí el programa.
URL:https://www.ategal.com/evento-ategal/i-foro-actividade-de-alimentacion-e-envellecemento-activo/
LOCATION:Pontevedra
END:VEVENT
BEGIN:VEVENT
DTSTART;TZID=Europe/Paris:20181121T190000
DTEND;TZID=Europe/Paris:20181121T203000
DTSTAMP:20260423T213604
CREATED:20181120T173640Z
LAST-MODIFIED:20181120T173640Z
UID:2313-1542826800-1542832200@www.ategal.com
SUMMARY:Taller formativo: "Consumidores a todo riesgo"
DESCRIPTION:
URL:https://www.ategal.com/evento-ategal/taller-formativo-consumidores-a-todo-riesgo/
LOCATION:Pontevedra
END:VEVENT
BEGIN:VEVENT
DTSTART;TZID=Europe/Paris:20181121T193000
DTEND;TZID=Europe/Paris:20181121T203000
DTSTAMP:20260423T213604
CREATED:20181120T173717Z
LAST-MODIFIED:20181120T173717Z
UID:2315-1542828600-1542832200@www.ategal.com
SUMMARY:"Micromachismos e machismos tolerados"
DESCRIPTION:A docente universitaria da USC e psicóloga Mar Bernal imparte este mércores 21 de novembro na sede de Ategal de Santiago (rúa Virxe da Cerca\, 31) o relatoiro e debate «Micromachismos e machismos tolerados».  \nA entrada é de balde.
URL:https://www.ategal.com/evento-ategal/micromachismos-e-machismos-tolerados/
LOCATION:Pontevedra
END:VEVENT
BEGIN:VEVENT
DTSTART;TZID=Europe/Paris:20181124T093000
DTEND;TZID=Europe/Paris:20181125T200000
DTSTAMP:20260423T213604
CREATED:20181122T233600Z
LAST-MODIFIED:20181123T072221Z
UID:2366-1543051800-1543176000@www.ategal.com
SUMMARY:Ategal participa en 'Make Faire la feria de inventores e inventoras más grande del mundo'
DESCRIPTION:Docentes y alumnado de Ategal estarán el sábado 24 y el domingo 25 de noviembre en la ‘Maker Faire Galicia 2018’ o «feria de inventores e inventoras más grande del mundo». \nLas personas mayores de Ategal participarán en diferentes actividades como un taller específico impartido por VermisLAB\, la empresa santiaguesa organizadora del evento. \nEn concreto\, trabajarán modelando «plastilina conductiva» que sirve como cable eléctrico con el que iluminarán varios puntos led y harán sonar un zumbador. \nTanto Ategal como Vermislab invitan a todas las personas mayores que lo deseen a participar en este y otros talleres que están a su disposición en la feria. \nPrograma en este enlace directo.
URL:https://www.ategal.com/evento-ategal/ategal-participa-en-make-faire-la-feria-de-inventores-e-inventoras-mas-grande-del-mundo/
LOCATION:Cidade da Cultura\, Santiago de Compostela
END:VEVENT
BEGIN:VEVENT
DTSTART;TZID=Europe/Paris:20181125T110000
DTEND;TZID=Europe/Paris:20181125T123000
DTSTAMP:20260423T213604
CREATED:20181123T172856Z
LAST-MODIFIED:20181123T174826Z
UID:2402-1543143600-1543149000@www.ategal.com
SUMMARY:'VI Andaina contra a violencia de xénero. Camiño ao respecto'
DESCRIPTION:As Aulas Senior de Galicia\, Ategal\, de Santiago participan o domingo 25 de novembro na ‘VI Andaina contra a violencia de género. Camiño ao respecto’ que organiza a Secretaría Xeral da Igualdade da Xunta de Galicia.  \nTrátase dunha iniciativa do Goberno galego co gallo do Día Internacional contra a Violencia de Xénero que se conmemora en todo o mundo o mesmo 25 de novembro. \nO programa comeza as 11.00 horas no Punto de Información do Monte de Gozo onde comezará a andaina para chegar as 12.30 horas na Praza do Obradoiro.  \nAlí se leerá un manifesto contra a violencia de xénero.  \nToda aquela persoa interesada en participar pode apuntarse no email igualdade@xunta.gal ou no teléfono 981 545 351. \n 
URL:https://www.ategal.com/evento-ategal/vi-andaina-contra-a-violencia-de-xenero-camino-ao-respecto/
LOCATION:Monte do Gozo\, Santiago de Compostela
ATTACH;FMTTYPE=image/jpeg:https://www.ategal.com/wp-content/uploads/2018/11/AndainaXenero-1.jpg
END:VEVENT
BEGIN:VEVENT
DTSTART;TZID=Europe/Paris:20181127T173000
DTEND;TZID=Europe/Paris:20181127T193000
DTSTAMP:20260423T213604
CREATED:20181125T175704Z
LAST-MODIFIED:20181125T180748Z
UID:2411-1543339800-1543347000@www.ategal.com
SUMMARY:Visita ao cadro de Castelao "A derradeira leición do mestre"
DESCRIPTION:O martes 27 de novembro as 17.30 horas o alumnado de Ategal vai visitar o cadro de Castelao «A derradeira lección do mestre» que está exposto no Museo Gaias\, da Cidade da Cultura de Santiago. \nPodese acudir por medios propios ou coller en grupo o bus urbán (liña 9) na rúa Senra. \nParadoxalmente\, é a primeira vez que se pode contemplar a obra en Galicia. Castelao pintou o cadro en 1945 no exilio. Dende entón permaneceu en Bos Aires ata o mes pasado. \nEsta obra está considerada o «Guernica galego» pola súa defensa da educación a ultranza e a repulsa ao fusilamento do galeguista Alexandre Bóveda coa intención que o pintou a seu autor. \nMáis información sobre Castelao e o seu cadro neste enlace directo.  \n  \n 
URL:https://www.ategal.com/evento-ategal/visita-ao-cadro-de-castelao-a-derradeira-leccion-do-mestre/
LOCATION:Cidade da Cultura\, Santiago de Compostela
END:VEVENT
BEGIN:VEVENT
DTSTART;TZID=Europe/Paris:20181128T190000
DTEND;TZID=Europe/Paris:20181128T203000
DTSTAMP:20260423T213604
CREATED:20181120T173748Z
LAST-MODIFIED:20181122T155646Z
UID:2317-1543431600-1543437000@www.ategal.com
SUMMARY:Audiciones comentadas Rameau "Hippolyte y Aricie" en  Ategal Vigo
DESCRIPTION:
URL:https://www.ategal.com/evento-ategal/auduciones-comentadas-rameau-hippolyte-y-aricie-en-ategal-vigo/
LOCATION:Pontevedra
END:VEVENT
BEGIN:VEVENT
DTSTART;TZID=Europe/Paris:20181129T163000
DTEND;TZID=Europe/Paris:20181129T190000
DTSTAMP:20260423T213604
CREATED:20181125T181818Z
LAST-MODIFIED:20181125T181818Z
UID:2417-1543509000-1543518000@www.ategal.com
SUMMARY:Xornada no Balneario de Cuntis para o alumnado de Ategal Padrón
DESCRIPTION:Ategal Padrón e o Concello da localidade organizan conxuntamente unha xornada para que o alumnado da entidade poida desfrutar do Balneario de Cuntis. \nSerá o xoves 29 de novembro co seguinte programa: \n16.15 h. Saída do Campo do Souto \n16.45 horas a 18.45 horas. Desfrute das Termas de Cuntis Acuaforum. Circuito lúdico termal. \n19.00 horas. Saída de Cuntis. \n  \nPrezo por persoa: 21 € \nObrigatorio o uso de gorro + chanclas + toalla. \nInscripcións a partir do 9 de novembro nas Aulas Senior Padrón
URL:https://www.ategal.com/evento-ategal/xornada-no-balneario-de-cuntis-para-o-alumnado-de-ategal-padron/
LOCATION:Balneario de Cuntis\, Cuntis
END:VEVENT
BEGIN:VEVENT
DTSTART;TZID=Europe/Paris:20181129T200000
DTEND;TZID=Europe/Paris:20181129T210000
DTSTAMP:20260423T213605
CREATED:20181129T133722Z
LAST-MODIFIED:20181204T182939Z
UID:2437-1543521600-1543525200@www.ategal.com
SUMMARY:"Espacio Taizé" en Ategal A Coruña
DESCRIPTION:Espacio Taizé se celebra de forma gratuita este jueves 29 de noviembre a las 20.00 horas en la Iglesia del Sagrado Corazón (pegada al Centro Fonseca donde están las Aulas). \nLa imparten Borja Iturbe y María Bercea\, profesora de música del Colegio Fonseca de la ciudad.
URL:https://www.ategal.com/evento-ategal/espacio-taize-en-ategal-a-coruna/
LOCATION:Iglesia Sagrado Corazón A Coruña\, A Coruña
END:VEVENT
BEGIN:VEVENT
DTSTART;TZID=Europe/Paris:20181130T180000
DTEND;TZID=Europe/Paris:20181130T193000
DTSTAMP:20260423T213605
CREATED:20181125T182448Z
LAST-MODIFIED:20181204T182908Z
UID:2421-1543600800-1543606200@www.ategal.com
SUMMARY:"Cine Forum" en Ategal A Coruña
DESCRIPTION:Como parte de sus actividades programadas para noviembre\, la sede de Ategal A Coruña celebra el viernes 30 una nueva sesión de ‘Cine Forum’ con la proyección de la película «Un italiano en Noruega».  \nLa película se exhibirá a las 18.00 horas en el aula 1 del 2º piso.  \nEl film es una comedia con una duración de 1 hora y 36 minutos.
URL:https://www.ategal.com/evento-ategal/cine-forum-en-ategal-a-coruna/
LOCATION:Ategal A Coruña\, A Coruña
END:VEVENT
END:VCALENDAR