BEGIN:VCALENDAR
VERSION:2.0
PRODID:-//Ategal - ECPv6.15.20//NONSGML v1.0//EN
CALSCALE:GREGORIAN
METHOD:PUBLISH
X-WR-CALNAME:Ategal
X-ORIGINAL-URL:https://www.ategal.com
X-WR-CALDESC:Eventos para Ategal
REFRESH-INTERVAL;VALUE=DURATION:PT1H
X-Robots-Tag:noindex
X-PUBLISHED-TTL:PT1H
BEGIN:VTIMEZONE
TZID:Europe/Paris
BEGIN:DAYLIGHT
TZOFFSETFROM:+0100
TZOFFSETTO:+0200
TZNAME:CEST
DTSTART:20180325T010000
END:DAYLIGHT
BEGIN:STANDARD
TZOFFSETFROM:+0200
TZOFFSETTO:+0100
TZNAME:CET
DTSTART:20181028T010000
END:STANDARD
BEGIN:DAYLIGHT
TZOFFSETFROM:+0100
TZOFFSETTO:+0200
TZNAME:CEST
DTSTART:20190331T010000
END:DAYLIGHT
BEGIN:STANDARD
TZOFFSETFROM:+0200
TZOFFSETTO:+0100
TZNAME:CET
DTSTART:20191027T010000
END:STANDARD
BEGIN:DAYLIGHT
TZOFFSETFROM:+0100
TZOFFSETTO:+0200
TZNAME:CEST
DTSTART:20200329T010000
END:DAYLIGHT
BEGIN:STANDARD
TZOFFSETFROM:+0200
TZOFFSETTO:+0100
TZNAME:CET
DTSTART:20201025T010000
END:STANDARD
END:VTIMEZONE
BEGIN:VEVENT
DTSTART;TZID=Europe/Paris:20190124T110000
DTEND;TZID=Europe/Paris:20190124T123000
DTSTAMP:20260423T181219
CREATED:20190123T171332Z
LAST-MODIFIED:20190124T090348Z
UID:2729-1548327600-1548333000@www.ategal.com
SUMMARY:'Club de Lectura Anagnosis' en las aulas de Ategal Padrón
DESCRIPTION:El jueves 24 de enero las aulas de Padrón celebran una nueva sesión del ‘Club de lectura Anagnosis’ en colaboración con la Fundación Camilo José Cela. \nEn esta ocasión con el libro ‘Lágrimas en la lluvia’ de Rosa Montero.
URL:https://www.ategal.com/evento-ategal/club-de-lectura-anagnosis-en-las-aulas-de-ategal-padron/
LOCATION:Ategal Padrón
END:VEVENT
BEGIN:VEVENT
DTSTART;TZID=Europe/Paris:20190129T180000
DTEND;TZID=Europe/Paris:20190129T200000
DTSTAMP:20260423T181219
CREATED:20190128T182705Z
LAST-MODIFIED:20190128T182810Z
UID:2782-1548784800-1548792000@www.ategal.com
SUMMARY:Visita guiada á 'Fundación Eugenio Granell' de Ategal Santiago
DESCRIPTION:O alumnado das aulas de Ategal de Santiago teñen unha visita guiada á Fundación Eugenio Granell da cidade este martes 29 de xaneiro ás 18.00 horas. \n 
URL:https://www.ategal.com/evento-ategal/visita-guiada-a-fundacion-eugenio-granell-de-ategal-santiago/
LOCATION:Fundación Eugenio Granell\, Praza do Toural\, 2\, Santiago de Compostela\, www.fundacion-granell.org
END:VEVENT
BEGIN:VEVENT
DTSTART;TZID=Europe/Paris:20190129T183000
DTEND;TZID=Europe/Paris:20190129T200000
DTSTAMP:20260423T181219
CREATED:20190123T172937Z
LAST-MODIFIED:20190123T173349Z
UID:2736-1548786600-1548792000@www.ategal.com
SUMMARY:'Audiciones comentadas' en las aulas senior de Ategal Vigo
DESCRIPTION:El martes 29  de enero a las 18.30 horas en las aulas de Ategal Vigo se celebra una nueva sesión de ‘Audiciones Comentadas’. En esta ocasión con la obra del Romanticismo ‘El Barbero de Sevilla’ de Rossini. \n 
URL:https://www.ategal.com/evento-ategal/audiciones-comentadas-en-las-aulas-senior-de-ategal-vigo/
LOCATION:Ategal Vigo\, Travesía do Pino\, 2-entrechan\, Vigo
END:VEVENT
BEGIN:VEVENT
DTSTART;TZID=Europe/Paris:20190129T190000
DTEND;TZID=Europe/Paris:20190129T203000
DTSTAMP:20260423T181219
CREATED:20190127T193345Z
LAST-MODIFIED:20190127T193648Z
UID:2775-1548788400-1548793800@www.ategal.com
SUMMARY:Visita guiada de Ategal A Coruña a la exposición de Sonoro Empeño de Afundación
DESCRIPTION:El martes 29 de enero a las 19.00 horas el alumnado de Ategal A Coruña tiene una visita guiada a la ‘Exposición de Sonoro Empeño de Afundación’. \nEl punto de encuentro es en la entrada principal de Afundación (rúa Cantón Grande\, 8). \nMás información sobre la exposición en este enlace directo. 
URL:https://www.ategal.com/evento-ategal/2775/
LOCATION:Sede de Afundación de A Coruña\, Cantón Grande\, 8\, A Coruña
ATTACH;FMTTYPE=image/jpeg:https://www.ategal.com/wp-content/uploads/2019/01/sonoro_ou__wide.jpg
END:VEVENT
BEGIN:VEVENT
DTSTART;TZID=Europe/Paris:20190130T170000
DTEND;TZID=Europe/Paris:20190130T190000
DTSTAMP:20260423T181219
CREATED:20190123T165147Z
LAST-MODIFIED:20190123T171411Z
UID:2717-1548867600-1548874800@www.ategal.com
SUMMARY:Primer taller del curso 'Una salud de cine' en las aulas senior de Ategal Ourense
DESCRIPTION:El 30 de enero comienza en las aulas de Ourense el curso ‘Una salud de cine’ con el taller ‘Cantando bajo la lluvia: de la salud a la enfermedad’.  \nEl resto de talleres se celebran\, de 17 horas a 19 horas los miércoles 27 de febrero\, 27 de marzo\, 24 de abril\, 29 de mayo y 26 de junio.  \nTodos los talleres serán impartidos por la médica de familia y coach\, Estefanía Zardoya. 
URL:https://www.ategal.com/evento-ategal/taller-una-salud-de-cine/
LOCATION:Ategal Ourense
ATTACH;FMTTYPE=image/jpeg:https://www.ategal.com/wp-content/uploads/2019/01/AtegalViaqua2-scaled.jpg
END:VEVENT
BEGIN:VEVENT
DTSTART;TZID=Europe/Paris:20190131T090000
DTEND;TZID=Europe/Paris:20190131T210000
DTSTAMP:20260423T181219
CREATED:20190123T174415Z
LAST-MODIFIED:20190123T174415Z
UID:2740-1548925200-1548968400@www.ategal.com
SUMMARY:Excursión del alumnado de Ategal Ferrol a Santiago
DESCRIPTION:El alumnado de las aulas senior de Ategal Ferrol viaja a Santiago de Compostela para visitar el Pórtico de la Gloria y la exposición del cuadro de Castelao ‘A derradeira lección do mestre‘ de Castelao en el Museo Gaias de A Cidade da Cultura. 
URL:https://www.ategal.com/evento-ategal/excursion-del-alumnado-de-ategal-ferrol-a-santiago/
LOCATION:Santiago de Compostela
END:VEVENT
BEGIN:VEVENT
DTSTART;TZID=Europe/Paris:20190131T160000
DTEND;TZID=Europe/Paris:20190131T190000
DTSTAMP:20260423T181219
CREATED:20190127T182116Z
LAST-MODIFIED:20190127T182123Z
UID:2766-1548950400-1548961200@www.ategal.com
SUMMARY:Excursión del alumnado de Padrón al Balneario de Cuntis
DESCRIPTION:El jueves 31 de enero las aulas de Ategal Padrón participan en un programa termal en el Balneario de Cuntis. Las personas inscritas salen a las 16.00 horas de las aulas para disfrutar de las termas entre las 17.00 horas y las 19.00 horas. \n 
URL:https://www.ategal.com/evento-ategal/excursion-del-alumnado-de-padron-al-balneario-de-cuntis/
LOCATION:Balneario de Cuntis
END:VEVENT
BEGIN:VEVENT
DTSTART;TZID=Europe/Paris:20190131T200000
DTEND;TZID=Europe/Paris:20190131T210000
DTSTAMP:20260423T181219
CREATED:20190127T194450Z
LAST-MODIFIED:20190127T194501Z
UID:2780-1548964800-1548968400@www.ategal.com
SUMMARY:Sesión del 'Espacio Taizé. La Paz' de Ategal A Coruña
DESCRIPTION:El jueves 31 de enero las aulas Ategal de A Coruña celebran una sesión más del ‘Espacio Taizé’ dedicado en esta ocasión a la paz. \nSe celebra a las 20.00 horas en la Iglesia del Sagrado Corazón. 
URL:https://www.ategal.com/evento-ategal/sesion-del-espacio-taize-la-paz-de-ategal-a-coruna/
LOCATION:Iglesia Sagrado Corazón A Coruña\, A Coruña
END:VEVENT
END:VCALENDAR