BEGIN:VCALENDAR
VERSION:2.0
PRODID:-//Ategal - ECPv6.15.20//NONSGML v1.0//EN
CALSCALE:GREGORIAN
METHOD:PUBLISH
X-WR-CALNAME:Ategal
X-ORIGINAL-URL:https://www.ategal.com
X-WR-CALDESC:Eventos para Ategal
REFRESH-INTERVAL;VALUE=DURATION:PT1H
X-Robots-Tag:noindex
X-PUBLISHED-TTL:PT1H
BEGIN:VTIMEZONE
TZID:Europe/Paris
BEGIN:DAYLIGHT
TZOFFSETFROM:+0100
TZOFFSETTO:+0200
TZNAME:CEST
DTSTART:20180325T010000
END:DAYLIGHT
BEGIN:STANDARD
TZOFFSETFROM:+0200
TZOFFSETTO:+0100
TZNAME:CET
DTSTART:20181028T010000
END:STANDARD
BEGIN:DAYLIGHT
TZOFFSETFROM:+0100
TZOFFSETTO:+0200
TZNAME:CEST
DTSTART:20190331T010000
END:DAYLIGHT
BEGIN:STANDARD
TZOFFSETFROM:+0200
TZOFFSETTO:+0100
TZNAME:CET
DTSTART:20191027T010000
END:STANDARD
BEGIN:DAYLIGHT
TZOFFSETFROM:+0100
TZOFFSETTO:+0200
TZNAME:CEST
DTSTART:20200329T010000
END:DAYLIGHT
BEGIN:STANDARD
TZOFFSETFROM:+0200
TZOFFSETTO:+0100
TZNAME:CET
DTSTART:20201025T010000
END:STANDARD
END:VTIMEZONE
BEGIN:VEVENT
DTSTART;TZID=Europe/Paris:20191204T183000
DTEND;TZID=Europe/Paris:20191204T200000
DTSTAMP:20260423T001156
CREATED:20191029T193941Z
LAST-MODIFIED:20191203T051736Z
UID:4448-1575484200-1575489600@www.ategal.com
SUMMARY:Ategal Vigo Obradoiro Adornos de Nadal
DESCRIPTION:
URL:https://www.ategal.com/evento-ategal/ategal-vigo-obradoiro-adornos-de-nadal/
LOCATION:Ategal Vigo\, Travesía do Pino\, 2-entrechan\, Vigo\, Pontevedra
END:VEVENT
BEGIN:VEVENT
DTSTART;TZID=Europe/Paris:20191204T183000
DTEND;TZID=Europe/Paris:20191204T200000
DTSTAMP:20260423T001156
CREATED:20191029T193941Z
LAST-MODIFIED:20191029T193941Z
UID:7379-1575484200-1575489600@www.ategal.com
SUMMARY:Ategal Vigo Obradoiro Adornos de Nadal
DESCRIPTION:
URL:https://www.ategal.com/evento-ategal/ategal-vigo-obradoiro-adornos-de-nadal/
LOCATION:Ategal Vigo\, Travesía do Pino\, 2-entrechan\, Vigo\, Pontevedra
END:VEVENT
BEGIN:VEVENT
DTSTART;TZID=Europe/Paris:20191212T173000
DTEND;TZID=Europe/Paris:20191212T183000
DTSTAMP:20260423T001156
CREATED:20191120T122606Z
LAST-MODIFIED:20191120T122606Z
UID:4542-1576171800-1576175400@www.ategal.com
SUMMARY:Ategal Vigo actuación de Nadal do coro en Residencia DomusVI
DESCRIPTION:
URL:https://www.ategal.com/evento-ategal/ategal-vigo-actuacion-de-nadal-do-coro-en-residencia-domusvi/
LOCATION:Teis-Vigo
END:VEVENT
BEGIN:VEVENT
DTSTART;TZID=Europe/Paris:20191212T173000
DTEND;TZID=Europe/Paris:20191212T183000
DTSTAMP:20260423T001156
CREATED:20191120T122606Z
LAST-MODIFIED:20191120T122606Z
UID:7378-1576171800-1576175400@www.ategal.com
SUMMARY:Ategal Vigo actuación de Nadal do coro en Residencia DomusVI
DESCRIPTION:
URL:https://www.ategal.com/evento-ategal/ategal-vigo-actuacion-de-nadal-do-coro-en-residencia-domusvi/
LOCATION:Teis-Vigo
END:VEVENT
BEGIN:VEVENT
DTSTART;TZID=Europe/Paris:20191213T113000
DTEND;TZID=Europe/Paris:20191213T133000
DTSTAMP:20260423T001156
CREATED:20191029T193549Z
LAST-MODIFIED:20191029T193549Z
UID:7377-1576236600-1576243800@www.ategal.com
SUMMARY:Ategal Vigo Visita Exposición Galaicos Museo de Pontevedra
DESCRIPTION:
URL:https://www.ategal.com/evento-ategal/ategal-vigo-visita-exposicion-galaicos-museo-de-pontevedra/
LOCATION:Museo de Pontevedra
END:VEVENT
BEGIN:VEVENT
DTSTART;TZID=Europe/Paris:20191213T113000
DTEND;TZID=Europe/Paris:20191213T133000
DTSTAMP:20260423T001156
CREATED:20191029T193549Z
LAST-MODIFIED:20191029T193549Z
UID:4444-1576236600-1576243800@www.ategal.com
SUMMARY:Ategal Vigo Visita Exposición Galaicos Museo de Pontevedra
DESCRIPTION:
URL:https://www.ategal.com/evento-ategal/ategal-vigo-visita-exposicion-galaicos-museo-de-pontevedra/
LOCATION:Museo de Pontevedra
END:VEVENT
BEGIN:VEVENT
DTSTART;TZID=Europe/Paris:20191217T193000
DTEND;TZID=Europe/Paris:20191217T203000
DTSTAMP:20260423T001156
CREATED:20191120T122339Z
LAST-MODIFIED:20191203T051638Z
UID:4538-1576611000-1576614600@www.ategal.com
SUMMARY:Ategal Vigo participa en el Certamen de Panxoliñas Concello Ourense
DESCRIPTION:
URL:https://www.ategal.com/evento-ategal/ategal-vigo-participa-en-el-certamen-de-panxolinas-concello-ourense/
LOCATION:Igrexa Santa María Nai Ourense\, Ourense
END:VEVENT
BEGIN:VEVENT
DTSTART;TZID=Europe/Paris:20191217T193000
DTEND;TZID=Europe/Paris:20191217T203000
DTSTAMP:20260423T001156
CREATED:20191120T122339Z
LAST-MODIFIED:20191120T122339Z
UID:7375-1576611000-1576614600@www.ategal.com
SUMMARY:Ategal Vigo participa en el Certamen de Panxoliñas Concello Ourense
DESCRIPTION:
URL:https://www.ategal.com/evento-ategal/ategal-vigo-participa-en-el-certamen-de-panxolinas-concello-ourense/
LOCATION:Igrexa Santa María Nai Ourense\, Ourense
END:VEVENT
BEGIN:VEVENT
DTSTART;TZID=Europe/Paris:20191219T180000
DTEND;TZID=Europe/Paris:20191219T193000
DTSTAMP:20260423T001156
CREATED:20191216T101100Z
LAST-MODIFIED:20191216T101100Z
UID:4562-1576778400-1576783800@www.ategal.com
SUMMARY:Costumbres navideñas en el extranjero (Ategal Ferrol)
DESCRIPTION:La profesora\, traductora e intérprete Drazenka Milovanovic (1968\, Zagreb\, Croacia) imparte una charla sobre costumbres extranjeras en estas fechas. Una tentativa de acercar otras culturas a la población ferrolana. Drazenka es licenciada en Literatura Comparada y Literatura y Filología Españolas por la Universidad de Zagreb (1994). Posee\, además\, un máster en literatura (2012) y vive en España desde hace quince años\, aunque es ferrolana desde este verano.
URL:https://www.ategal.com/evento-ategal/costumbres-navidenas-en-el-extranjero-ategal-ferrol/
LOCATION:Ategal Ferrol\, Galiano\, 17-1º\, Ferrol
ATTACH;FMTTYPE=image/png:https://www.ategal.com/wp-content/uploads/2019/12/Propuesta1.png
END:VEVENT
BEGIN:VEVENT
DTSTART;TZID=Europe/Paris:20191219T180000
DTEND;TZID=Europe/Paris:20191219T193000
DTSTAMP:20260423T001156
CREATED:20191216T101100Z
LAST-MODIFIED:20191216T101100Z
UID:7374-1576778400-1576783800@www.ategal.com
SUMMARY:Costumbres navideñas en el extranjero (Ategal Ferrol)
DESCRIPTION:La profesora\, traductora e intérprete Drazenka Milovanovic (1968\, Zagreb\, Croacia) imparte una charla sobre costumbres extranjeras en estas fechas. Una tentativa de acercar otras culturas a la población ferrolana. Drazenka es licenciada en Literatura Comparada y Literatura y Filología Españolas por la Universidad de Zagreb (1994). Posee\, además\, un máster en literatura (2012) y vive en España desde hace quince años\, aunque es ferrolana desde este verano.
URL:https://www.ategal.com/evento-ategal/costumbres-navidenas-en-el-extranjero-ategal-ferrol/
LOCATION:Ategal Ferrol\, Galiano\, 17-1º\, Ferrol
ATTACH;FMTTYPE=image/png:https://www.ategal.com/wp-content/uploads/2019/12/Propuesta1.png
END:VEVENT
END:VCALENDAR