BEGIN:VCALENDAR
VERSION:2.0
PRODID:-//Ategal - ECPv6.15.20//NONSGML v1.0//EN
CALSCALE:GREGORIAN
METHOD:PUBLISH
X-WR-CALNAME:Ategal
X-ORIGINAL-URL:https://www.ategal.com
X-WR-CALDESC:Eventos para Ategal
REFRESH-INTERVAL;VALUE=DURATION:PT1H
X-Robots-Tag:noindex
X-PUBLISHED-TTL:PT1H
BEGIN:VTIMEZONE
TZID:Europe/Paris
BEGIN:DAYLIGHT
TZOFFSETFROM:+0100
TZOFFSETTO:+0200
TZNAME:CEST
DTSTART:20190331T010000
END:DAYLIGHT
BEGIN:STANDARD
TZOFFSETFROM:+0200
TZOFFSETTO:+0100
TZNAME:CET
DTSTART:20191027T010000
END:STANDARD
BEGIN:DAYLIGHT
TZOFFSETFROM:+0100
TZOFFSETTO:+0200
TZNAME:CEST
DTSTART:20200329T010000
END:DAYLIGHT
BEGIN:STANDARD
TZOFFSETFROM:+0200
TZOFFSETTO:+0100
TZNAME:CET
DTSTART:20201025T010000
END:STANDARD
BEGIN:DAYLIGHT
TZOFFSETFROM:+0100
TZOFFSETTO:+0200
TZNAME:CEST
DTSTART:20210328T010000
END:DAYLIGHT
BEGIN:STANDARD
TZOFFSETFROM:+0200
TZOFFSETTO:+0100
TZNAME:CET
DTSTART:20211031T010000
END:STANDARD
END:VTIMEZONE
BEGIN:VEVENT
DTSTART;TZID=Europe/Paris:20200303T173000
DTEND;TZID=Europe/Paris:20200303T173000
DTSTAMP:20260422T193132
CREATED:20200302T144631Z
LAST-MODIFIED:20200302T144631Z
UID:7345-1583256600-1583256600@www.ategal.com
SUMMARY:Visita guiada a la Exposición "Manuel Colmeiro. Espacios y Encuadramientos" (Vigo)
DESCRIPTION:Visitamos la exposición de Manuel Colmeiro «Espacios y Encuadramientos» en el Museo Marco
URL:https://www.ategal.com/evento-ategal/visita-guiada-a-la-exposicion-manuel-colmeiro-espacios-y-encuadernamientos-vigo/
LOCATION:Museo Marco Vigo\, C/ Príncipe\, Vigo
CATEGORIES:Vigo
ATTACH;FMTTYPE=image/png:https://www.ategal.com/wp-content/uploads/2020/03/VisitaGuiada_Vigo.png
END:VEVENT
BEGIN:VEVENT
DTSTART;TZID=Europe/Paris:20200303T173000
DTEND;TZID=Europe/Paris:20200303T173000
DTSTAMP:20260422T193132
CREATED:20200302T144631Z
LAST-MODIFIED:20200405T113604Z
UID:4702-1583256600-1583256600@www.ategal.com
SUMMARY:Visita guiada a la Exposición "Manuel Colmeiro. Espacios y Encuadramientos" (Vigo)
DESCRIPTION:Visitamos la exposición de Manuel Colmeiro «Espacios y Encuadramientos» en el Museo Marco
URL:https://www.ategal.com/evento-ategal/visita-guiada-a-la-exposicion-manuel-colmeiro-espacios-y-encuadernamientos-vigo/
LOCATION:Museo Marco Vigo\, C/ Príncipe\, Vigo
CATEGORIES:Vigo
ATTACH;FMTTYPE=image/png:https://www.ategal.com/wp-content/uploads/2020/03/VisitaGuiada_Vigo.png
END:VEVENT
BEGIN:VEVENT
DTSTART;TZID=Europe/Paris:20200305T110000
DTEND;TZID=Europe/Paris:20200305T120000
DTSTAMP:20260422T193132
CREATED:20200304T210707Z
LAST-MODIFIED:20200405T113556Z
UID:4707-1583406000-1583409600@www.ategal.com
SUMMARY:"Mulleres ourensanas ao longo da historia" (Ourense)
DESCRIPTION:Con motivo do Día da Muller\, propoñemos este coloquio que repasa as distintas pioneiras ourensanas ao longo da historia. Antonio González faranos de guía.
URL:https://www.ategal.com/evento-ategal/mulleres-ourensanas-ao-longo-da-historia-ourense/
LOCATION:Ategal Ourense
CATEGORIES:Ourense
END:VEVENT
BEGIN:VEVENT
DTSTART;TZID=Europe/Paris:20200305T110000
DTEND;TZID=Europe/Paris:20200305T120000
DTSTAMP:20260422T193132
CREATED:20200304T210707Z
LAST-MODIFIED:20200304T210707Z
UID:7344-1583406000-1583409600@www.ategal.com
SUMMARY:"Mulleres ourensanas ao longo da historia" (Ourense)
DESCRIPTION:Con motivo do Día da Muller\, propoñemos este coloquio que repasa as distintas pioneiras ourensanas ao longo da historia. Antonio González faranos de guía.
URL:https://www.ategal.com/evento-ategal/mulleres-ourensanas-ao-longo-da-historia-ourense/
LOCATION:Ategal Ourense
CATEGORIES:Ourense
END:VEVENT
BEGIN:VEVENT
DTSTART;TZID=Europe/Paris:20200309T190000
DTEND;TZID=Europe/Paris:20200309T200000
DTSTAMP:20260422T193132
CREATED:20200305T215403Z
LAST-MODIFIED:20200405T113549Z
UID:4717-1583780400-1583784000@www.ategal.com
SUMMARY:Proxección e coloquio do cortometraxe "Purl" (Ourense)
DESCRIPTION:Este corto de Pixar nos ofrece la posibilidad de reflexionar sobre la desigualdad de género
URL:https://www.ategal.com/evento-ategal/proxeccion-e-coloquio-do-cortometraxe-purl-ourense/
LOCATION:Ategal Ourense
CATEGORIES:Ourense
ATTACH;FMTTYPE=image/png:https://www.ategal.com/wp-content/uploads/2020/03/Purl.png
END:VEVENT
BEGIN:VEVENT
DTSTART;TZID=Europe/Paris:20200309T190000
DTEND;TZID=Europe/Paris:20200309T200000
DTSTAMP:20260422T193132
CREATED:20200305T215403Z
LAST-MODIFIED:20200305T215403Z
UID:7343-1583780400-1583784000@www.ategal.com
SUMMARY:Proxección e coloquio do cortometraxe "Purl" (Ourense)
DESCRIPTION:Este corto de Pixar nos ofrece la posibilidad de reflexionar sobre la desigualdad de género
URL:https://www.ategal.com/evento-ategal/proxeccion-e-coloquio-do-cortometraxe-purl-ourense/
LOCATION:Ategal Ourense
CATEGORIES:Ourense
ATTACH;FMTTYPE=image/png:https://www.ategal.com/wp-content/uploads/2020/03/Purl.png
END:VEVENT
BEGIN:VEVENT
DTSTART;TZID=Europe/Paris:20200310T190000
DTEND;TZID=Europe/Paris:20200310T203000
DTSTAMP:20260422T193132
CREATED:20200306T105335Z
LAST-MODIFIED:20200405T113541Z
UID:4720-1583866800-1583872200@www.ategal.com
SUMMARY:Mesa redonda "Historias de Mulleres Reais" (Santiago de Compostela)
DESCRIPTION:Con motivo del Día de la Mujer\, celebramos en Santiago de Compostela esta mesa redonda para poner en valor a todas esas mujeres que llevan toda su vida trabajando por la igualdad entre hombres y mujeres. Desde una empleada del hogar hasta una profesora emérita de la Universidad de Santiago de Compostela ofrecerán su testimonio sobre el ámbito laboral\, la familia\, los avances del feminismo\, el legado que dejan\, entre otros temas.
URL:https://www.ategal.com/evento-ategal/mesa-redonda-historias-de-mulleres-reais-santiago-de-compostela/
LOCATION:Ategal Santiago\, Rúa Virxe da Cerca\, 31\, Santiago de Compostela\, A Coruña
CATEGORIES:Santiago de Compostela
ATTACH;FMTTYPE=image/jpeg:https://www.ategal.com/wp-content/uploads/2020/03/002_Mesa-de-trabajo-1--scaled.jpg
END:VEVENT
BEGIN:VEVENT
DTSTART;TZID=Europe/Paris:20200310T190000
DTEND;TZID=Europe/Paris:20200310T203000
DTSTAMP:20260422T193132
CREATED:20200306T105335Z
LAST-MODIFIED:20200306T105335Z
UID:7342-1583866800-1583872200@www.ategal.com
SUMMARY:Mesa redonda "Historias de Mulleres Reais" (Santiago de Compostela)
DESCRIPTION:Con motivo del Día de la Mujer\, celebramos en Santiago de Compostela esta mesa redonda para poner en valor a todas esas mujeres que llevan toda su vida trabajando por la igualdad entre hombres y mujeres. Desde una empleada del hogar hasta una profesora emérita de la Universidad de Santiago de Compostela ofrecerán su testimonio sobre el ámbito laboral\, la familia\, los avances del feminismo\, el legado que dejan\, entre otros temas.
URL:https://www.ategal.com/evento-ategal/mesa-redonda-historias-de-mulleres-reais-santiago-de-compostela/
LOCATION:Ategal Santiago\, Rúa Virxe da Cerca\, 31\, Santiago de Compostela\, A Coruña
CATEGORIES:Santiago de Compostela
ATTACH;FMTTYPE=image/jpeg:https://www.ategal.com/wp-content/uploads/2020/03/002_Mesa-de-trabajo-1--scaled.jpg
END:VEVENT
BEGIN:VEVENT
DTSTART;TZID=Europe/Paris:20200311T173000
DTEND;TZID=Europe/Paris:20200311T190000
DTSTAMP:20260422T193132
CREATED:20200305T215003Z
LAST-MODIFIED:20200405T113534Z
UID:4714-1583947800-1583953200@www.ategal.com
SUMMARY:Proxección e coloquio de "La buena esposa" (Ourense)
DESCRIPTION:Con motivo del Día de la Mujer\, decidimos ofreceros cine para pensar. Las aulas de Ourense proyectarán la película «La buena esposa» (2017)
URL:https://www.ategal.com/evento-ategal/proxeccion-e-coloquio-de-la-buena-esposa-ourense/
LOCATION:Ategal Ourense
CATEGORIES:Ourense
ATTACH;FMTTYPE=image/png:https://www.ategal.com/wp-content/uploads/2020/03/La-buena-esposa.png
END:VEVENT
BEGIN:VEVENT
DTSTART;TZID=Europe/Paris:20200311T173000
DTEND;TZID=Europe/Paris:20200311T190000
DTSTAMP:20260422T193132
CREATED:20200305T215003Z
LAST-MODIFIED:20200305T215003Z
UID:7341-1583947800-1583953200@www.ategal.com
SUMMARY:Proxección e coloquio de "La buena esposa" (Ourense)
DESCRIPTION:Con motivo del Día de la Mujer\, decidimos ofreceros cine para pensar. Las aulas de Ourense proyectarán la película «La buena esposa» (2017)
URL:https://www.ategal.com/evento-ategal/proxeccion-e-coloquio-de-la-buena-esposa-ourense/
LOCATION:Ategal Ourense
CATEGORIES:Ourense
ATTACH;FMTTYPE=image/png:https://www.ategal.com/wp-content/uploads/2020/03/La-buena-esposa.png
END:VEVENT
BEGIN:VEVENT
DTSTART;TZID=Europe/Paris:20200311T180000
DTEND;TZID=Europe/Paris:20200311T190000
DTSTAMP:20260422T193132
CREATED:20200306T110703Z
LAST-MODIFIED:20200405T113527Z
UID:4723-1583949600-1583953200@www.ategal.com
SUMMARY:Conferencia "Nuevo coronavirus emergente" (A Coruña)
DESCRIPTION:Para dar respuesta al interés de la población\, proponemos esta conferencia a cargo de un experto en Medicina Preventiva\, el Doctor Juan Jesús Gestal Otero. \nEl acto será transmitido vía streaming por el Canal Senior de la Federación de Universitarios Seniors (FEGAUS)
URL:https://www.ategal.com/evento-ategal/conferencia-nuevo-coronavirus-emergente-a-coruna/
LOCATION:Ategal A Coruña\, A Coruña
CATEGORIES:A Coruña
ATTACH;FMTTYPE=image/jpeg:https://www.ategal.com/wp-content/uploads/2020/03/0001-9-scaled.jpg
END:VEVENT
BEGIN:VEVENT
DTSTART;TZID=Europe/Paris:20200311T180000
DTEND;TZID=Europe/Paris:20200311T190000
DTSTAMP:20260422T193132
CREATED:20200306T110703Z
LAST-MODIFIED:20200306T110703Z
UID:7340-1583949600-1583953200@www.ategal.com
SUMMARY:Conferencia "Nuevo coronavirus emergente" (A Coruña)
DESCRIPTION:Para dar respuesta al interés de la población\, proponemos esta conferencia a cargo de un experto en Medicina Preventiva\, el Doctor Juan Jesús Gestal Otero. \nEl acto será transmitido vía streaming por el Canal Senior de la Federación de Universitarios Seniors (FEGAUS)
URL:https://www.ategal.com/evento-ategal/conferencia-nuevo-coronavirus-emergente-a-coruna/
LOCATION:Ategal A Coruña\, A Coruña
CATEGORIES:A Coruña
ATTACH;FMTTYPE=image/jpeg:https://www.ategal.com/wp-content/uploads/2020/03/0001-9-scaled.jpg
END:VEVENT
BEGIN:VEVENT
DTSTART;TZID=Europe/Paris:20200311T183000
DTEND;TZID=Europe/Paris:20200311T193000
DTSTAMP:20260422T193132
CREATED:20200305T214529Z
LAST-MODIFIED:20200405T113521Z
UID:4710-1583951400-1583955000@www.ategal.com
SUMMARY:Conferencia "A contribución das persoas maiores ao benestar" (Vigo)
DESCRIPTION:Con motivo del Día de la Mujer\, Mª Xosé Rodríguez Galdo\, economista y profesora emérita de la Universidade de Santiago de Compostela nos ofrecerá esta conferencia.
URL:https://www.ategal.com/evento-ategal/conferencia-a-contribucion-das-persoas-maiores-ao-benestar-vigo/
LOCATION:Ategal Vigo\, Travesía do Pino\, 2-entrechan\, Vigo\, Pontevedra
CATEGORIES:Vigo
ATTACH;FMTTYPE=image/png:https://www.ategal.com/wp-content/uploads/2020/03/Conferencia-con-motivo-del-1.png
END:VEVENT
BEGIN:VEVENT
DTSTART;TZID=Europe/Paris:20200311T183000
DTEND;TZID=Europe/Paris:20200311T193000
DTSTAMP:20260422T193132
CREATED:20200305T214529Z
LAST-MODIFIED:20200305T214529Z
UID:7339-1583951400-1583955000@www.ategal.com
SUMMARY:Conferencia "A contribución das persoas maiores ao benestar" (Vigo)
DESCRIPTION:Con motivo del Día de la Mujer\, Mª Xosé Rodríguez Galdo\, economista y profesora emérita de la Universidade de Santiago de Compostela nos ofrecerá esta conferencia.
URL:https://www.ategal.com/evento-ategal/conferencia-a-contribucion-das-persoas-maiores-ao-benestar-vigo/
LOCATION:Ategal Vigo\, Travesía do Pino\, 2-entrechan\, Vigo\, Pontevedra
CATEGORIES:Vigo
ATTACH;FMTTYPE=image/png:https://www.ategal.com/wp-content/uploads/2020/03/Conferencia-con-motivo-del-1.png
END:VEVENT
END:VCALENDAR