BEGIN:VCALENDAR
VERSION:2.0
PRODID:-//Ategal - ECPv6.15.20//NONSGML v1.0//EN
CALSCALE:GREGORIAN
METHOD:PUBLISH
X-WR-CALNAME:Ategal
X-ORIGINAL-URL:https://www.ategal.com
X-WR-CALDESC:Eventos para Ategal
REFRESH-INTERVAL;VALUE=DURATION:PT1H
X-Robots-Tag:noindex
X-PUBLISHED-TTL:PT1H
BEGIN:VTIMEZONE
TZID:Europe/Paris
BEGIN:DAYLIGHT
TZOFFSETFROM:+0100
TZOFFSETTO:+0200
TZNAME:CEST
DTSTART:20190331T010000
END:DAYLIGHT
BEGIN:STANDARD
TZOFFSETFROM:+0200
TZOFFSETTO:+0100
TZNAME:CET
DTSTART:20191027T010000
END:STANDARD
BEGIN:DAYLIGHT
TZOFFSETFROM:+0100
TZOFFSETTO:+0200
TZNAME:CEST
DTSTART:20200329T010000
END:DAYLIGHT
BEGIN:STANDARD
TZOFFSETFROM:+0200
TZOFFSETTO:+0100
TZNAME:CET
DTSTART:20201025T010000
END:STANDARD
BEGIN:DAYLIGHT
TZOFFSETFROM:+0100
TZOFFSETTO:+0200
TZNAME:CEST
DTSTART:20210328T010000
END:DAYLIGHT
BEGIN:STANDARD
TZOFFSETFROM:+0200
TZOFFSETTO:+0100
TZNAME:CET
DTSTART:20211031T010000
END:STANDARD
END:VTIMEZONE
BEGIN:VEVENT
DTSTART;TZID=Europe/Paris:20200429T080000
DTEND;TZID=Europe/Paris:20200429T170000
DTSTAMP:20260422T174126
CREATED:20200423T075044Z
LAST-MODIFIED:20200423T075044Z
UID:7294-1588147200-1588179600@www.ategal.com
SUMMARY:Conferencia "A contribución das persoas maiores ao benestar" (Ferrol)
DESCRIPTION:Con motivo del Día de la Mujer\, Mª Xosé Rodríguez Galdo\, economista y profesora emérita de la Universidade de Santiago de Compostela nos ofrecerá esta conferencia.
URL:https://www.ategal.com/evento-ategal/conferencia-a-contribucion-das-persoas-maiores-ao-benestar-ferrol/
LOCATION:Ategal Ferrol\, Galiano\, 17-1º\, Ferrol
CATEGORIES:Ferrol
ATTACH;FMTTYPE=image/png:https://www.ategal.com/wp-content/uploads/2018/10/active.png
END:VEVENT
BEGIN:VEVENT
DTSTART;TZID=Europe/Paris:20200429T080000
DTEND;TZID=Europe/Paris:20200429T170000
DTSTAMP:20260422T174126
CREATED:20200423T075044Z
LAST-MODIFIED:20200720T094417Z
UID:10605-1588147200-1588179600@www.ategal.com
SUMMARY:Conferencia "A contribución das persoas maiores ao benestar" (Ferrol)
DESCRIPTION:Con motivo del Día de la Mujer\, Mª Xosé Rodríguez Galdo\, economista y profesora emérita de la Universidade de Santiago de Compostela nos ofrecerá esta conferencia.
URL:https://www.ategal.com/evento-ategal/conferencia-a-contribucion-das-persoas-maiores-ao-benestar-ferrol/
LOCATION:Ategal Ferrol\, Galiano\, 17-1º\, Ferrol
CATEGORIES:Ferrol
ATTACH;FMTTYPE=image/png:https://www.ategal.com/wp-content/uploads/2018/10/active.png
END:VEVENT
BEGIN:VEVENT
DTSTART;TZID=Europe/Paris:20200429T080000
DTEND;TZID=Europe/Paris:20200429T170000
DTSTAMP:20260422T174126
CREATED:20200423T075044Z
LAST-MODIFIED:20200720T094445Z
UID:10608-1588147200-1588179600@www.ategal.com
SUMMARY:Conferencia "A contribución das persoas maiores ao benestar" (Ferrol)
DESCRIPTION:Con motivo del Día de la Mujer\, Mª Xosé Rodríguez Galdo\, economista y profesora emérita de la Universidade de Santiago de Compostela nos ofrecerá esta conferencia.
URL:https://www.ategal.com/evento-ategal/conferencia-a-contribucion-das-persoas-maiores-ao-benestar-ferrol/
LOCATION:Ategal Ferrol\, Galiano\, 17-1º\, Ferrol
CATEGORIES:Ferrol
ATTACH;FMTTYPE=image/png:https://www.ategal.com/wp-content/uploads/2018/10/active.png
END:VEVENT
BEGIN:VEVENT
DTSTART;TZID=Europe/Paris:20200429T080000
DTEND;TZID=Europe/Paris:20200429T170000
DTSTAMP:20260422T174126
CREATED:20200423T075044Z
LAST-MODIFIED:20200427T042452Z
UID:6792-1588147200-1588179600@www.ategal.com
SUMMARY:Conferencia "A contribución das persoas maiores ao benestar" (Ferrol)
DESCRIPTION:Con motivo del Día de la Mujer\, Mª Xosé Rodríguez Galdo\, economista y profesora emérita de la Universidade de Santiago de Compostela nos ofrecerá esta conferencia.
URL:https://www.ategal.com/evento-ategal/conferencia-a-contribucion-das-persoas-maiores-ao-benestar-ferrol/
LOCATION:Ategal Ferrol\, Galiano\, 17-1º\, Ferrol
CATEGORIES:Ferrol
ATTACH;FMTTYPE=image/png:https://www.ategal.com/wp-content/uploads/2018/10/active.png
END:VEVENT
BEGIN:VEVENT
DTSTART;TZID=Europe/Paris:20200430T080000
DTEND;TZID=Europe/Paris:20200430T170000
DTSTAMP:20260422T174126
CREATED:20200423T074234Z
LAST-MODIFIED:20200720T094319Z
UID:10602-1588233600-1588266000@www.ategal.com
SUMMARY:Conferencia "A contribución das persoas maiores ao benestar" (Vigo)
DESCRIPTION:Con motivo del Día de la Mujer\, Mª Xosé Rodríguez Galdo\, economista y profesora emérita de la Universidade de Santiago de Compostela nos ofrecerá esta conferencia.
URL:https://www.ategal.com/evento-ategal/conferencia-a-contribucion-das-persoas-maiores-ao-benestar-vigo-2/
LOCATION:Ategal A Coruña\, A Coruña
CATEGORIES:A Coruña
ATTACH;FMTTYPE=image/png:https://www.ategal.com/wp-content/uploads/2018/10/smart-ategal.png
END:VEVENT
BEGIN:VEVENT
DTSTART;TZID=Europe/Paris:20200430T080000
DTEND;TZID=Europe/Paris:20200430T170000
DTSTAMP:20260422T174126
CREATED:20200423T074234Z
LAST-MODIFIED:20200501T112349Z
UID:6787-1588233600-1588266000@www.ategal.com
SUMMARY:Conferencia "A contribución das persoas maiores ao benestar" (Vigo)
DESCRIPTION:Con motivo del Día de la Mujer\, Mª Xosé Rodríguez Galdo\, economista y profesora emérita de la Universidade de Santiago de Compostela nos ofrecerá esta conferencia.
URL:https://www.ategal.com/evento-ategal/conferencia-a-contribucion-das-persoas-maiores-ao-benestar-vigo-2/
LOCATION:Ategal A Coruña\, A Coruña
CATEGORIES:A Coruña
ATTACH;FMTTYPE=image/png:https://www.ategal.com/wp-content/uploads/2018/10/smart-ategal.png
END:VEVENT
BEGIN:VEVENT
DTSTART;TZID=Europe/Paris:20200430T080000
DTEND;TZID=Europe/Paris:20200430T170000
DTSTAMP:20260422T174126
CREATED:20200423T074234Z
LAST-MODIFIED:20200720T094342Z
UID:7288-1588233600-1588266000@www.ategal.com
SUMMARY:Conferencia "A contribución das persoas maiores ao benestar" (Vigo)
DESCRIPTION:Con motivo del Día de la Mujer\, Mª Xosé Rodríguez Galdo\, economista y profesora emérita de la Universidade de Santiago de Compostela nos ofrecerá esta conferencia.
URL:https://www.ategal.com/evento-ategal/conferencia-a-contribucion-das-persoas-maiores-ao-benestar-vigo-2/
LOCATION:Ategal A Coruña\, A Coruña
CATEGORIES:A Coruña
ATTACH;FMTTYPE=image/png:https://www.ategal.com/wp-content/uploads/2018/10/smart-ategal.png
END:VEVENT
BEGIN:VEVENT
DTSTART;TZID=Europe/Paris:20200430T080000
DTEND;TZID=Europe/Paris:20200430T170000
DTSTAMP:20260422T174126
CREATED:20200423T074234Z
LAST-MODIFIED:20200720T094227Z
UID:10599-1588233600-1588266000@www.ategal.com
SUMMARY:Conferencia "A contribución das persoas maiores ao benestar" (Vigo)
DESCRIPTION:Con motivo del Día de la Mujer\, Mª Xosé Rodríguez Galdo\, economista y profesora emérita de la Universidade de Santiago de Compostela nos ofrecerá esta conferencia.
URL:https://www.ategal.com/evento-ategal/conferencia-a-contribucion-das-persoas-maiores-ao-benestar-vigo-2/
LOCATION:Ategal A Coruña\, A Coruña
CATEGORIES:A Coruña
ATTACH;FMTTYPE=image/png:https://www.ategal.com/wp-content/uploads/2018/10/smart-ategal.png
END:VEVENT
BEGIN:VEVENT
DTSTART;TZID=Europe/Paris:20200430T080000
DTEND;TZID=Europe/Paris:20200430T170000
DTSTAMP:20260422T174126
CREATED:20200423T074959Z
LAST-MODIFIED:20200427T042444Z
UID:6790-1588233600-1588266000@www.ategal.com
SUMMARY:Conferencia "A contribución das persoas maiores ao benestar" (Coruña)
DESCRIPTION:Con motivo del Día de la Mujer\, Mª Xosé Rodríguez Galdo\, economista y profesora emérita de la Universidade de Santiago de Compostela nos ofrecerá esta conferencia.
URL:https://www.ategal.com/evento-ategal/conferencia-a-contribucion-das-persoas-maiores-ao-benestar-coruna/
LOCATION:Ategal A Coruña\, A Coruña
CATEGORIES:A Coruña,Padrón
ATTACH;FMTTYPE=image/png:https://www.ategal.com/wp-content/uploads/2018/10/simpatico.png
END:VEVENT
BEGIN:VEVENT
DTSTART;TZID=Europe/Paris:20200430T080000
DTEND;TZID=Europe/Paris:20200430T170000
DTSTAMP:20260422T174126
CREATED:20200423T074959Z
LAST-MODIFIED:20200720T094115Z
UID:7287-1588233600-1588266000@www.ategal.com
SUMMARY:Conferencia "A contribución das persoas maiores ao benestar" (Coruña)
DESCRIPTION:Con motivo del Día de la Mujer\, Mª Xosé Rodríguez Galdo\, economista y profesora emérita de la Universidade de Santiago de Compostela nos ofrecerá esta conferencia.
URL:https://www.ategal.com/evento-ategal/conferencia-a-contribucion-das-persoas-maiores-ao-benestar-coruna/
LOCATION:Ategal A Coruña\, A Coruña
CATEGORIES:A Coruña,Padrón
ATTACH;FMTTYPE=image/png:https://www.ategal.com/wp-content/uploads/2018/10/simpatico.png
END:VEVENT
BEGIN:VEVENT
DTSTART;TZID=Europe/Paris:20200430T080000
DTEND;TZID=Europe/Paris:20200430T170000
DTSTAMP:20260422T174126
CREATED:20200423T074959Z
LAST-MODIFIED:20200720T094002Z
UID:10576-1588233600-1588266000@www.ategal.com
SUMMARY:Conferencia "A contribución das persoas maiores ao benestar" (Coruña)
DESCRIPTION:Con motivo del Día de la Mujer\, Mª Xosé Rodríguez Galdo\, economista y profesora emérita de la Universidade de Santiago de Compostela nos ofrecerá esta conferencia.
URL:https://www.ategal.com/evento-ategal/conferencia-a-contribucion-das-persoas-maiores-ao-benestar-coruna/
LOCATION:Ategal A Coruña\, A Coruña
CATEGORIES:A Coruña,Padrón
ATTACH;FMTTYPE=image/png:https://www.ategal.com/wp-content/uploads/2018/10/simpatico.png
END:VEVENT
BEGIN:VEVENT
DTSTART;TZID=Europe/Paris:20200430T080000
DTEND;TZID=Europe/Paris:20200430T170000
DTSTAMP:20260422T174126
CREATED:20200423T074959Z
LAST-MODIFIED:20200720T094050Z
UID:10594-1588233600-1588266000@www.ategal.com
SUMMARY:Conferencia "A contribución das persoas maiores ao benestar" (Coruña)
DESCRIPTION:Con motivo del Día de la Mujer\, Mª Xosé Rodríguez Galdo\, economista y profesora emérita de la Universidade de Santiago de Compostela nos ofrecerá esta conferencia.
URL:https://www.ategal.com/evento-ategal/conferencia-a-contribucion-das-persoas-maiores-ao-benestar-coruna/
LOCATION:Ategal A Coruña\, A Coruña
CATEGORIES:A Coruña,Padrón
ATTACH;FMTTYPE=image/png:https://www.ategal.com/wp-content/uploads/2018/10/simpatico.png
END:VEVENT
END:VCALENDAR