BEGIN:VCALENDAR
VERSION:2.0
PRODID:-//Ategal - ECPv6.15.20//NONSGML v1.0//EN
CALSCALE:GREGORIAN
METHOD:PUBLISH
X-ORIGINAL-URL:https://www.ategal.com
X-WR-CALDESC:Eventos para Ategal
REFRESH-INTERVAL;VALUE=DURATION:PT1H
X-Robots-Tag:noindex
X-PUBLISHED-TTL:PT1H
BEGIN:VTIMEZONE
TZID:Europe/Paris
BEGIN:DAYLIGHT
TZOFFSETFROM:+0100
TZOFFSETTO:+0200
TZNAME:CEST
DTSTART:20190331T010000
END:DAYLIGHT
BEGIN:STANDARD
TZOFFSETFROM:+0200
TZOFFSETTO:+0100
TZNAME:CET
DTSTART:20191027T010000
END:STANDARD
BEGIN:DAYLIGHT
TZOFFSETFROM:+0100
TZOFFSETTO:+0200
TZNAME:CEST
DTSTART:20200329T010000
END:DAYLIGHT
BEGIN:STANDARD
TZOFFSETFROM:+0200
TZOFFSETTO:+0100
TZNAME:CET
DTSTART:20201025T010000
END:STANDARD
BEGIN:DAYLIGHT
TZOFFSETFROM:+0100
TZOFFSETTO:+0200
TZNAME:CEST
DTSTART:20210328T010000
END:DAYLIGHT
BEGIN:STANDARD
TZOFFSETFROM:+0200
TZOFFSETTO:+0100
TZNAME:CET
DTSTART:20211031T010000
END:STANDARD
END:VTIMEZONE
BEGIN:VEVENT
DTSTART;VALUE=DATE:20201023
DTEND;VALUE=DATE:20201024
DTSTAMP:20260420T105722
CREATED:20201029T091631Z
LAST-MODIFIED:20201029T091631Z
UID:10749-1603411200-1603497599@www.ategal.com
SUMMARY:Curso de Nuevas Tecnologías para mayores: Smart Vigo Seniors
DESCRIPTION:Se algo nos ensinou o actual contexto son as vantaxes da internet. As competencias dixitais son esenciais para desenvolverse no mundo de hoxe\, e leste é un dos grandes retos para as persoas maiores. Por iso\, desde Ategal queremos acompañarvos na gran aventura ‘ online’ cunha serie de cursos sobre Novas Tecnoloxías. \nGrazas ao Concello de Vigo deseñamos o circuíto ‘Smart Vigo Seniors’\, no que aprenderemos desde como relacionarnos coa administración a través da sede electrónica ata como conectar cos nosos ou seguirlle a pista a Ategal na internet. \n \n\nProxecto financiado polo Concello de Vigo
URL:https://www.ategal.com/evento-ategal/curso-de-nuevas-tecnologias-para-mayores-smart-vigo-seniors/
LOCATION:Ategal Vigo\, Travesía do Pino\, 2-entrechan\, Vigo
ATTACH;FMTTYPE=image/png:https://www.ategal.com/wp-content/uploads/2020/10/1-e1603962963988.png
END:VEVENT
BEGIN:VEVENT
DTSTART;VALUE=DATE:20201023
DTEND;VALUE=DATE:20201024
DTSTAMP:20260420T105722
CREATED:20201029T092053Z
LAST-MODIFIED:20201029T092053Z
UID:10763-1603411200-1603497599@www.ategal.com
SUMMARY:Curso de Nuevas Tecnologías para mayores: Smart Vigo Seniors
DESCRIPTION:Si algo nos ha enseñado el actual contexto son las ventajas de Internet. Las competencias digitales son esenciales para desarrollarse en el mundo de hoy\, y este es uno de los grandes retos para las personas mayores. Por eso\, desde Ategal queremos acompañaros en la gran aventura ‘online’ con una serie de cursos sobre Nuevas Tecnologías. \nGracias al Concello de Vigo hemos diseñado el circuito ‘Smart Vigo Seniors’\, en el que aprenderemos desde cómo relacionarnos con la administración a través de la sede electrónica hasta cómo conectar con los nuestros o seguirle la pista a Ategal en internet. \n \n\nProyecto financiado por el Concello de Vigo
URL:https://www.ategal.com/evento-ategal/curso-de-nuevas-tecnologias-para-mayores-smart-vigo-seniors/
LOCATION:Ategal Vigo\, Travesía do Pino\, 2-entrechan\, Vigo
ATTACH;FMTTYPE=image/png:https://www.ategal.com/wp-content/uploads/2020/10/1-e1603963178651.png
END:VEVENT
END:VCALENDAR