BEGIN:VCALENDAR
VERSION:2.0
PRODID:-//Ategal - ECPv6.15.20//NONSGML v1.0//EN
CALSCALE:GREGORIAN
METHOD:PUBLISH
X-WR-CALNAME:Ategal
X-ORIGINAL-URL:https://www.ategal.com
X-WR-CALDESC:Eventos para Ategal
REFRESH-INTERVAL;VALUE=DURATION:PT1H
X-Robots-Tag:noindex
X-PUBLISHED-TTL:PT1H
BEGIN:VTIMEZONE
TZID:Europe/Paris
BEGIN:DAYLIGHT
TZOFFSETFROM:+0100
TZOFFSETTO:+0200
TZNAME:CEST
DTSTART:20200329T010000
END:DAYLIGHT
BEGIN:STANDARD
TZOFFSETFROM:+0200
TZOFFSETTO:+0100
TZNAME:CET
DTSTART:20201025T010000
END:STANDARD
BEGIN:DAYLIGHT
TZOFFSETFROM:+0100
TZOFFSETTO:+0200
TZNAME:CEST
DTSTART:20210328T010000
END:DAYLIGHT
BEGIN:STANDARD
TZOFFSETFROM:+0200
TZOFFSETTO:+0100
TZNAME:CET
DTSTART:20211031T010000
END:STANDARD
BEGIN:DAYLIGHT
TZOFFSETFROM:+0100
TZOFFSETTO:+0200
TZNAME:CEST
DTSTART:20220327T010000
END:DAYLIGHT
BEGIN:STANDARD
TZOFFSETFROM:+0200
TZOFFSETTO:+0100
TZNAME:CET
DTSTART:20221030T010000
END:STANDARD
END:VTIMEZONE
BEGIN:VEVENT
DTSTART;VALUE=DATE:20210201
DTEND;VALUE=DATE:20210206
DTSTAMP:20260420T042844
CREATED:20210131T172105Z
LAST-MODIFIED:20210131T172105Z
UID:11421-1612137600-1612569599@www.ategal.com
SUMMARY:Clases online de febrero
DESCRIPTION:Comenzamos el mes con una agenda repleta de aprendizajes. Mantenemos las clases de idiomas\, memoria e historia del Arte\, y añadimos nuevos espacios como el de María Victoria Tizón\, alumna y voluntaria. \nAdemás\, ¡retomamos el club de lectura para todas las alumnas y alumnos de Galicia! \nConéctate para seguir disfrutando y aprendiendo.
URL:https://www.ategal.com/evento-ategal/clases-online-de-febrero/
LOCATION:Plataforma online
ATTACH;FMTTYPE=image/png:https://www.ategal.com/wp-content/uploads/2021/01/01_02.png
END:VEVENT
BEGIN:VEVENT
DTSTART;VALUE=DATE:20210201
DTEND;VALUE=DATE:20210206
DTSTAMP:20260420T042844
CREATED:20210131T172229Z
LAST-MODIFIED:20210131T172229Z
UID:11415-1612137600-1612569599@www.ategal.com
SUMMARY:Clases en liña de febreiro
DESCRIPTION:Comezamos o mes cunha axenda repleta de aprendizaxes. Mantemos as clases de idiomas\, memoria e historia da arte\, e engadimos novos espazos como o de María Vitoria Tizón\, alumna e voluntaria. \nAdemais\, retomamos o club de lectura para todas as alumnas e alumnos de Galicia! \nConéctache para seguir gozando e aprendendo.
URL:https://www.ategal.com/evento-ategal/clases-en-lina-de-febreiro/
LOCATION:Plataforma online
ATTACH;FMTTYPE=image/png:https://www.ategal.com/wp-content/uploads/2021/01/01_02.png
END:VEVENT
BEGIN:VEVENT
DTSTART;VALUE=DATE:20210208
DTEND;VALUE=DATE:20210213
DTSTAMP:20260420T042844
CREATED:20210206T214345Z
LAST-MODIFIED:20210206T214345Z
UID:11441-1612742400-1613174399@www.ategal.com
SUMMARY:Cursos en liña: idiomas\, ximnasia\, talleres
DESCRIPTION:Segunda semana de febreiro e continuamos ampliando a nosa oferta de formación e cursos en liña. Ás clases de informática\, francés ou memoria sumamos un espazo literario e outro de reflexión. Falemos do Amor universal na literatura e conectemos xeracións este martes. \nAdemais\, a nosa experta en psicogerontología Majo Fares ofrécenos este xoves un novo encontro para afrontar conxuntamente o Covid-19. \nPero lembra que estas son só as clases que se imparten en directo. Non esquezas que por ser alumno ou alumna de ATEGAL dispós de máis contidos na nosa plataforma. Practica cando ti queiras e da maneira que máis che guste: dous profesores distintos de Taichí\, dous máis de ximnasia\,… \nATEGAL segue sendo un lugar de encontro! Acompáñanos desde casa con estos cursos en liña.
URL:https://www.ategal.com/evento-ategal/cursos-en-lina-idiomas-ximnasia-talleres/
LOCATION:Plataforma online
ATTACH;FMTTYPE=image/png:https://www.ategal.com/wp-content/uploads/2021/02/08_02-1.png
END:VEVENT
BEGIN:VEVENT
DTSTART;VALUE=DATE:20210208
DTEND;VALUE=DATE:20210213
DTSTAMP:20260420T042844
CREATED:20210206T215940Z
LAST-MODIFIED:20210206T215940Z
UID:11447-1612742400-1613174399@www.ategal.com
SUMMARY:Cursos online: idiomas\, gimnasia\, talleres
DESCRIPTION:Segunda semana de febrero y continuamos ampliando nuestra oferta de formación y cursos online. A las clases de informática\, francés o memoria sumamos un espacio literario y otro de reflexión. Hablemos del Amor universal en la literatura y conectemos generaciones este martes. \nAdemás\, nuestra experta en psicogerontología Majo Fares nos ofrece este jueves un nuevo encuentro para afrontar conjuntamente el Covid-19. \nPero recuerda que estas son solo las clases que se imparten en directo. No olvides que por ser alumno o alumna de ATEGAL dispones de más contenidos en nuestra plataforma. Practica cuando tú quieras y de la manera que más te guste: dos profesores distintos de Taichí\, dos más de gimnasia\,… \n¡ATEGAL sigue siendo un lugar de encuentro! Acompáñanos desde casa con estos cursos online.
URL:https://www.ategal.com/evento-ategal/cursos-online-idiomas-gimnasia-talleres/
LOCATION:Plataforma online
ATTACH;FMTTYPE=image/png:https://www.ategal.com/wp-content/uploads/2021/02/08_02-1.png
END:VEVENT
BEGIN:VEVENT
DTSTART;VALUE=DATE:20210215
DTEND;VALUE=DATE:20210220
DTSTAMP:20260420T042844
CREATED:20210214T204541Z
LAST-MODIFIED:20210214T204541Z
UID:11536-1613347200-1613779199@www.ategal.com
SUMMARY:Novas clases en liña de inglés\, memoria\, arte\, informática\,...
DESCRIPTION:Continuamos as clases de formación en liña para adultos a través da nosa plataforma. Goza aprendendo inglés ou francés ou exercita a túa memoria e o teu corpo. Mellora as túas competencias tecnolóxicas ou participa nos talleres que ofrecemos esta semana. \nNon te perdas ningunha das clases en liña desta semana e dá máis vida á túa vida. \nÚneche á nosa plataforma de formación para adultos.
URL:https://www.ategal.com/evento-ategal/novas-clases-en-lina-de-ingles-memoria-arte-informatica/
LOCATION:Plataforma online
ATTACH;FMTTYPE=image/png:https://www.ategal.com/wp-content/uploads/2021/02/15_02.png
END:VEVENT
BEGIN:VEVENT
DTSTART;VALUE=DATE:20210215
DTEND;VALUE=DATE:20210220
DTSTAMP:20260420T042844
CREATED:20210214T205220Z
LAST-MODIFIED:20210214T205220Z
UID:11542-1613347200-1613779199@www.ategal.com
SUMMARY:Nuevas clases online de inglés\, memoria\, arte\, informática\,...
DESCRIPTION:Continuamos las clases de formación online y ocio para adultos a través de nuestra plataforma. Disfruta aprendiendo inglés o francés o ejercita tu memoria y tu cuerpo. Mejora tus competencias tecnológicas o participa en los talleres que ofrecemos esta semana. \nNo te pierdas ninguna de las clases online de esta semana y da más vida a tu vida. \nÚnete a nuestra plataforma de formación para adultos.
URL:https://www.ategal.com/evento-ategal/nuevas-clases-online-de-ingles-memoria-arte-informatica/
LOCATION:Plataforma online
ATTACH;FMTTYPE=image/png:https://www.ategal.com/wp-content/uploads/2021/02/15_02.png
END:VEVENT
BEGIN:VEVENT
DTSTART;VALUE=DATE:20210222
DTEND;VALUE=DATE:20210227
DTSTAMP:20260420T042844
CREATED:20210221T200002Z
LAST-MODIFIED:20210221T200206Z
UID:11687-1613952000-1614383999@www.ategal.com
SUMMARY:Formación en liña: clases de inglés\, cursos de informática\,...
DESCRIPTION:A nosa plataforma de formación en liña ofréceche todos os nosos cursos e clases. Podes aprender idiomas\, participar en encontros dixitais ou exercitar o teu corpo. Non desaproveites o tempo en casa e dedícache a seguir aprendendo e gozando. \n \nEsta semana\, ademais\, poderás participar no noso novo circuíto de saúde: Kit Anticovid. A participación de profesionais como a nosa psicóloga Majo Fares ou The Well- Being Lab axudarache a afrontar este contexto. \n  \nConsegue canto antes o teu acceso á nosa plataforma de formación en liña e úneche aos teus cursos e clases favoritas. \nEstamos a esperarche!
URL:https://www.ategal.com/evento-ategal/formacion-en-lina-clases-de-ingles-cursos-de-informatica/
LOCATION:Plataforma online
ATTACH;FMTTYPE=image/png:https://www.ategal.com/wp-content/uploads/2021/02/22_02.png
END:VEVENT
BEGIN:VEVENT
DTSTART;VALUE=DATE:20210222
DTEND;VALUE=DATE:20210227
DTSTAMP:20260420T042844
CREATED:20210221T200620Z
LAST-MODIFIED:20210221T200620Z
UID:11694-1613952000-1614383999@www.ategal.com
SUMMARY:Formación online: clases de inglés\, cursos de informáticam\,...
DESCRIPTION:Nuestra plataforma de formación online te ofrece todos nuestros cursos y clases. Puedes aprender idiomas\, participar en encuentros digitales o ejercitar tu cuerpo. No desaproveches el tiempo en casa y dedícate a seguir aprendiendo y disfrutando. \nEsta semana\, además\, podrás participar en nuestro nuevo circuito de salud: Kit Anticovid. La participación de profesionales como nuestra psicóloga Majo Fares o The Well-Being Lab te ayudará a afrontar este contexto. \nConsigue cuanto antes tu acceso a nuestra plataforma de formación online y únete a tus cursos y clases favoritas. \n¡Te estamos esperando!
URL:https://www.ategal.com/evento-ategal/formacion-online-clases-de-ingles-cursos-de-informaticam/
LOCATION:Plataforma online
ATTACH;FMTTYPE=image/png:https://www.ategal.com/wp-content/uploads/2021/02/22_02.png
END:VEVENT
END:VCALENDAR