BEGIN:VCALENDAR
VERSION:2.0
PRODID:-//Ategal - ECPv6.15.20//NONSGML v1.0//EN
CALSCALE:GREGORIAN
METHOD:PUBLISH
X-WR-CALNAME:Ategal
X-ORIGINAL-URL:https://www.ategal.com
X-WR-CALDESC:Eventos para Ategal
REFRESH-INTERVAL;VALUE=DURATION:PT1H
X-Robots-Tag:noindex
X-PUBLISHED-TTL:PT1H
BEGIN:VTIMEZONE
TZID:Europe/Paris
BEGIN:DAYLIGHT
TZOFFSETFROM:+0100
TZOFFSETTO:+0200
TZNAME:CEST
DTSTART:20200329T010000
END:DAYLIGHT
BEGIN:STANDARD
TZOFFSETFROM:+0200
TZOFFSETTO:+0100
TZNAME:CET
DTSTART:20201025T010000
END:STANDARD
BEGIN:DAYLIGHT
TZOFFSETFROM:+0100
TZOFFSETTO:+0200
TZNAME:CEST
DTSTART:20210328T010000
END:DAYLIGHT
BEGIN:STANDARD
TZOFFSETFROM:+0200
TZOFFSETTO:+0100
TZNAME:CET
DTSTART:20211031T010000
END:STANDARD
BEGIN:DAYLIGHT
TZOFFSETFROM:+0100
TZOFFSETTO:+0200
TZNAME:CEST
DTSTART:20220327T010000
END:DAYLIGHT
BEGIN:STANDARD
TZOFFSETFROM:+0200
TZOFFSETTO:+0100
TZNAME:CET
DTSTART:20221030T010000
END:STANDARD
END:VTIMEZONE
BEGIN:VEVENT
DTSTART;TZID=Europe/Paris:20211122T170000
DTEND;TZID=Europe/Paris:20211122T180000
DTSTAMP:20260419T165735
CREATED:20211119T171641Z
LAST-MODIFIED:20211119T171642Z
UID:12281-1637600400-1637604000@www.ategal.com
SUMMARY:ATEGAL na Mobile Week de Ourense
DESCRIPTION:Nun contexto de pandemia\, o confinamento puxo a proba o modelo de atención directa que as Aulas Sénior de Galicia levan desenvolvendo durante máis de 40 anos ofrecendo formación\, lecer e cultura á poboación máis maior. ATEGAL debía decidir se permanecer conxelada ata a ansiada nova normalidade ou adaptarse a esta nova situación. Decidimos innovar\, como sempre fixemos\, e desenvolvemos unha plataforma de formación en liña. Fronte aos prexuízos relacionados coa idade e as dificultades que se presentaban\, o alumnado das aulas construíu un espazo propio nesta plataforma onde seguir coa súa rutina de clases\, seguir en contacto cos seus compañeiros e compañeiras e\, mesmo\, contactar con socios e socias doutras partes de Galicia que ata entón non coñecía. \nEn ATEGAL cremos que as barreiras dixitais\, a pesar de que son un reto\, supoñen tamén unha oportunidade para xerar novas dinámicas e\, como sempre dicimos\, dar máis vida á vida. Nesta mesma liña\, iniciativas como Hablam representan unha maneira de comprender a tecnoloxía como ferramenta para superar os desafíos aos que se enfronta a sociedade moderna. O noso agora esíxenos cada vez máis poñer ás persoas no centro e poñer en valor aspectos como os coidados\, a cohesión e o acompañamento. \nEscoita e participa neste evento o vindeiro luns 22 de novembro ás 17h nas nosas aulas de Ourense (Rúa Progreso 66\, Entrechán A). Podes conseguir a túa entrada gratuíta AQUÍ \nParticiparán: \n\nMARISA JUSTO | Coordinadora de ATEGAL Ourense\nPATRICIA ÁLVAREZ | Profesora de nuevas tecnologías\nMARÍA LUISA HITA | Directora de Operaciones y Cofundadora de Hablam
URL:https://www.ategal.com/evento-ategal/ategal-na-mobile-week-de-ourense/
LOCATION:Ategal Ourense
ATTACH;FMTTYPE=image/png:https://www.ategal.com/wp-content/uploads/2021/11/ENCUENTRO-ANUAL-DE-1.png
END:VEVENT
BEGIN:VEVENT
DTSTART;TZID=Europe/Paris:20211122T180000
DTEND;TZID=Europe/Paris:20211122T193000
DTSTAMP:20260419T165735
CREATED:20211118T113632Z
LAST-MODIFIED:20211118T113632Z
UID:12276-1637604000-1637609400@www.ategal.com
SUMMARY:Charla-coloquio | 25N Mulleres maiores vítimas da violencia de xénero
DESCRIPTION:Case 1 de cada 3 mulleres sufriu abusos ao longo da súa vida. Durante o confinamento\, os casos de violencia de xénero aumentaron. Por feitos como estes\, é necesario concienciarnos e coidarnos a diario. \nNo noso traballo diario tamén debemos contar con esta perspectiva\, por iso\, con motivo deste 25 de novembro poñemos o foco nas mulleres maiores vítimas da violencia de xénero. Convidámosvos o vindeiro luns 22 de novembro ás 18 h a un webinar impartido pola divulgadora xerontolóxica e criminológica Iratxe Herrero Zarate. \nUnha charla organizada en colaboración con CEATE e Y-Logika Senior Consulting. \nACCEDE A TRAVÉS DESTA LIGAZÓN (pulsa aquí)
URL:https://www.ategal.com/evento-ategal/charla-coloquio-25n-mulleres-maiores-vitimas-da-violencia-de-xenero/
LOCATION:On line
ATTACH;FMTTYPE=image/png:https://www.ategal.com/wp-content/uploads/2021/11/Mujeres-mayores-victimas-de-violencia-de-genero.png
END:VEVENT
END:VCALENDAR